BEGIN:VCALENDAR
VERSION:2.0
PRODID:-//Hawaii LGBT Legacy Foundation - ECPv6.13.2.1//NONSGML v1.0//EN
CALSCALE:GREGORIAN
METHOD:PUBLISH
X-ORIGINAL-URL:https://hawaiilgbtlegacyfoundation.com
X-WR-CALDESC:Events for Hawaii LGBT Legacy Foundation
REFRESH-INTERVAL;VALUE=DURATION:PT1H
X-Robots-Tag:noindex
X-PUBLISHED-TTL:PT1H
BEGIN:VTIMEZONE
TZID:Pacific/Honolulu
BEGIN:STANDARD
TZOFFSETFROM:-1000
TZOFFSETTO:-1000
TZNAME:HST
DTSTART:20240101T000000
END:STANDARD
END:VTIMEZONE
BEGIN:VEVENT
DTSTART;TZID=Pacific/Honolulu:20240420T190000
DTEND;TZID=Pacific/Honolulu:20240420T200000
DTSTAMP:20260421T025449
CREATED:20240407T033426Z
LAST-MODIFIED:20240407T033531Z
UID:43391-1713639600-1713643200@hawaiilgbtlegacyfoundation.com
SUMMARY:Bodies. Physique. Mind. Soul. Flesh. Love.
DESCRIPTION:Jhalak Dance Company presents their latest dance performance at Studio 909 on April 20\, 2024 at 7pm. “Bodies. Physique. Mind. Soul. Flesh. Love.” explores temporality\, embodied perception\, and the physical form of presence in the natural and modern world. During the performance engagement the dancers will shine as they explore questions about what it means to be human today and how we see\, feel\, and think about the body. \nHighlighted within the production are several new and powerful dances. “The Past and the Future are in the Present” explores connection\, a sense of place\, and collective experiences through athletic contemporary dance in motion. “Spiral: Journey of the Soul” is a deeply investigative movement play about love\, the energy of flow\, and the language of bodies that touch. The performance embraces the body as a source of wisdom past and present and explores how dance shapes our view of the human form. \nFeatured performers include company members and local artists Sami L.A. Akuna\, Tina Chan\, Cy Higashi\, Lance Sabado\, and Katelyn Wyatt\, as well as the rising stars of the second company JDC 2.0 including Hannah Archer\, Krystian Leialoha Fernandez\, Nani Marcos\, Julian Myrland\, and Ariana Smith. \nLearn more and purchase tickets here.
URL:https://hawaiilgbtlegacyfoundation.com/events/bodies-physique-mind-soul-flesh-love/
LOCATION:Studio 909\, 949 Kapiolani Boulevard\, Honolulu\, HI\, 96814\, United States
ATTACH;FMTTYPE=image/jpeg:https://hawaiilgbtlegacyfoundation.com/wp-content/uploads/2024/04/Jhalak-Dance.jpg
END:VEVENT
END:VCALENDAR