BEGIN:VCALENDAR
VERSION:2.0
PRODID:-//Hawaii LGBT Legacy Foundation - ECPv6.13.2.1//NONSGML v1.0//EN
CALSCALE:GREGORIAN
METHOD:PUBLISH
X-WR-CALNAME:Hawaii LGBT Legacy Foundation
X-ORIGINAL-URL:https://hawaiilgbtlegacyfoundation.com
X-WR-CALDESC:Events for Hawaii LGBT Legacy Foundation
REFRESH-INTERVAL;VALUE=DURATION:PT1H
X-Robots-Tag:noindex
X-PUBLISHED-TTL:PT1H
BEGIN:VTIMEZONE
TZID:Pacific/Honolulu
BEGIN:STANDARD
TZOFFSETFROM:-1000
TZOFFSETTO:-1000
TZNAME:HST
DTSTART:20210101T000000
END:STANDARD
END:VTIMEZONE
BEGIN:VTIMEZONE
TZID:America/Los_Angeles
BEGIN:DAYLIGHT
TZOFFSETFROM:-0800
TZOFFSETTO:-0700
TZNAME:PDT
DTSTART:20210314T100000
END:DAYLIGHT
BEGIN:STANDARD
TZOFFSETFROM:-0700
TZOFFSETTO:-0800
TZNAME:PST
DTSTART:20211107T090000
END:STANDARD
BEGIN:DAYLIGHT
TZOFFSETFROM:-0800
TZOFFSETTO:-0700
TZNAME:PDT
DTSTART:20220313T100000
END:DAYLIGHT
BEGIN:STANDARD
TZOFFSETFROM:-0700
TZOFFSETTO:-0800
TZNAME:PST
DTSTART:20221106T090000
END:STANDARD
END:VTIMEZONE
BEGIN:VEVENT
DTSTART;VALUE=DATE:20220301
DTEND;VALUE=DATE:20220302
DTSTAMP:20260419T172014
CREATED:20210813T212522Z
LAST-MODIFIED:20220226T204705Z
UID:32048-1646092800-1646179199@hawaiilgbtlegacyfoundation.com
SUMMARY:Hawaiʻi State Bar Association’s Pandemic Education Program
DESCRIPTION:This series of webinars provides valuable training to help nonprofit organizations interpret grant\, safety and compliance responsibilities around federal pandemic relief. It also provides guidance around general operations during the pandemic. This unique program is free for Hawaiʻi nonprofits. \n\nWhich laws apply to nonprofits\nManagement by Board vs. management by Executive Director\nStaffing using volunteers\, employees\, contractors\nCompensation and benefits for employees\nUsing independent contractors\nWorking with volunteers and children\nInsurance and risk management\n\nClick here to see the webinar options and to sign up to view them.
URL:https://hawaiilgbtlegacyfoundation.com/events/hawai%ca%bbi-state-bar-associations-pandemic-education-program/
LOCATION:Online
ATTACH;FMTTYPE=image/png:https://hawaiilgbtlegacyfoundation.com/wp-content/uploads/2021/08/Hawaii-State-Bar-Pandemic.png
END:VEVENT
BEGIN:VEVENT
DTSTART;VALUE=DATE:20220115
DTEND;VALUE=DATE:20220116
DTSTAMP:20260419T172014
CREATED:20211220T234317Z
LAST-MODIFIED:20220108T020116Z
UID:33592-1642204800-1642291199@hawaiilgbtlegacyfoundation.com
SUMMARY:Nominations open: 2022 Hawaii's Best Workplaces
DESCRIPTION:Nominate your company for the Pacific Business News 2022 Hawaii’s Best Workplaces. PBN wants to see which companies have the best culture\, leadership\, and\, most importantly\, engaged employees. Hawaii’s Best Workplaces is designed to honor the islands’ leading employers\, going beyond the norm to foster an enjoyable and meaningful work environment for their employees \nFor more information\, click here.
URL:https://hawaiilgbtlegacyfoundation.com/events/nominations-open-2022-hawaiis-best-workplaces/
LOCATION:Online
ATTACH;FMTTYPE=image/png:https://hawaiilgbtlegacyfoundation.com/wp-content/uploads/2021/12/PBN-Best-Workplaces-2022.png
END:VEVENT
BEGIN:VEVENT
DTSTART;TZID=Pacific/Honolulu:20211210T090000
DTEND;TZID=Pacific/Honolulu:20211210T120000
DTSTAMP:20260419T172014
CREATED:20210401T210249Z
LAST-MODIFIED:20211025T010234Z
UID:29753-1639126800-1639137600@hawaiilgbtlegacyfoundation.com
SUMMARY:NGLCC Live: Sip & Pitch Fridays
DESCRIPTION:Pour a drink; pitch a business; make an invaluable connection. The National LGBT Chamber of Commerce (NGLCC) invites you to take advantage of what they do best: bring business leaders together and create new relationships. Even in this time of social distancing\, virtual meetings allow us to be closer than ever. \nTHIS EVENT IS OPEN TO ALL\, AND YOU DO NOT HAVE TO PITCH TO PARTICIPATE! Each Sip & Pitch Friday requires a new registration TO ATTEND. To RSVP\, click here. \nAt Sip & Pitch Fridays you have the chance to informally present your business to a panel of experts and your fellow business owners for positive\, constructive feedback and new ideas.  If you have a 5 minute (or less) presentation with all the bells and whistles: great! If not: that’s great\, too! Simply bring your “elevator pitch” and any messaging you’d like to work on with our experts. This is an open forum! Although these are mock pitches\, these programs are a tremendous opportunity for NGLCC community businesses to enjoy: \n\nNo-cost constructive feedback to help you improve your pitch\, whether a casual elevator pitch\, coordinated matchmaking opportunity\, or formal pitch for upcoming RFPs\nJudgment-free\, safe-space for you to practice your pitch. Everyone in the room wants to help you succeed and share best practices\nSee and be seen by representatives from NGLCC Corporate Partners and fellow Certified LGBTBE® companies seeking your goods & services. Participation is a great way to build relationships with key buyers and strategic partners while presenting to a national audience eager to see your innovations\nLearn what other NGLCC Certified LGBTBE® suppliers do. You will likely be amazed to hear what some of your fellow NGLCC members are up to which could lead to ways for you to work together
URL:https://hawaiilgbtlegacyfoundation.com/events/nglcc-live-sip-pitch-fridays/
LOCATION:Online
ATTACH;FMTTYPE=image/jpeg:https://hawaiilgbtlegacyfoundation.com/wp-content/uploads/2021/04/Sip-Pitch-Ad_NGLCC20_v1b57cfcacafccf139757bd7f21b485dd1c511b8c1541a514f1003d3a7aa142eb8-1536x864-1.jpg
END:VEVENT
BEGIN:VEVENT
DTSTART;TZID=Pacific/Honolulu:20211017T140000
DTEND;TZID=Pacific/Honolulu:20211017T153000
DTSTAMP:20260419T172014
CREATED:20210922T204734Z
LAST-MODIFIED:20210922T220642Z
UID:32554-1634479200-1634484600@hawaiilgbtlegacyfoundation.com
SUMMARY:Affirming LGBTQ+ Workshop with Rev. Denyse Barnes
DESCRIPTION:Sometimes we want to be supportive of a family member or friend\, but we don’t have the right words or understanding. Wahiawa United Methodist Church is an LGBTQ+ affirming congregation\, and they are hosting an online workshop for the loved ones of LGBTQ+ people who want to learn practical ways that they can be affirming. \nRev. Denyse Barnes\, an ordained United Methodist pastor\, will offer advice and provide a basic overview of LGBTQ+ language. Recognizing the real harm and trauma caused by Christians\, Wahiawa UMC hopes to offer a space where those who seek to be loving can learn how to affirm our LGBTQ+ family and friends. \nFor more information\, please contact office@wahiawaumc.org. \nThe training will be on Zoom on Sunday\, October 17 from 2-3:30 p.m. To attend\, click here.
URL:https://hawaiilgbtlegacyfoundation.com/events/32554/
LOCATION:Online
ATTACH;FMTTYPE=image/png:https://hawaiilgbtlegacyfoundation.com/wp-content/uploads/2021/09/Wahiawa-UMC-Pride-Training.png
END:VEVENT
BEGIN:VEVENT
DTSTART;VALUE=DATE:20211006
DTEND;VALUE=DATE:20211007
DTSTAMP:20260419T172014
CREATED:20210901T223317Z
LAST-MODIFIED:20211007T205623Z
UID:32277-1633478400-1633564799@hawaiilgbtlegacyfoundation.com
SUMMARY:Virtual HANOCON 2021: Shifting Paradigms
DESCRIPTION:HANOCON is Hawaii’s largest annual gathering of nonprofit professionals–as well as sector allies\, supporters\, and advocates–to network\, learn\, share ideas\, collaborate\, and partner. This year’s HANOCON conference theme is Shifting Paradigms\, inspired by the Native Hawaiian concept of makawalu\, a way of seeing and understanding more than just what is before us. It is the vision and contemplation that allows us to see beyond now and prepare us for what is to come\, to see the change that must take place before movement happens. Join the Hawaii Alliance of Nonprofit Organizations to embrace makawalu as we begin to shift paradigms in the nonprofit sector to honor\, uplift and restore indigenous ways of thinking\, knowing and being in Hawaiʻi. \nLearn more and register here.
URL:https://hawaiilgbtlegacyfoundation.com/events/virtual-hanocon-2021-shifting-paradigms/
LOCATION:Online
ATTACH;FMTTYPE=image/jpeg:https://hawaiilgbtlegacyfoundation.com/wp-content/uploads/2021/09/HANOcon.jpg
END:VEVENT
BEGIN:VEVENT
DTSTART;TZID=Pacific/Honolulu:20211005T110000
DTEND;TZID=Pacific/Honolulu:20211005T123000
DTSTAMP:20260419T172014
CREATED:20210422T020029Z
LAST-MODIFIED:20210909T212407Z
UID:30146-1633431600-1633437000@hawaiilgbtlegacyfoundation.com
SUMMARY:Through October 5: Working with LGBTQ+ Youth and their Families
DESCRIPTION:The Child and Adolescent Mental Health Division and the Safe Spaces Committee invite you to a very special free clinical training series\, led by Dr. Laura Anderson: \nWORKING WITH LGBTQ+ YOUTH AND THEIR FAMILIES \nEVERY FIRST TUESDAY (MAY TO OCTOBER)\,11:00 AM-12:30 PM VIA ZOOM \n(PLEASE REGISTER IN ADVANCE FOR EACH SESSION BY CLICKING ON THE RESPECTIVE HYPERLINKED DATES BELOW) \nMAY 4TH: THE WATER WE SWIM IN: GENDER STEREOTYPES AND THE HARM THEY DO TO US \nJUNE 1ST: CHARTING THE COURSE: WHAT WE KNOW ABOUT HOW SEXUAL ORIENTATION & GENDER IDENTITY DEVELOP AND HOW TO SPEAK WITH YOUNG PEOPLE ABOUT THEM \nJULY 6TH: THE FAMILY JOURNEY: INTERVENTIONS THAT SUPPORT PARENTS TO HELP THEM SHOW UP FULLY FOR THEIR KIDS \nAUGUST 3RD: MEDICAL INTERVENTIONS- WHAT ARE THEY AND WHAT DO KIDS AND FAMILIES NEED TO UNDERSTAND \nSEPTEMBER 7TH: SUPPORTING LGBTQ+ YOUTH IN THE FOSTER CARE SYSTEM \nOCTOBER 5TH: WORKING AT THE INTERSECTION OF MENTAL HEALTH AND LGBTQ+ IDENTITIES \nFor more information: Kimberly.Allen@doh.hawaii.gov \nFollow @camhdhawaii \nDr. Laura Anderson has been a licensed child and family psychologist for more than twenty years\, and has spent countless hours in offices\, homes\, facilities and school settings. In the past decade\, Dr. Anderson has done a deep dive into specializing in the provision of services to gender expansive and LGBTQ+ kids\, teens and their families. She is a member of the UCSF Mind-the-Gap Mental Health Consortium for mental health providers who are gender specialists. Dr. Anderson also spent time as the co-founder of Parenting-in-the-Gap\, a group under the umbrella of Mind-the-Gap that focuses on training therapists to work effectively with family members of gender expansive youth. For many years she supervised a family engagement program designed to help LGBTQ+ youth and their families thrive. For both personal and professional reasons\, Dr. Anderson is passionate about supporting gender expansive\, non-binary\, and transgender youth and their families and is excited to be partnering with the CAMHD. \nThis training is sponsored by the Substance Abuse and Mental Health Services Administration\, Block Grant.
URL:https://hawaiilgbtlegacyfoundation.com/events/30146/
LOCATION:Online
ATTACH;FMTTYPE=image/png:https://hawaiilgbtlegacyfoundation.com/wp-content/uploads/2021/04/LGBTQ-Youth-SAMHSA-CAMHD.png
END:VEVENT
BEGIN:VEVENT
DTSTART;VALUE=DATE:20210927
DTEND;VALUE=DATE:20210928
DTSTAMP:20260419T172014
CREATED:20210916T211532Z
LAST-MODIFIED:20210923T232626Z
UID:32505-1632700800-1632787199@hawaiilgbtlegacyfoundation.com
SUMMARY:Hunger Action Month
DESCRIPTION:September is Hunger Action Month\, and for hundreds of thousands of people in Hawaii\, a daily meal isn’t a choice between different dishes. It’s a choice between food and other crucial needs — like medicine\, electricity or childcare. \nFood shouldn’t be an impossible choice. After a tumultuous year\, Hawai‘i’s hunger crisis is far from over. COVID-19 has made the need for food assistance even greater\, and 1 in 6 Hawaii residents are paying to live life by sacrificing their meals.  \nHawaii Foodbank will continue to take action to help people achieve long-term food security\, so they no longer have to make such tough decisions. This September\, join them for Hunger Action Month. \nFor more information\, click here.
URL:https://hawaiilgbtlegacyfoundation.com/events/hunger-action-month/
LOCATION:Online
ATTACH;FMTTYPE=image/png:https://hawaiilgbtlegacyfoundation.com/wp-content/uploads/2021/09/Hawaii-Food-Bank-Hunger-Action-Month.png
END:VEVENT
BEGIN:VEVENT
DTSTART;VALUE=DATE:20210917
DTEND;VALUE=DATE:20210918
DTSTAMP:20260419T172014
CREATED:20210903T021820Z
LAST-MODIFIED:20210917T215751Z
UID:32311-1631836800-1631923199@hawaiilgbtlegacyfoundation.com
SUMMARY:Through September 19: #haoleboyfriend
DESCRIPTION:In this play by Stephanie Keiko Kong & Tony Pisculli\, five former math geeks and high school besties reunite ten years after they’ve graduated from Pearl City to wrestle with secrets\, major life changes and guacamole at their favorite karaoke room. If you requested Lady Marmalade from the DJ at your prom\, this play is dedicated to you. \nThere will be a talk-back with the cast and crew after the performance on Friday\, September 10 .
URL:https://hawaiilgbtlegacyfoundation.com/events/through-september-19-haoleboyfriend/
LOCATION:Online
ATTACH;FMTTYPE=image/png:https://hawaiilgbtlegacyfoundation.com/wp-content/uploads/2021/09/KumuKahua-haoleboyfriend.png
END:VEVENT
BEGIN:VEVENT
DTSTART;TZID=America/Los_Angeles:20210916T120000
DTEND;TZID=America/Los_Angeles:20210916T130000
DTSTAMP:20260419T172014
CREATED:20210910T214246Z
LAST-MODIFIED:20210910T215041Z
UID:32383-1631793600-1631797200@hawaiilgbtlegacyfoundation.com
SUMMARY:Lunch and Learn - COVID and the Delta Variant
DESCRIPTION:Tyler Dos Santos-Tam and Representative Adrian Tam welcome Dr. Leo Nissola\, a nationally-recognized medical doctor and scientist trained in oncology\, and immunology\, as he joins us to answer all of your questions about COVID and the Delta Variant. Dr. Nissola’s work focuses on clinical science\, drug development\, immunotherapy\, and cancer research. Since the early days of the coronavirus pandemic\, Dr. Nissola has advised elected officials\, health organizations\, businesses\, and the general public. He also helped design and evaluate epidemiological models\, including Covid Act Now\, used by the White House on press briefings. \nTo register\, click here.
URL:https://hawaiilgbtlegacyfoundation.com/events/lunch-and-learn-covid-and-the-delta-variant/
LOCATION:Online
ATTACH;FMTTYPE=image/png:https://hawaiilgbtlegacyfoundation.com/wp-content/uploads/2021/09/DPH-Lunch-and-Learn-COVID-Tam-and-Nissola.png
END:VEVENT
END:VCALENDAR