BEGIN:VCALENDAR
VERSION:2.0
PRODID:-//Hawaii LGBT Legacy Foundation - ECPv6.13.2.1//NONSGML v1.0//EN
CALSCALE:GREGORIAN
METHOD:PUBLISH
X-ORIGINAL-URL:https://hawaiilgbtlegacyfoundation.com
X-WR-CALDESC:Events for Hawaii LGBT Legacy Foundation
REFRESH-INTERVAL;VALUE=DURATION:PT1H
X-Robots-Tag:noindex
X-PUBLISHED-TTL:PT1H
BEGIN:VTIMEZONE
TZID:Pacific/Honolulu
BEGIN:STANDARD
TZOFFSETFROM:-1000
TZOFFSETTO:-1000
TZNAME:HST
DTSTART:20240101T000000
END:STANDARD
END:VTIMEZONE
BEGIN:VEVENT
DTSTART;TZID=Pacific/Honolulu:20240414T183000
DTEND;TZID=Pacific/Honolulu:20240414T200000
DTSTAMP:20260419T221717
CREATED:20240326T224551Z
LAST-MODIFIED:20240326T225138Z
UID:43162-1713119400-1713124800@hawaiilgbtlegacyfoundation.com
SUMMARY:North Shore Gay Sports: Bonfire at the Beach
DESCRIPTION:North Shore Gay Sports is a new pickup sports group for the LGBTQ+ community of O’ahu’s North Shore. Theyʻre having their Kick Off Event\, Bonfire at the Beach\, on Sunday\, April 14 at 6:30pm at Kawela Bay. \nTheyʻll bring the marshmallows\, you bring the good vibes. Allies are welcome. \nLearn more at their IG channel @northshoregaysports
URL:https://hawaiilgbtlegacyfoundation.com/events/43162/
LOCATION:Kawela Bay\, 57-571 Kamehameha Hwy\, Oʻahu\, 96731\, United States
ATTACH;FMTTYPE=image/png:https://hawaiilgbtlegacyfoundation.com/wp-content/uploads/2024/03/North-Shore-Gay-Sports-kick-off-CommCal.png
END:VEVENT
END:VCALENDAR