BEGIN:VCALENDAR
VERSION:2.0
PRODID:-//Hawaii LGBT Legacy Foundation - ECPv6.13.2.1//NONSGML v1.0//EN
CALSCALE:GREGORIAN
METHOD:PUBLISH
X-ORIGINAL-URL:https://hawaiilgbtlegacyfoundation.com
X-WR-CALDESC:Events for Hawaii LGBT Legacy Foundation
REFRESH-INTERVAL;VALUE=DURATION:PT1H
X-Robots-Tag:noindex
X-PUBLISHED-TTL:PT1H
BEGIN:VTIMEZONE
TZID:Pacific/Honolulu
BEGIN:STANDARD
TZOFFSETFROM:-1000
TZOFFSETTO:-1000
TZNAME:HST
DTSTART:20240101T000000
END:STANDARD
END:VTIMEZONE
BEGIN:VEVENT
DTSTART;TZID=Pacific/Honolulu:20240411T080000
DTEND;TZID=Pacific/Honolulu:20240411T170000
DTSTAMP:20260420T014458
CREATED:20240411T235821Z
LAST-MODIFIED:20240411T235821Z
UID:43458-1712822400-1712854800@hawaiilgbtlegacyfoundation.com
SUMMARY:Honolulu AIDS Walk Fundraiser Rave
DESCRIPTION:Come dance the night away at HB Social Club for a fundraiser rave that benefits Hawai’i Health & Harm Reduction Center’s annual Honolulu AIDS Walk. The event is on Friday\, April 12\, 2024\, doors open at 9:00 pm and the party continues until 1:30 am\, featuring local DJs – SVJ\, Hellen Earth\, Jay Gorden\, Kazuo\, and Deuxces! \nLearn more and purchase tickets here.
URL:https://hawaiilgbtlegacyfoundation.com/events/honolulu-aids-walk-fundraiser-rave/
LOCATION:Hawaiian Brian’s HB Social Club\, 1680 Kapiolani Blvd\, Honolulu\, 96814\, United States
ATTACH;FMTTYPE=image/png:https://hawaiilgbtlegacyfoundation.com/wp-content/uploads/2024/04/Dance-for-Life.png
END:VEVENT
END:VCALENDAR