BEGIN:VCALENDAR
VERSION:2.0
PRODID:-//Hawaii LGBT Legacy Foundation - ECPv6.13.2.1//NONSGML v1.0//EN
CALSCALE:GREGORIAN
METHOD:PUBLISH
X-ORIGINAL-URL:https://hawaiilgbtlegacyfoundation.com
X-WR-CALDESC:Events for Hawaii LGBT Legacy Foundation
REFRESH-INTERVAL;VALUE=DURATION:PT1H
X-Robots-Tag:noindex
X-PUBLISHED-TTL:PT1H
BEGIN:VTIMEZONE
TZID:Pacific/Honolulu
BEGIN:STANDARD
TZOFFSETFROM:-1000
TZOFFSETTO:-1000
TZNAME:HST
DTSTART:20240101T000000
END:STANDARD
END:VTIMEZONE
BEGIN:VEVENT
DTSTART;TZID=Pacific/Honolulu:20240528T170000
DTEND;TZID=Pacific/Honolulu:20240528T193000
DTSTAMP:20260419T205406
CREATED:20240517T185656Z
LAST-MODIFIED:20240517T185918Z
UID:43804-1716915600-1716924600@hawaiilgbtlegacyfoundation.com
SUMMARY:Soaring to New Heights: Young Professional Development
DESCRIPTION:The Hawaiʻi LGBT Legacy Foundation extends a warm invitation to their third Rainbow Town Hall of the year presented by Hawaiian Airlines. This event will shine a spotlight on elevating the next generation of LGBTQIA+/MVPFAFF business leaders in Hawaiʻi. The panel will bring together some of the brightest young professionals to share their lived experiences and insight on how to navigate a career on the rise. Stay after to enjoy a hosted pau hana and network with your peers and mentors. \nComplimentary parking on-site\nHosted Drinks and Pupu provided by Po’ai by Pono Potions\nRainbow Town Hall is presented by Hawaiian Airlines \nLearn more and register here. \nAs part of the Hawai’i LGBT Legacy Foundation’s commitment to year-round programs\, Rainbow Town Halls serves as a unique opportunity for our community to come together and form meaningful connections. We are excited to collaborate with our sponsors and community for an enriching evening of learning from one another\, celebrating diversity\, and fostering collaboration within our vibrant community.
URL:https://hawaiilgbtlegacyfoundation.com/events/soaring-to-new-heights-young-professional-development/
LOCATION:Hawaiian Airlines-Koapaka\, 3375 Koapaka Street #G-350\, Honolulu\, 96819\, United States
ATTACH;FMTTYPE=image/jpeg:https://hawaiilgbtlegacyfoundation.com/wp-content/uploads/2024/05/Rainbow-Town-Hall-Young-Professionals-May-28-2024.jpg
END:VEVENT
END:VCALENDAR