BEGIN:VCALENDAR
VERSION:2.0
PRODID:-//Hawaii LGBT Legacy Foundation - ECPv6.13.2.1//NONSGML v1.0//EN
CALSCALE:GREGORIAN
METHOD:PUBLISH
X-WR-CALNAME:Hawaii LGBT Legacy Foundation
X-ORIGINAL-URL:https://hawaiilgbtlegacyfoundation.com
X-WR-CALDESC:Events for Hawaii LGBT Legacy Foundation
REFRESH-INTERVAL;VALUE=DURATION:PT1H
X-Robots-Tag:noindex
X-PUBLISHED-TTL:PT1H
BEGIN:VTIMEZONE
TZID:America/Los_Angeles
BEGIN:DAYLIGHT
TZOFFSETFROM:-0800
TZOFFSETTO:-0700
TZNAME:PDT
DTSTART:20220313T100000
END:DAYLIGHT
BEGIN:STANDARD
TZOFFSETFROM:-0700
TZOFFSETTO:-0800
TZNAME:PST
DTSTART:20221106T090000
END:STANDARD
END:VTIMEZONE
BEGIN:VEVENT
DTSTART;VALUE=DATE:20220611
DTEND;VALUE=DATE:20220612
DTSTAMP:20260419T191446
CREATED:20220610T084853Z
LAST-MODIFIED:20220610T085845Z
UID:35452-1654905600-1654991999@hawaiilgbtlegacyfoundation.com
SUMMARY:Registration Open: LGTBQIA+ Justice Reel Camp
DESCRIPTION:The Reel Camp is a one-week long filmmaking program where participants\, working with real equipment\, write\, direct\, edit\, and produce a short film on social justice issues. The Reel Camp for Girls is a brave\, safe and creative space and time where girls (cis/trans)\, femmes\, non-binary\, gender-fluid and gender-queer youth and any other youth outside the gender binary unleash their creativity\, build confidence\, and initiate a long-term individual transformational journey from passive recipients of content that others create\, to active creators and makers of their own stories – stories that need to be heard and seen. \nFor more information\, click here.
URL:https://hawaiilgbtlegacyfoundation.com/events/lgtbqia-justice-reel-camp/
LOCATION:Hawaii Women in Filmmaking
ATTACH;FMTTYPE=image/jpeg:https://hawaiilgbtlegacyfoundation.com/wp-content/uploads/2022/06/LGBTQIA-Justice.jpg
END:VEVENT
END:VCALENDAR