BEGIN:VCALENDAR
VERSION:2.0
PRODID:-//Hawaii LGBT Legacy Foundation - ECPv6.13.2.1//NONSGML v1.0//EN
CALSCALE:GREGORIAN
METHOD:PUBLISH
X-ORIGINAL-URL:https://hawaiilgbtlegacyfoundation.com
X-WR-CALDESC:Events for Hawaii LGBT Legacy Foundation
REFRESH-INTERVAL;VALUE=DURATION:PT1H
X-Robots-Tag:noindex
X-PUBLISHED-TTL:PT1H
BEGIN:VTIMEZONE
TZID:Pacific/Honolulu
BEGIN:STANDARD
TZOFFSETFROM:-1000
TZOFFSETTO:-1000
TZNAME:HST
DTSTART:20220101T000000
END:STANDARD
END:VTIMEZONE
BEGIN:VEVENT
DTSTART;TZID=Pacific/Honolulu:20220113T153000
DTEND;TZID=Pacific/Honolulu:20220113T210000
DTSTAMP:20260420T152043
CREATED:20211217T035727Z
LAST-MODIFIED:20211217T040023Z
UID:33556-1642087800-1642107600@hawaiilgbtlegacyfoundation.com
SUMMARY:Civil Cafe: Legislative Preview + Pau Hana
DESCRIPTION:As we approach the 2022 Hawaii Legislative session\, Civil Beat invites you to join them at the Civil Cafe Legislative Preview + Pau Hana in partnership with the Hawaii State Art Museum. \nAt this in-person and online event\, Civil Beat’s legislative reporting team and invited lawmakers will share their expectations for the 2022 session. Submit your questions for the panel here. \nPanelists: \n\nKevin Dayton\, Civil Beat Reporter\nBlaze Lovell\, Civil Beat Reporter\nRepresentative Della Au Belatti\, House Majority Leader\nRepresentative Sylvia Luke\, Chair of the House Finance Committee\n\nThis discussion will also be available via live-stream or online viewing. \nIn-Person Program: *seating limited to 50 people\n3:30 – 5 p.m. Panel Discussion*\n5:00 – 6 p.m. Pau Hana*\n6:00 – 9 p.m. THE VIBE\, HiSAMs free monthly jazz night. \n\n\nProof of vaccination will be required and masks must be worn inside at all times\, unless eating or drinking. This event is subject to change due to Covid regulations. \nCheck out all the events of the Civil Beat Legislative Series and register for more here.
URL:https://hawaiilgbtlegacyfoundation.com/events/civil-cafe-legislative-preview-pau-hana/
LOCATION:Hawaii State Art Museum Cafe\, 250 South Hotel St.\, Honolulu\, HI\, 96813\, United States
ATTACH;FMTTYPE=image/jpeg:https://hawaiilgbtlegacyfoundation.com/wp-content/uploads/2021/12/Civil-Beat-Civil-Cafe-Jan-13.jpg
END:VEVENT
END:VCALENDAR