BEGIN:VCALENDAR
VERSION:2.0
PRODID:-//Hawaii LGBT Legacy Foundation - ECPv6.13.2.1//NONSGML v1.0//EN
CALSCALE:GREGORIAN
METHOD:PUBLISH
X-WR-CALNAME:Hawaii LGBT Legacy Foundation
X-ORIGINAL-URL:https://hawaiilgbtlegacyfoundation.com
X-WR-CALDESC:Events for Hawaii LGBT Legacy Foundation
REFRESH-INTERVAL;VALUE=DURATION:PT1H
X-Robots-Tag:noindex
X-PUBLISHED-TTL:PT1H
BEGIN:VTIMEZONE
TZID:Pacific/Honolulu
BEGIN:STANDARD
TZOFFSETFROM:-1000
TZOFFSETTO:-1000
TZNAME:HST
DTSTART:20240101T000000
END:STANDARD
END:VTIMEZONE
BEGIN:VEVENT
DTSTART;TZID=Pacific/Honolulu:20240410T120000
DTEND;TZID=Pacific/Honolulu:20240410T123000
DTSTAMP:20260420T014237
CREATED:20240325T215810Z
LAST-MODIFIED:20240325T221002Z
UID:43096-1712750400-1712752200@hawaiilgbtlegacyfoundation.com
SUMMARY:G4G Oahu + The Pantry Volunteer Gathering
DESCRIPTION:Come join Gay For Good ʻOahu (G4G) at The Pantry near the airport and get to interact with some of their weekly clients that come for food items. Wear comfortable clothing\, and closed-toe shoes are required. Sign up ASAP as spots are very limited. \n\nDate: Wednesday\, April 10\nTime: Noon–2:15 pm\nLocation: The Pantry\, 2522 Rose Street\, Honolulu\, HI 96819\nPlease Note: Closed-toe shoes are required. \n\nThe Pantry addresses Oahu’s hunger crisis by providing consistent and reliable access to nutritional food. \nGay For Good mobilizes lesbian\, gay\, bisexual\, transgender\, queer (LGBTQ+) and ally volunteers to promote diversity\, foster inclusion and strengthen ties to the broader community.
URL:https://hawaiilgbtlegacyfoundation.com/events/g4g-oahu-the-pantry-volunteer-gathering/
LOCATION:The Pantry\, 2522 Rose Street\, Honolulu\, HI\, 96819\, United States
ATTACH;FMTTYPE=image/png:https://hawaiilgbtlegacyfoundation.com/wp-content/uploads/2024/03/G4G-Oahu-The-Pantry.png
END:VEVENT
END:VCALENDAR