BEGIN:VCALENDAR
VERSION:2.0
PRODID:-//Hawaii LGBT Legacy Foundation - ECPv6.13.2.1//NONSGML v1.0//EN
CALSCALE:GREGORIAN
METHOD:PUBLISH
X-WR-CALNAME:Hawaii LGBT Legacy Foundation
X-ORIGINAL-URL:https://hawaiilgbtlegacyfoundation.com
X-WR-CALDESC:Events for Hawaii LGBT Legacy Foundation
REFRESH-INTERVAL;VALUE=DURATION:PT1H
X-Robots-Tag:noindex
X-PUBLISHED-TTL:PT1H
BEGIN:VTIMEZONE
TZID:Pacific/Honolulu
BEGIN:STANDARD
TZOFFSETFROM:-1000
TZOFFSETTO:-1000
TZNAME:HST
DTSTART:20220101T000000
END:STANDARD
END:VTIMEZONE
BEGIN:VEVENT
DTSTART;TZID=Pacific/Honolulu:20221203T133000
DTEND;TZID=Pacific/Honolulu:20221203T160000
DTSTAMP:20260419T212936
CREATED:20221129T201443Z
LAST-MODIFIED:20221129T202713Z
UID:37961-1670074200-1670083200@hawaiilgbtlegacyfoundation.com
SUMMARY:Jingle All The Way
DESCRIPTION:Rotary E-Club of Hawaii is a strong supporter of the Hawaiʻi LGBT Legacy Foundation\, the Hawaiʻi Health & Harm Reduction Center\, and many other local\, national and international projects.\n\nTheyʻre hosting a Drag Brunch fundraising event on Saturday\, December 3 at the Kaimana Beach Hotel-Waikiki with drinks\, food and a drag show hosted by Cocoa Chandelier with performances by Shalani Dante\, Maddalynn Ashton\, Jerrica Benton\, & GDolce\n\nFunds raised will support their volunteer and community programs\, with the majority of the proceeds going to their Annual International Service Project of Philippines Care Packages that send much needed non-perishable food and goods to indigenous families (Aetas) who were displaced from their rural homes to make way for developments.\n\nYou can purchase your tickets here.
URL:https://hawaiilgbtlegacyfoundation.com/events/jingle-all-the-way/
LOCATION:Kaimana Beach Hotel\, 2863 Kalakaua Avenue\, Honolulu\, 96815\, United States
ATTACH;FMTTYPE=image/png:https://hawaiilgbtlegacyfoundation.com/wp-content/uploads/2022/11/Rotary-E-Club-Jingle-All-The-Way-calendar.png
END:VEVENT
BEGIN:VEVENT
DTSTART;TZID=Pacific/Honolulu:20220626T110000
DTEND;TZID=Pacific/Honolulu:20220626T130000
DTSTAMP:20260419T212936
CREATED:20220607T205418Z
LAST-MODIFIED:20220607T205856Z
UID:35392-1656241200-1656248400@hawaiilgbtlegacyfoundation.com
SUMMARY:Cheers Queers Pride Drag Brunch
DESCRIPTION:Mimosas\, drag queens\, food\, and music – oh my! Join Roatary E-Club and HHHRC for a fun and fabulous drag brunch to celebrate the kick-off of Pride summer and support the Honolulu AIDS Walk. \nTicket includes admission and one complimentary mimosa. Food and drinks are ala carte and can be ordered off of the menu. Food orders will be taken between 10 am – 11:15 am; last food orders must be given to your server prior to 11:15 am. \nSeats are limited and are available at first-come-first-serve basis\, please arrive early to save your spots.
URL:https://hawaiilgbtlegacyfoundation.com/events/cheers-queers-pride-drag-brunch/
LOCATION:SKY Waikiki Raw & Bar\, 2270 Kalakaua Avenue\, Honolulu\, 96815\, United States
ATTACH;FMTTYPE=image/png:https://hawaiilgbtlegacyfoundation.com/wp-content/uploads/2022/06/Rotary-E-Club-HHHRC-Cheers-Queers.png
END:VEVENT
END:VCALENDAR