BEGIN:VCALENDAR
VERSION:2.0
PRODID:-//Hawaii LGBT Legacy Foundation - ECPv6.13.2.1//NONSGML v1.0//EN
CALSCALE:GREGORIAN
METHOD:PUBLISH
X-ORIGINAL-URL:https://hawaiilgbtlegacyfoundation.com
X-WR-CALDESC:Events for Hawaii LGBT Legacy Foundation
REFRESH-INTERVAL;VALUE=DURATION:PT1H
X-Robots-Tag:noindex
X-PUBLISHED-TTL:PT1H
BEGIN:VTIMEZONE
TZID:Pacific/Honolulu
BEGIN:STANDARD
TZOFFSETFROM:-1000
TZOFFSETTO:-1000
TZNAME:HST
DTSTART:20220101T000000
END:STANDARD
END:VTIMEZONE
BEGIN:VEVENT
DTSTART;TZID=Pacific/Honolulu:20220108T090000
DTEND;TZID=Pacific/Honolulu:20220108T110000
DTSTAMP:20260420T133349
CREATED:20220104T232203Z
LAST-MODIFIED:20220104T232438Z
UID:33676-1641632400-1641639600@hawaiilgbtlegacyfoundation.com
SUMMARY:Policy and Advocacy Training Series
DESCRIPTION:The Policy and Advocacy Training Series is a free series of virtual trainings that feature insights from local policy and advocacy experts. Session 3\, on January 8\, is “Take the next step: Get your message out and learn from public officials” with presenters: Ryan Catalani\, Hawaiʻi Children’s Action Network\, and panel to be announced. \nThe series is organized by Hawaiʻi Children’s Action Network\, Hawaiʻi Public Health Institute\, Blue Zones Project Hawaiʻi\, Hawaiʻi Appleseed Center for Law and Economic Justice\, Common Cause Hawaiʻi\, Hawaiʻi Alliance of Nonprofit Organizations\, and PHOCUSED. \nClick here to register. \nContact info@hawaii-can.org with any questions.
URL:https://hawaiilgbtlegacyfoundation.com/events/policy-and-advocacy-training-series/
LOCATION:Online
ATTACH;FMTTYPE=image/png:https://hawaiilgbtlegacyfoundation.com/wp-content/uploads/2022/01/Policy-and-Advocacy-Training.png
END:VEVENT
END:VCALENDAR