BEGIN:VCALENDAR
VERSION:2.0
PRODID:-//Hawaii LGBT Legacy Foundation - ECPv6.13.2.1//NONSGML v1.0//EN
CALSCALE:GREGORIAN
METHOD:PUBLISH
X-WR-CALNAME:Hawaii LGBT Legacy Foundation
X-ORIGINAL-URL:https://hawaiilgbtlegacyfoundation.com
X-WR-CALDESC:Events for Hawaii LGBT Legacy Foundation
REFRESH-INTERVAL;VALUE=DURATION:PT1H
X-Robots-Tag:noindex
X-PUBLISHED-TTL:PT1H
BEGIN:VTIMEZONE
TZID:Pacific/Honolulu
BEGIN:STANDARD
TZOFFSETFROM:-1000
TZOFFSETTO:-1000
TZNAME:HST
DTSTART:20220101T000000
END:STANDARD
END:VTIMEZONE
BEGIN:VEVENT
DTSTART;TZID=Pacific/Honolulu:20220223T173000
DTEND;TZID=Pacific/Honolulu:20220223T173000
DTSTAMP:20260420T120345
CREATED:20220128T215144Z
LAST-MODIFIED:20220128T221716Z
UID:34034-1645637400-1645637400@hawaiilgbtlegacyfoundation.com
SUMMARY:Virtual Town Hall with Sen. Moriwaki and Reps. Saiki\, Belatti and Nishimoto
DESCRIPTION:Join Rep. Scott K. Saiki\, Sen. Sharon Moriwaki\, Rep. Della Au Belatti and Rep. Scott Nishimoto for their Annual Town Hall event on February 23\, 2022 at 5:30 p.m. This annual legislative town hall ensures that constituents in House Districts 21\, 24 and 26\, and Senate District 12  (these districts include Waikiki\, Ala Moana\, Kakaʻako\, Kapahulu\, McCully\, Moʻiliʻili\, Kaheka\, Downtown\, Makiki\, Tantalus\, Papakolea\, Pawaa and Manoa) can hear about the issues that matter most to them\, including community issues and COVID-19 updates. In consideration of social distancing\, this year’s town hall will occur virtually via Zoom. \nTo register\, click here.
URL:https://hawaiilgbtlegacyfoundation.com/events/34034/
LOCATION:Online
ATTACH;FMTTYPE=image/png:https://hawaiilgbtlegacyfoundation.com/wp-content/uploads/2022/01/Town-Hall-Nishimoto-Au-Belatti-Saiki.png
END:VEVENT
END:VCALENDAR