BEGIN:VCALENDAR
VERSION:2.0
PRODID:-//Hawaii LGBT Legacy Foundation - ECPv6.13.2.1//NONSGML v1.0//EN
CALSCALE:GREGORIAN
METHOD:PUBLISH
X-ORIGINAL-URL:https://hawaiilgbtlegacyfoundation.com
X-WR-CALDESC:Events for Hawaii LGBT Legacy Foundation
REFRESH-INTERVAL;VALUE=DURATION:PT1H
X-Robots-Tag:noindex
X-PUBLISHED-TTL:PT1H
BEGIN:VTIMEZONE
TZID:Pacific/Honolulu
BEGIN:STANDARD
TZOFFSETFROM:-1000
TZOFFSETTO:-1000
TZNAME:HST
DTSTART:20240101T000000
END:STANDARD
END:VTIMEZONE
BEGIN:VEVENT
DTSTART;TZID=Pacific/Honolulu:20240713T140000
DTEND;TZID=Pacific/Honolulu:20240713T153000
DTSTAMP:20260419T202939
CREATED:20240703T171147Z
LAST-MODIFIED:20240703T171255Z
UID:44360-1720879200-1720884600@hawaiilgbtlegacyfoundation.com
SUMMARY:LGBTQIA+ Boxing Workshop with LKE Dojo
DESCRIPTION:LIKE Dojo is dedicated to “Transforming Women and Queers through the Art of Muay Thai” and theyʻre inviting the LGBTQIA+ community to participate in their boxing workshop.  It includes warm-ups\, technique\, footwork\, mitt training\, combinations\, offense\, defense\, and more. Learn some skills\, get a great workout\, and have fun alongside other badass local Queers. \nIf you don’t own boxing gloves\, LIKE Dojo will lend you a pair. TEXT 808-445-1528 to reserve your spot and pay (20 spots available). For more information\, please visit LKE Dojo’s Instagram Page: https://www.instagram.com/lkedojo/
URL:https://hawaiilgbtlegacyfoundation.com/events/lgbtqia-boxing-workshop-with-lke-dojo/
LOCATION:Hawaiʻi Martial Arts Center\, 555 N. King Street\, Honolulu\, 96817\, United States
ATTACH;FMTTYPE=image/png:https://hawaiilgbtlegacyfoundation.com/wp-content/uploads/2024/07/Queer-boxing-flyer.png
END:VEVENT
BEGIN:VEVENT
DTSTART;TZID=Pacific/Honolulu:20240511T100000
DTEND;TZID=Pacific/Honolulu:20240511T113000
DTSTAMP:20260419T202939
CREATED:20240501T193529Z
LAST-MODIFIED:20240501T214516Z
UID:43600-1715421600-1715427000@hawaiilgbtlegacyfoundation.com
SUMMARY:Queers & Allies Muay Thai for Self Defense
DESCRIPTION:Join LKE DOJO for their monthly Queers & Allies Muay Thai for Self Defense Seminar on Saturday\, May 11th at Hawaii Martial Arts Center (HMC). Learn fundamental strikes of Muay Thai\, as well as movements and techniques that can easily be applied to real life outside of a ring. This class requires no gear and will focus on self-defense using elbows\, knees\, defense\, and so on. Complete beginners welcome!\n\nTrain in a safe space with fellow members of our LGBTQIA+ community\, have fun\, and feel empowered as you learn to navigate this world with greater skill\, confidence\, calm\, and security.\nPlease TEXT 206-853-8091 to reserve your spot and pay! (20 spots available) \nFor more information\, please visit LKE Dojo’s Instagram Page: https://www.instagram.com/lkedojo/
URL:https://hawaiilgbtlegacyfoundation.com/events/43600/
LOCATION:Hawaiʻi Martial Arts Center\, 555 N. King Street\, Honolulu\, 96817\, United States
ATTACH;FMTTYPE=image/png:https://hawaiilgbtlegacyfoundation.com/wp-content/uploads/2024/05/LKE-Dojo-May-2024.png
END:VEVENT
BEGIN:VEVENT
DTSTART;TZID=Pacific/Honolulu:20240413T100000
DTEND;TZID=Pacific/Honolulu:20240413T113000
DTSTAMP:20260419T202939
CREATED:20231202T204929Z
LAST-MODIFIED:20240404T214720Z
UID:42118-1713002400-1713007800@hawaiilgbtlegacyfoundation.com
SUMMARY:Muay Thai for Self-Defense
DESCRIPTION:Join LKE DOJO for their 3rd Queers & Allies Muay Thai for Self Defense Seminar on Saturday\, April 13 at Hawaii Martial Arts Center (HMC). \nLearn fundamental strikes of Muay Thai\, as well as movements and techniques that can easily be applied to real life outside of a ring. This class requires no gear and will focus on self-defense using elbows\, knees\, defense\, and so on. Beginners are more than welcome! Train in a safe space with fellow members of our LGBTQIA+ community\, have fun\, and feel empowered as you learn to navigate this world with greater skill\, confidence\, calm\, and security. \nPlease TEXT 206-853-8091 to reserve your spot and pay! (20 spots available) \nFor more information\, please visit LKE Dojo’s Instagram Page: https://www.instagram.com/lkedojo/ \n 
URL:https://hawaiilgbtlegacyfoundation.com/events/lgbtqia-muay-thai-for-self-defense/
LOCATION:Hawaiʻi Martial Arts Center\, 555 N. King Street\, Honolulu\, 96817\, United States
ATTACH;FMTTYPE=image/png:https://hawaiilgbtlegacyfoundation.com/wp-content/uploads/2023/12/LKE-Dojo-Queers-Allies-April-13.png
END:VEVENT
END:VCALENDAR