BEGIN:VCALENDAR
VERSION:2.0
PRODID:-//Hawaii LGBT Legacy Foundation - ECPv6.13.2.1//NONSGML v1.0//EN
CALSCALE:GREGORIAN
METHOD:PUBLISH
X-WR-CALNAME:Hawaii LGBT Legacy Foundation
X-ORIGINAL-URL:https://hawaiilgbtlegacyfoundation.com
X-WR-CALDESC:Events for Hawaii LGBT Legacy Foundation
REFRESH-INTERVAL;VALUE=DURATION:PT1H
X-Robots-Tag:noindex
X-PUBLISHED-TTL:PT1H
BEGIN:VTIMEZONE
TZID:Pacific/Honolulu
BEGIN:STANDARD
TZOFFSETFROM:-1000
TZOFFSETTO:-1000
TZNAME:HST
DTSTART:20230101T000000
END:STANDARD
END:VTIMEZONE
BEGIN:VEVENT
DTSTART;TZID=Pacific/Honolulu:20230729T150000
DTEND;TZID=Pacific/Honolulu:20230729T190000
DTSTAMP:20260420T005413
CREATED:20220421T201257Z
LAST-MODIFIED:20230724T180025Z
UID:34656-1690642800-1690657200@hawaiilgbtlegacyfoundation.com
SUMMARY:Lima Kokua Annual Chili Cook-Off
DESCRIPTION:Join Lima Kokua for their Annual Chili Cook-Off Fundraiser on Saturday July 29th at Church of the Crossroads\, and enjoy an afternoon of fellowship\, door prizes\, raffles\, silent auction items and incredible home-made chili; all for a great cause. \nLima Kokua has lent their helping hands in support of a wide variety of non-political causes for more than 50 years\, without consideration to gender\, race\, ancestry\, national origin\, religion\, disability\, age\, marital status\, or sexual orientation. \nLean more by visiting the Lima Kokua website and purchase your tickets here.
URL:https://hawaiilgbtlegacyfoundation.com/events/lima-kokua-chilli-cook-off/
LOCATION:Church of the Crossroads\, 1212 University Avenue\, Honolulu\, HI\, 96826\, United States
ATTACH;FMTTYPE=image/jpeg:https://hawaiilgbtlegacyfoundation.com/wp-content/uploads/2022/04/Lima-Kokua-2023-Chili-Cook-Off-calendar.jpg
END:VEVENT
END:VCALENDAR