BEGIN:VCALENDAR
VERSION:2.0
PRODID:-//Hawaii LGBT Legacy Foundation - ECPv6.13.2.1//NONSGML v1.0//EN
CALSCALE:GREGORIAN
METHOD:PUBLISH
X-ORIGINAL-URL:https://hawaiilgbtlegacyfoundation.com
X-WR-CALDESC:Events for Hawaii LGBT Legacy Foundation
REFRESH-INTERVAL;VALUE=DURATION:PT1H
X-Robots-Tag:noindex
X-PUBLISHED-TTL:PT1H
BEGIN:VTIMEZONE
TZID:Pacific/Honolulu
BEGIN:STANDARD
TZOFFSETFROM:-1000
TZOFFSETTO:-1000
TZNAME:HST
DTSTART:20220101T000000
END:STANDARD
END:VTIMEZONE
BEGIN:VEVENT
DTSTART;TZID=Pacific/Honolulu:20220618T090000
DTEND;TZID=Pacific/Honolulu:20220618T130000
DTSTAMP:20260419T160317
CREATED:20220506T031237Z
LAST-MODIFIED:20220610T020249Z
UID:34880-1655542800-1655557200@hawaiilgbtlegacyfoundation.com
SUMMARY:Lana'i Pride
DESCRIPTION:Join Lanaʻiʻs LGBTQ+ community to celebrate Lana’i Pride on Saturday\, June 18\, with a Parade around Dole Square beginning at 9am (meetup behind the old Dole Admin. Building) and their Resource Fair running 9am-1pm at Dole Park. With support from the Maui Sex Assault Response Team\, Friends of the Childrenʻs Justice Center of Maui\, the Maui Equality Coalition and Maui County Lanaʻi Police. \nFor more information\, contact info@mauiaids.org
URL:https://hawaiilgbtlegacyfoundation.com/events/lanai-pride/
LOCATION:Dole Park\, Lanai Ave\, Lanai City\, 96763\, United States
ATTACH;FMTTYPE=image/png:https://hawaiilgbtlegacyfoundation.com/wp-content/uploads/2022/05/Lanaʻi-Pride-2022.png
END:VEVENT
END:VCALENDAR