BEGIN:VCALENDAR
VERSION:2.0
PRODID:-//Hawaii LGBT Legacy Foundation - ECPv6.13.2.1//NONSGML v1.0//EN
CALSCALE:GREGORIAN
METHOD:PUBLISH
X-ORIGINAL-URL:https://hawaiilgbtlegacyfoundation.com
X-WR-CALDESC:Events for Hawaii LGBT Legacy Foundation
REFRESH-INTERVAL;VALUE=DURATION:PT1H
X-Robots-Tag:noindex
X-PUBLISHED-TTL:PT1H
BEGIN:VTIMEZONE
TZID:Pacific/Honolulu
BEGIN:STANDARD
TZOFFSETFROM:-1000
TZOFFSETTO:-1000
TZNAME:HST
DTSTART:20240101T000000
END:STANDARD
END:VTIMEZONE
BEGIN:VEVENT
DTSTART;TZID=Pacific/Honolulu:20240628T080000
DTEND;TZID=Pacific/Honolulu:20240628T130000
DTSTAMP:20260419T221443
CREATED:20240621T200825Z
LAST-MODIFIED:20240624T181421Z
UID:44240-1719561600-1719579600@hawaiilgbtlegacyfoundation.com
SUMMARY:JBPHH PRIDE Color Run 5K
DESCRIPTION:The Hawaiʻi LGBT Legacy Foundation and Gay Island Guide are proud to support the first Joint Base Pearl Harbor – Hickam 5K Pride Month Color Run in  celebration of World Pride Month. Open to anyone with valid military / government ID and base access\, the event will include activities for all ages and a marketplace with food and beverages\, informational material\, commemorative memorabilia and community resources. \nLearn more and register here.
URL:https://hawaiilgbtlegacyfoundation.com/events/jbphh-pride-color-run-5k/
LOCATION:Hickam Beach\, 3455 Mamala Bay Drive\, Joint Base Pearl Harbor-Hickam\, 96853\, United States
ATTACH;FMTTYPE=image/png:https://hawaiilgbtlegacyfoundation.com/wp-content/uploads/2024/06/Hickam-Color-Run-Pride.png
END:VEVENT
END:VCALENDAR