BEGIN:VCALENDAR
VERSION:2.0
PRODID:-//Hawaii LGBT Legacy Foundation - ECPv6.13.2.1//NONSGML v1.0//EN
CALSCALE:GREGORIAN
METHOD:PUBLISH
X-ORIGINAL-URL:https://hawaiilgbtlegacyfoundation.com
X-WR-CALDESC:Events for Hawaii LGBT Legacy Foundation
REFRESH-INTERVAL;VALUE=DURATION:PT1H
X-Robots-Tag:noindex
X-PUBLISHED-TTL:PT1H
BEGIN:VTIMEZONE
TZID:Pacific/Honolulu
BEGIN:STANDARD
TZOFFSETFROM:-1000
TZOFFSETTO:-1000
TZNAME:HST
DTSTART:20220101T000000
END:STANDARD
END:VTIMEZONE
BEGIN:VEVENT
DTSTART;TZID=Pacific/Honolulu:20220608T140000
DTEND;TZID=Pacific/Honolulu:20220608T160000
DTSTAMP:20260419T220313
CREATED:20220527T024038Z
LAST-MODIFIED:20220527T024102Z
UID:35218-1654696800-1654704000@hawaiilgbtlegacyfoundation.com
SUMMARY:PACIFIC HEARTBEAT: The Healer Stones of Kapaemahu
DESCRIPTION:Pacific Islanders in Communications in partnership with PBS Hawai’i\, proudly present a special Pride Month event\, highlighting The Healer Stones of Kapaemahu\, from Season 11 of Pacific Heartbeat. \nFeaturing a Live Conversation With: \n\nHINALEIMOANA WONG-KALE – Native Hawaiian teacher\, cultural practitioner and filmmaker who uses digital media to protect and perpetuate indigenous languages and traditions.\nDEAN HAMER – New York Times Book of the Year author\, National Institutes of Health scientist\, and Emmy and GLAAD Media award-winning filmmaker.\nJOE WILSON – Emmy Award-winning filmmaker and engagement strategist dedicated to telling stories that emanate from the voices of those on the outside.\nDESOTO BROWN – Archivist and collections manager for the Bishop Museum.\nMODERATOR: TAYLOUR CHANG – Director of Public Programs at the Bishop Museum.\n\nClick here to register.
URL:https://hawaiilgbtlegacyfoundation.com/events/pacific-heartbeat-the-healer-stones-of-kapaemahu/
LOCATION:Online
ATTACH;FMTTYPE=image/jpeg:https://hawaiilgbtlegacyfoundation.com/wp-content/uploads/2022/05/Pacific-Heartbeat.jpg
END:VEVENT
END:VCALENDAR