BEGIN:VCALENDAR
VERSION:2.0
PRODID:-//Hawaii LGBT Legacy Foundation - ECPv6.13.2.1//NONSGML v1.0//EN
CALSCALE:GREGORIAN
METHOD:PUBLISH
X-ORIGINAL-URL:https://hawaiilgbtlegacyfoundation.com
X-WR-CALDESC:Events for Hawaii LGBT Legacy Foundation
REFRESH-INTERVAL;VALUE=DURATION:PT1H
X-Robots-Tag:noindex
X-PUBLISHED-TTL:PT1H
BEGIN:VTIMEZONE
TZID:Pacific/Honolulu
BEGIN:STANDARD
TZOFFSETFROM:-1000
TZOFFSETTO:-1000
TZNAME:HST
DTSTART:20210101T000000
END:STANDARD
END:VTIMEZONE
BEGIN:VEVENT
DTSTART;VALUE=DATE:20210922
DTEND;VALUE=DATE:20210923
DTSTAMP:20260421T023342
CREATED:20210813T025538Z
LAST-MODIFIED:20210922T205837Z
UID:32041-1632268800-1632355199@hawaiilgbtlegacyfoundation.com
SUMMARY:Tiny Floats for Honolulu Pride 2021
DESCRIPTION:Submission deadline extended to September 23! Share a video of your Tiny Float for the 2nd Annual Honolulu Pride Tiny Float Parade and you’ll be eligible to win up to $500 (winners will be selected by community vote) and have your float featured on the KHON2 program Aloha With Pride! \n• submission deadline is Thursday\, September 23\n• your float must have been created in 2021\n• your video clips need to be 10 seconds long\n• video must be shot horizontally from an iPhone or mobile device in the highest resolution (1080p or 4k)\n• no music please…copyright rules! \nMake a statement. Express your group\, ‘ohana or community Pride. Share your aloha. Make us smile! Click here to submit your Tiny Float video. See you in the Parade! 
URL:https://hawaiilgbtlegacyfoundation.com/events/submissions-open-tiny-floats-for-honolulu-pride-2021/
LOCATION:Online
ATTACH;FMTTYPE=image/jpeg:https://hawaiilgbtlegacyfoundation.com/wp-content/uploads/2021/08/Tiny-Floats-HNL-Pride-2021.jpg
END:VEVENT
END:VCALENDAR