BEGIN:VCALENDAR
VERSION:2.0
PRODID:-//Hawaii LGBT Legacy Foundation - ECPv6.13.2.1//NONSGML v1.0//EN
CALSCALE:GREGORIAN
METHOD:PUBLISH
X-ORIGINAL-URL:https://hawaiilgbtlegacyfoundation.com
X-WR-CALDESC:Events for Hawaii LGBT Legacy Foundation
REFRESH-INTERVAL;VALUE=DURATION:PT1H
X-Robots-Tag:noindex
X-PUBLISHED-TTL:PT1H
BEGIN:VTIMEZONE
TZID:Pacific/Honolulu
BEGIN:STANDARD
TZOFFSETFROM:-1000
TZOFFSETTO:-1000
TZNAME:HST
DTSTART:20240101T000000
END:STANDARD
END:VTIMEZONE
BEGIN:VEVENT
DTSTART;VALUE=DATE:20240628
DTEND;VALUE=DATE:20240629
DTSTAMP:20260420T000533
CREATED:20240606T215849Z
LAST-MODIFIED:20240626T181314Z
UID:44006-1719532800-1719619199@hawaiilgbtlegacyfoundation.com
SUMMARY:Rainbow Booklists / Hawaiʻi State Public Library System
DESCRIPTION:The wonderful folks at the Hawaiʻi State Public Library System have released their Pride Month Rainbow Booklists for teens and children\, and their recommendations have something for everyone. Included in the more than 40 suggested books are: Hawaiʻiʻs own Mark Kanemuraʻs “I Am A Rainbow”; Harry Woodgateʻs “Grandadʻs Pride”; Jonny Villa Garzaʻs “Ander and Santi Were Here”; Ulta Isakiʻs “Is Love the Answer?” and many more. \nYou can download the Rainbow Booklist for teens here\, and for children here. Happy reading\, and happy Pride! \n 
URL:https://hawaiilgbtlegacyfoundation.com/events/pride-booklist-hawai%ca%bbi-state-public-library-system/
LOCATION:Hawaiʻi State Public Library System
ATTACH;FMTTYPE=image/jpeg:https://hawaiilgbtlegacyfoundation.com/wp-content/uploads/2024/06/HSPLS-Ranbow-Booklists.jpg
END:VEVENT
END:VCALENDAR