BEGIN:VCALENDAR
VERSION:2.0
PRODID:-//Hawaii LGBT Legacy Foundation - ECPv6.13.2.1//NONSGML v1.0//EN
CALSCALE:GREGORIAN
METHOD:PUBLISH
X-ORIGINAL-URL:https://hawaiilgbtlegacyfoundation.com
X-WR-CALDESC:Events for Hawaii LGBT Legacy Foundation
REFRESH-INTERVAL;VALUE=DURATION:PT1H
X-Robots-Tag:noindex
X-PUBLISHED-TTL:PT1H
BEGIN:VTIMEZONE
TZID:Pacific/Honolulu
BEGIN:STANDARD
TZOFFSETFROM:-1000
TZOFFSETTO:-1000
TZNAME:HST
DTSTART:20240101T000000
END:STANDARD
END:VTIMEZONE
BEGIN:VEVENT
DTSTART;VALUE=DATE:20240608
DTEND;VALUE=DATE:20240609
DTSTAMP:20260419T224124
CREATED:20240604T192638Z
LAST-MODIFIED:20240604T192850Z
UID:43958-1717804800-1717891199@hawaiilgbtlegacyfoundation.com
SUMMARY:2024 HIV Prevention Needs Assessment Survey
DESCRIPTION:The Harm Reduction Services Branch of the Hawaiʻi State Department of Health is conducting a survey on HIV Prevention in order to strengthen and tailor HIV prevention services in Hawaiʻi.  Because this survey focuses on HIV testing and HIV prevention strategies like PrEP\,  input is needed from people who have NOT been diagnosed with HIV and are living in Hawaiʻi. This survey will ask questions about your background\, risk behaviors\, testing\, prevention\, attitudes and beliefs around HIV and other infections. Some questions may be sensitive in manner. \nResponses will be anonymous\, private\, and secured. The survey will take about 10 minutes to complete\, and closes on July 31\, 2024. \nTo learn more\, and to take the survey\, click here.
URL:https://hawaiilgbtlegacyfoundation.com/events/2024-hiv-prevention-needs-assessment-survey/
LOCATION:Online
ATTACH;FMTTYPE=image/jpeg:https://hawaiilgbtlegacyfoundation.com/wp-content/uploads/2024/06/HIV-Prevention-Survey-Harm-Reduction.jpg
END:VEVENT
END:VCALENDAR