BEGIN:VCALENDAR
VERSION:2.0
PRODID:-//Hawaii LGBT Legacy Foundation - ECPv6.13.2.1//NONSGML v1.0//EN
CALSCALE:GREGORIAN
METHOD:PUBLISH
X-ORIGINAL-URL:https://hawaiilgbtlegacyfoundation.com
X-WR-CALDESC:Events for Hawaii LGBT Legacy Foundation
REFRESH-INTERVAL;VALUE=DURATION:PT1H
X-Robots-Tag:noindex
X-PUBLISHED-TTL:PT1H
BEGIN:VTIMEZONE
TZID:Pacific/Honolulu
BEGIN:STANDARD
TZOFFSETFROM:-1000
TZOFFSETTO:-1000
TZNAME:HST
DTSTART:20220101T000000
END:STANDARD
END:VTIMEZONE
BEGIN:VEVENT
DTSTART;TZID=Pacific/Honolulu:20230218T200000
DTEND;TZID=Pacific/Honolulu:20230218T213000
DTSTAMP:20260419T223514
CREATED:20221223T212245Z
LAST-MODIFIED:20221223T213329Z
UID:38283-1676750400-1676755800@hawaiilgbtlegacyfoundation.com
SUMMARY:An Evening with David Sedaris
DESCRIPTION:Humorist and author of bestsellers including Naked and Me Talk Pretty One Day\, and a regular National Public Radio contributor\, David Sedaris will be live on stage for one night only\, following the release of his newest book Happy Go Lucky. \nPart of his 2023 tour\, including stops on Maui\, Hawaiʻi Island and Kauaʻi\, Sedaris will be offering a selection of all-new readings and recollections\, as well as a Q&A session and book signing. \nFor more information and to purchase tickets\, click here.
URL:https://hawaiilgbtlegacyfoundation.com/events/an-evening-with-david-sedaris/
LOCATION:Neal S Blaisdell Concert Hall\, 777 Ward Avenue\, Honolulu\, 96814\, United States
ATTACH;FMTTYPE=image/jpeg:https://hawaiilgbtlegacyfoundation.com/wp-content/uploads/2022/12/David-Sedaris.jpg
END:VEVENT
BEGIN:VEVENT
DTSTART;VALUE=DATE:20220609
DTEND;VALUE=DATE:20220610
DTSTAMP:20260419T223514
CREATED:20220428T040741Z
LAST-MODIFIED:20220608T235434Z
UID:34766-1654732800-1654819199@hawaiilgbtlegacyfoundation.com
SUMMARY:June 8 - 17: HPR / StoryCorps Military Voices Initiative
DESCRIPTION:Do you know someone you’d like to talk with about their experience in or with the military? Would you like to help preserve their story? This June\, Hawai‘i Public Radio is partnering with StoryCorps to gather two-person conversations as part of StoryCorps’ Military Voices Initiative. \nWhether it’s stories of service… stories of being marginalized… or stories that fall somewhere in between… HPR expects your stories to be as nuanced and diverse as our island communities. All are invited to participate\, from service members and veterans and their families\, to residents who have been impacted by military actions. StoryCorps sessions are intimate conversations between friends or loved ones\, so HPR is looking for pairs. \nWhere are the recordings taking place?\nHPR and StoryCorps will facilitate approximately 50 recording sessions. Each recording session will take about 40 minutes. In-person recordings will take place in Hilo and Honolulu: \n\nHilo\, June 8-10: The Lyman Museum and Mission House\, 276 Haili St.\nHonolulu\, June 13-17: Hawai‘i Public Radio\, 738 Kāheka St.\n\nVirtual recordings will take place June 6-7 for those in Kaua‘i and Maui counties\, with more dates possible based on demand. \nSign up for a recording session here. You’ll be prompted to choose your time slot and fill out your contact information.
URL:https://hawaiilgbtlegacyfoundation.com/events/june-8-17-storycorps%ca%bb-military-voices-initiative/
LOCATION:Online
ATTACH;FMTTYPE=image/png:https://hawaiilgbtlegacyfoundation.com/wp-content/uploads/2022/04/HPR-Story-Corps-Military-Voices.png
END:VEVENT
END:VCALENDAR