BEGIN:VCALENDAR
VERSION:2.0
PRODID:-//Hawaii LGBT Legacy Foundation - ECPv6.13.2.1//NONSGML v1.0//EN
CALSCALE:GREGORIAN
METHOD:PUBLISH
X-ORIGINAL-URL:https://hawaiilgbtlegacyfoundation.com
X-WR-CALDESC:Events for Hawaii LGBT Legacy Foundation
REFRESH-INTERVAL;VALUE=DURATION:PT1H
X-Robots-Tag:noindex
X-PUBLISHED-TTL:PT1H
BEGIN:VTIMEZONE
TZID:Pacific/Honolulu
BEGIN:STANDARD
TZOFFSETFROM:-1000
TZOFFSETTO:-1000
TZNAME:HST
DTSTART:20230101T000000
END:STANDARD
END:VTIMEZONE
BEGIN:VTIMEZONE
TZID:Pacific/Honolulu
BEGIN:STANDARD
TZOFFSETFROM:-1000
TZOFFSETTO:-1000
TZNAME:HST
DTSTART:20210101T000000
END:STANDARD
END:VTIMEZONE
BEGIN:VTIMEZONE
TZID:America/Los_Angeles
BEGIN:DAYLIGHT
TZOFFSETFROM:-0800
TZOFFSETTO:-0700
TZNAME:PDT
DTSTART:20210314T100000
END:DAYLIGHT
BEGIN:STANDARD
TZOFFSETFROM:-0700
TZOFFSETTO:-0800
TZNAME:PST
DTSTART:20211107T090000
END:STANDARD
BEGIN:DAYLIGHT
TZOFFSETFROM:-0800
TZOFFSETTO:-0700
TZNAME:PDT
DTSTART:20220313T100000
END:DAYLIGHT
BEGIN:STANDARD
TZOFFSETFROM:-0700
TZOFFSETTO:-0800
TZNAME:PST
DTSTART:20221106T090000
END:STANDARD
END:VTIMEZONE
BEGIN:VEVENT
DTSTART;TZID=Pacific/Honolulu:20231118T170000
DTEND;TZID=Pacific/Honolulu:20231118T190000
DTSTAMP:20260419T231758
CREATED:20230907T222612Z
LAST-MODIFIED:20230907T222612Z
UID:41288-1700326800-1700334000@hawaiilgbtlegacyfoundation.com
SUMMARY:HHHRC: 40 Years of Life and Service
DESCRIPTION:The Hawaiʻi Health & Harm Reduction Center (formerly Life Foundation) is celebrating 40 years of life and service\, and commemorating the storied history of HIV/AIDS education and advocacy. Join the community at Church of the Crossroads on November 18 and support HHRCʻs work reducing harm\, promoting health\, creating wellness\, and fighting stigma in Hawai’i and the Pacific. \nFor more information\, visit HHHRC.
URL:https://hawaiilgbtlegacyfoundation.com/events/hhhrc-40-years-of-life-and-service/
LOCATION:Church of the Crossroads\, 1212 University Avenue\, Honolulu\, HI\, 96826\, United States
ATTACH;FMTTYPE=image/png:https://hawaiilgbtlegacyfoundation.com/wp-content/uploads/2023/09/HHHRC-40-years.png
END:VEVENT
BEGIN:VEVENT
DTSTART;TZID=Pacific/Honolulu:20231007T170000
DTEND;TZID=Pacific/Honolulu:20231007T210000
DTSTAMP:20260419T231758
CREATED:20230921T225313Z
LAST-MODIFIED:20230921T225313Z
UID:41375-1696698000-1696712400@hawaiilgbtlegacyfoundation.com
SUMMARY:Rainbow Prom Hawaiʻi 2023
DESCRIPTION:Join Hawaiʻi High School Students for a magical evening of music\, dancing\, entertainment\, fun\, food and festivities at the 2023 Rainbow Prom Hawaiʻi. Part of HHHRCʻs (Hawaiʻi Health & Harm Reduction Center) efforts to provide safe spaces for queer youth to flourish and enjoy living their authentic selves. Rainbow Prom is free open exclusively to Hawai’i High School Students. \nFor more information\, click here.
URL:https://hawaiilgbtlegacyfoundation.com/events/rainbow-prom-hawai%ca%bbi-2023/
LOCATION:Hawaii State Art Museum\, 250 South Hotel St\, Honolulu\, HI\, 96813\, United States
ATTACH;FMTTYPE=image/jpeg:https://hawaiilgbtlegacyfoundation.com/wp-content/uploads/2023/09/2023-Rainbow-Prom-Hawaii.jpg
GEO:21.311045;-157.862038
X-APPLE-STRUCTURED-LOCATION;VALUE=URI;X-ADDRESS=Hawaii State Art Museum 250 South Hotel St Honolulu HI 96813 United States;X-APPLE-RADIUS=500;X-TITLE=250 South Hotel St:geo:-157.862038,21.311045
END:VEVENT
BEGIN:VEVENT
DTSTART;TZID=Pacific/Honolulu:20230617T080000
DTEND;TZID=Pacific/Honolulu:20230617T120000
DTSTAMP:20260419T231758
CREATED:20230306T031146Z
LAST-MODIFIED:20230306T032416Z
UID:38849-1686988800-1687003200@hawaiilgbtlegacyfoundation.com
SUMMARY:2023 Honolulu AIDS Walk
DESCRIPTION:The Walk for Life is back! On Saturday\, June 17\, join the Hawaiʻi Health & Harm Reduction Center for the 32nd Annual Honolulu AIDS Walk and support their mission of reducing harm\, promoting health\, creating wellness\, and fighting stigma in Hawaiʻi and the Pacific. \nFor more information\, click here.
URL:https://hawaiilgbtlegacyfoundation.com/events/2023-honolulu-aids-walk/
LOCATION:Kapiolani Regional Park\, 3840 Paki Avenue\, Honolulu\, HI\, 96815\, United States
ATTACH;FMTTYPE=image/png:https://hawaiilgbtlegacyfoundation.com/wp-content/uploads/2023/03/2023-Honolulu-AIDS-Walk-1.png
END:VEVENT
BEGIN:VEVENT
DTSTART;TZID=Pacific/Honolulu:20230609T153000
DTEND;TZID=Pacific/Honolulu:20230609T170000
DTSTAMP:20260419T231758
CREATED:20230608T032221Z
LAST-MODIFIED:20230608T032554Z
UID:40200-1686324600-1686330000@hawaiilgbtlegacyfoundation.com
SUMMARY:Wave for Life
DESCRIPTION:Join HHHRC and Wave for Life at the Hawaiʻi State Capitol to kick off Honolulu AIDS Walk month. Wear red\, make a sign\, bring a friend\, and a smile as we celebrate the Honolulu AIDS Walk.  Meet outside the State Capitol at 3 pm\, with waving commencing at 3:30 pm and concluding around 5 pm. Don’t have a sign?  No worries\, HHHRC will have extra signs available for the community. Hope to see you there!
URL:https://hawaiilgbtlegacyfoundation.com/events/wave-for-life/
LOCATION:Hawaii State Capitol\, 415 South Beretania Street\, Honolulu\, HI\, 96813\, United States
ATTACH;FMTTYPE=image/png:https://hawaiilgbtlegacyfoundation.com/wp-content/uploads/2023/06/2023-Walk-For-Life-Hawaii-Capitol.png
END:VEVENT
BEGIN:VEVENT
DTSTART;TZID=Pacific/Honolulu:20230213T100000
DTEND;TZID=Pacific/Honolulu:20230213T110000
DTSTAMP:20260419T231758
CREATED:20230209T010442Z
LAST-MODIFIED:20230210T202445Z
UID:38597-1676282400-1676286000@hawaiilgbtlegacyfoundation.com
SUMMARY:Celebrating Marriage Equality
DESCRIPTION:The ACLU of Hawaii and Hawaii Health & Harm Reduction Center warmly invite you to a public gathering to honor the important role our state played in the pursuit of marriage equality for members of our LGBTQ+ community. \nThe event will take on Monday\, February 13\, at 10 AM in the auditorium. \n2023 marks the 30th anniversary of Baehr v. Lewin\, where the Hawaii State Supreme Court determined that denying a marriage license to a same-sex couple violated the equal protection guaranteed by our state constitution. Our guests will include Judge Daniel Foley (ret.)\, who litigated the Baehr v. Lewin case as an advocate for the ACLU of Hawaii\, Genora Dancel\, one of the plaintiffs in that case\, and Justice Steven Levinson (ret.)\, who authored the Baehr v. Lewin decision. \nSpeaker Saiki will present Judge Foley and Justice Levinson with a legislative certificates in appreciation for their role in marriage equality and for their commitments to public service. Other guests include Tom Ramsey\, who will provide brief remarks about the road leading to Hawaii’s legalization of same-sex marriage in a special session of the Legislature in 2013. \nLess than two months ago President Biden signed the Respect for Marriage Act into law\, requiring the federal government and all states to recognize the validity of same-sex marriages. Judge Foley’s authored a recent column in Honolulu Civil Beat\, “Reflections on the Respect for Marriage Act.” \nPlease join us to hear from our distinguished guests and celebrate Hawaii’s historic role in the pursuit of marriage equality. There will also be an opportunity to meet them and members of the capitol community in attendance. \nFor more information\, contact Nikos Leverenz nleverenz@hhhrc.org
URL:https://hawaiilgbtlegacyfoundation.com/events/celebrating-marriage-equality/
LOCATION:Hawaii State Capitol\, 415 South Beretania Street\, Honolulu\, HI\, 96813\, United States
ATTACH;FMTTYPE=image/jpeg:https://hawaiilgbtlegacyfoundation.com/wp-content/uploads/2023/02/Marriage-Equality-Celebration.jpg
END:VEVENT
BEGIN:VEVENT
DTSTART;TZID=Pacific/Honolulu:20221223T190000
DTEND;TZID=Pacific/Honolulu:20221223T210000
DTSTAMP:20260419T231758
CREATED:20221219T223301Z
LAST-MODIFIED:20221219T230101Z
UID:38225-1671822000-1671829200@hawaiilgbtlegacyfoundation.com
SUMMARY:Hunky Santa HHHRC Fundraiser at Hulaʻs
DESCRIPTION:Take a picture with Hunky Santa for a great cause! Join the fun at Hulaʻs Bar & Lei Stand on Friday\, December 23\, grab a photo with a Hunky Santa\, and help support the Hawaiʻi Health & Harm Reduction Centerʻs life-saving work. \nFor more information\, click here.
URL:https://hawaiilgbtlegacyfoundation.com/events/hunky-santa-hhhrc-fundraiser-at-hula%ca%bbs/
LOCATION:Hula’s Bar & Lei Stand\, 134 Kapahulu Ave\, Honolulu\, HI\, 96815\, United States
ATTACH;FMTTYPE=image/jpeg:https://hawaiilgbtlegacyfoundation.com/wp-content/uploads/2022/12/Hunky-Santa-2022-calendar.jpg
END:VEVENT
BEGIN:VEVENT
DTSTART;TZID=Pacific/Honolulu:20220811T173000
DTEND;TZID=Pacific/Honolulu:20220811T183000
DTSTAMP:20260419T231758
CREATED:20220809T000942Z
LAST-MODIFIED:20220809T001151Z
UID:36586-1660239000-1660242600@hawaiilgbtlegacyfoundation.com
SUMMARY:Community Matters: MonkeyPox and Our Community
DESCRIPTION:Safety over stigma! Be a part of the conversation on Thursday\, August 11 at 5:30pm for HHHRCʻs Community Matters discussion about monkeypox and the impact on our community. \nTo register\, click here.
URL:https://hawaiilgbtlegacyfoundation.com/events/community-matters-monkeypox-and-our-community/
LOCATION:Online
ATTACH;FMTTYPE=image/jpeg:https://hawaiilgbtlegacyfoundation.com/wp-content/uploads/2022/08/HHHRC-Monkey-Pox-webinar-calendar.jpg
END:VEVENT
BEGIN:VEVENT
DTSTART;TZID=Pacific/Honolulu:20220626T110000
DTEND;TZID=Pacific/Honolulu:20220626T130000
DTSTAMP:20260419T231758
CREATED:20220607T205418Z
LAST-MODIFIED:20220607T205856Z
UID:35392-1656241200-1656248400@hawaiilgbtlegacyfoundation.com
SUMMARY:Cheers Queers Pride Drag Brunch
DESCRIPTION:Mimosas\, drag queens\, food\, and music – oh my! Join Roatary E-Club and HHHRC for a fun and fabulous drag brunch to celebrate the kick-off of Pride summer and support the Honolulu AIDS Walk. \nTicket includes admission and one complimentary mimosa. Food and drinks are ala carte and can be ordered off of the menu. Food orders will be taken between 10 am – 11:15 am; last food orders must be given to your server prior to 11:15 am. \nSeats are limited and are available at first-come-first-serve basis\, please arrive early to save your spots.
URL:https://hawaiilgbtlegacyfoundation.com/events/cheers-queers-pride-drag-brunch/
LOCATION:SKY Waikiki Raw & Bar\, 2270 Kalakaua Avenue\, Honolulu\, 96815\, United States
ATTACH;FMTTYPE=image/png:https://hawaiilgbtlegacyfoundation.com/wp-content/uploads/2022/06/Rotary-E-Club-HHHRC-Cheers-Queers.png
END:VEVENT
BEGIN:VEVENT
DTSTART;VALUE=DATE:20220625
DTEND;VALUE=DATE:20220626
DTSTAMP:20260419T231758
CREATED:20220308T003743Z
LAST-MODIFIED:20220624T012202Z
UID:34384-1656115200-1656201599@hawaiilgbtlegacyfoundation.com
SUMMARY:Honolulu AIDS Walk & Community Picnic
DESCRIPTION:Join us on Saturday\, June 25 for the Honolulu AIDS Walk and our FREE Community Picnic in Kapiʻolani Park from 8am – 3pm. The theme of this year’s Walk is And Our Walk Continues…\, a tribute to the long rich history of the Honolulu AIDS Walk\, while looking to the future with hope. The Community Picnic\, immediately following the AIDS Walk\, will bring together friends and family for an afternoon of free picnic food\, fun games\, special keiki activities and lots of LGBTQIA2S+ camaraderie and aloha. We hope to see you there!
URL:https://hawaiilgbtlegacyfoundation.com/events/honolulu-aids-walk/
LOCATION:Kapiolani Regional Park\, 3840 Paki Avenue\, Honolulu\, HI\, 96815\, United States
ATTACH;FMTTYPE=image/png:https://hawaiilgbtlegacyfoundation.com/wp-content/uploads/2022/03/AIDSwalkCOMMUNITYpicnicBANNERnew.png
END:VEVENT
BEGIN:VEVENT
DTSTART;TZID=Pacific/Honolulu:20220329T160000
DTEND;TZID=Pacific/Honolulu:20220329T173000
DTSTAMP:20260419T231758
CREATED:20220317T024531Z
LAST-MODIFIED:20220317T025228Z
UID:34452-1648569600-1648575000@hawaiilgbtlegacyfoundation.com
SUMMARY:Trans Visibility Sign Waving
DESCRIPTION:Get on jump on Transgender Day of Visibility (March 31) and join the Hawai’i Health and Harm Reduction Center on Tuesday\, March 29 for Trans Visibility Sign Waving at the Hawai’i State Capitol. Bring a sign\, a smile\, a flag\, and a friend and show support and raise awareness of the importance of Hawaii’s transgender community \nFor more information\, contact HHHRC.
URL:https://hawaiilgbtlegacyfoundation.com/events/trans-visibility-sign-waving/
LOCATION:Hawaii State Capitol\, 415 South Beretania Street\, Honolulu\, HI\, 96813\, United States
ATTACH;FMTTYPE=image/png:https://hawaiilgbtlegacyfoundation.com/wp-content/uploads/2022/03/Trans-Visibility-Sign-Waving-Honolulu-1.png
END:VEVENT
BEGIN:VEVENT
DTSTART;TZID=Pacific/Honolulu:20220328T160000
DTEND;TZID=Pacific/Honolulu:20220328T200000
DTSTAMP:20260419T231758
CREATED:20220113T202232Z
LAST-MODIFIED:20220317T232105Z
UID:33791-1648483200-1648497600@hawaiilgbtlegacyfoundation.com
SUMMARY:HHHRCʻs Medical Mobile Unit (MMU)
DESCRIPTION:Every 2nd & 4th Monday\, from 4pm-8pm\, HHHRC’s medical mobile unit (MMU) brings low-threshold and high-impact harm reduction interventions to those with a range of barriers that prevent them from accessing traditional medical care. Fondly named Ka’a Lawe Pono\, or “the vehicle that deliv­ers wellness\,” the MMU and its staff help clients navigate the healthcare and social service systems while providing quality on-the-spot care. \nPlease call 808-723-0099 / All services are Free and Confidential. \n• HIV & HEPC SCREENING • WOUND CARE • TOBACCO TREATMENT • TRANSGENDER SUPPORT SER­VICES • SYRINGE EXCHANGE • PREP SERVICES
URL:https://hawaiilgbtlegacyfoundation.com/events/hhhrc%ca%bbs-medical-mobile-unit-mmu/
LOCATION:96792
ATTACH;FMTTYPE=image/png:https://hawaiilgbtlegacyfoundation.com/wp-content/uploads/2022/01/HHHRC-MMU-96792.png
END:VEVENT
BEGIN:VEVENT
DTSTART;VALUE=DATE:20211120
DTEND;VALUE=DATE:20211121
DTSTAMP:20260419T231758
CREATED:20211029T003201Z
LAST-MODIFIED:20211029T003250Z
UID:33131-1637366400-1637452799@hawaiilgbtlegacyfoundation.com
SUMMARY:Transgender Day of Remembrance
DESCRIPTION:Transgender Day of Remembrance (TDOR) is an annual observance on November 20 that honors the memory of the transgender people whose lives were lost in acts of anti-transgender violence.  Please join the Kuaʻana Project at HHHRC via Zoom to honor those lives lost around the world as well as here in Hawai’i. \nFor more information\, and to register\, click here.
URL:https://hawaiilgbtlegacyfoundation.com/events/transgender-day-of-remembrance/
LOCATION:Online
ATTACH;FMTTYPE=image/png:https://hawaiilgbtlegacyfoundation.com/wp-content/uploads/2021/10/Kuaana-TDOR-2021.png
END:VEVENT
BEGIN:VEVENT
DTSTART;TZID=Pacific/Honolulu:20211015T180000
DTEND;TZID=Pacific/Honolulu:20211015T200000
DTSTAMP:20260419T231758
CREATED:20211009T204845Z
LAST-MODIFIED:20211009T205000Z
UID:32732-1634320800-1634328000@hawaiilgbtlegacyfoundation.com
SUMMARY:2021 H3RC Virtual Pride Variety Show
DESCRIPTION:Join us as we safely and virtually celebrate PRIDE in Honolulu. Enjoy entertainment from local drag celebrities\, performances by H3RC staff\, and fun Drag Bingo!  \nOctober is LGBTQ+ PRIDE Month here in Hawai’i. HHHRC is proud to be the oldest and largest LGBTQ+ service organization in the Pacific\, serving Hawai’i since 1983. Although we had hoped to return to in-person festivities\, the resurgence of COVID-19 cases in Hawai’i has forced most in-person events to be canceled. Nonetheless\, we will continue to honor our trans and LGBQ+ communities virtually; a true testament to the resiliency of Hawaii’s trans and queer community. \nFor more information\, click here. \n 
URL:https://hawaiilgbtlegacyfoundation.com/events/2021-h3rc-virtual-pride-variety-show/
LOCATION:Online
ATTACH;FMTTYPE=image/jpeg:https://hawaiilgbtlegacyfoundation.com/wp-content/uploads/2021/10/HHHRC-Variety-Show.jpg
END:VEVENT
END:VCALENDAR