BEGIN:VCALENDAR
VERSION:2.0
PRODID:-//Hawaii LGBT Legacy Foundation - ECPv6.13.2.1//NONSGML v1.0//EN
CALSCALE:GREGORIAN
METHOD:PUBLISH
X-WR-CALNAME:Hawaii LGBT Legacy Foundation
X-ORIGINAL-URL:https://hawaiilgbtlegacyfoundation.com
X-WR-CALDESC:Events for Hawaii LGBT Legacy Foundation
REFRESH-INTERVAL;VALUE=DURATION:PT1H
X-Robots-Tag:noindex
X-PUBLISHED-TTL:PT1H
BEGIN:VTIMEZONE
TZID:Pacific/Honolulu
BEGIN:STANDARD
TZOFFSETFROM:-1000
TZOFFSETTO:-1000
TZNAME:HST
DTSTART:20260101T000000
END:STANDARD
END:VTIMEZONE
BEGIN:VEVENT
DTSTART;TZID=Pacific/Honolulu:20260605T153000
DTEND;TZID=Pacific/Honolulu:20260605T170000
DTSTAMP:20260419T193758
CREATED:20260206T210029Z
LAST-MODIFIED:20260206T210029Z
UID:52577-1780673400-1780678800@hawaiilgbtlegacyfoundation.com
SUMMARY:Honolulu AIDS Walk Sign Waving
DESCRIPTION:We’re launching AIDS Walk Month with a sign-waving action to uplift our community\, raise awareness\, and remind Hawaiʻi that the fight against HIV is far from over.
URL:https://hawaiilgbtlegacyfoundation.com/events/honolulu-aids-walk-sign-waving/
LOCATION:Hawaii State Capitol\, 415 South Beretania Street\, Honolulu\, HI\, 96813\, United States
ATTACH;FMTTYPE=image/jpeg:https://hawaiilgbtlegacyfoundation.com/wp-content/uploads/2026/02/503571841_1249753270529338_7709710115827190094_n.jpg
END:VEVENT
BEGIN:VEVENT
DTSTART;TZID=Pacific/Honolulu:20260627T080000
DTEND;TZID=Pacific/Honolulu:20260627T120000
DTSTAMP:20260419T193758
CREATED:20260206T210127Z
LAST-MODIFIED:20260206T210127Z
UID:52582-1782547200-1782561600@hawaiilgbtlegacyfoundation.com
SUMMARY:Honolulu AIDS Walk
DESCRIPTION:Hawaiʻi’s largest HIV awareness and fundraising event\, bringing together thousands in support of HIV prevention\, care\, and support services across the islands.
URL:https://hawaiilgbtlegacyfoundation.com/events/honolulu-aids-walk-2/
LOCATION:Kapiolani Park Bandstand\, 2686-2882 Kalakaua Ave.\, Honolulu\, HI\, 96815\, United States
ATTACH;FMTTYPE=image/jpeg:https://hawaiilgbtlegacyfoundation.com/wp-content/uploads/2026/02/hnlaidswalk2025-highlights-107-1768260204.jpg
END:VEVENT
BEGIN:VEVENT
DTSTART;TZID=Pacific/Honolulu:20260720T173000
DTEND;TZID=Pacific/Honolulu:20260720T190000
DTSTAMP:20260419T193758
CREATED:20260206T210207Z
LAST-MODIFIED:20260206T210207Z
UID:52588-1784568600-1784574000@hawaiilgbtlegacyfoundation.com
SUMMARY:Proud N’ Prep’d
DESCRIPTION:Proud n’ PrEP’d is a free community event hosted in partnership with a HIV pharmaceutical company to provide education and information around HIV prevention in an affirming\, welcoming space.
URL:https://hawaiilgbtlegacyfoundation.com/events/proud-n-prepd/
LOCATION:Chikoʻs Tavern\, 930 McCully Street\, Honolulu\, 96826\, United States
ATTACH;FMTTYPE=image/png:https://hawaiilgbtlegacyfoundation.com/wp-content/uploads/2026/02/Screen-Shot-2026-02-06-at-9.49.36-AM.png
END:VEVENT
BEGIN:VEVENT
DTSTART;TZID=Pacific/Honolulu:20261003T180000
DTEND;TZID=Pacific/Honolulu:20261003T210000
DTSTAMP:20260419T193758
CREATED:20260206T210056Z
LAST-MODIFIED:20260206T210056Z
UID:52593-1791050400-1791061200@hawaiilgbtlegacyfoundation.com
SUMMARY:Youth Pride 2026: Rainbow Prom
DESCRIPTION:Rainbow Prom is a free\, affirming prom experience for LGBTQIA+ youth\, creating a safe space to celebrate identity\, joy\, and community.
URL:https://hawaiilgbtlegacyfoundation.com/events/youth-pride-2026-rainbow-prom/
LOCATION:Capitol Modern: The Hawaiʻi State Art Museum\, 250 South Hotel Street\, Honolulu\, HI\, United States
ATTACH;FMTTYPE=image/png:https://hawaiilgbtlegacyfoundation.com/wp-content/uploads/2026/02/Screen-Shot-2026-02-06-at-9.53.13-AM.png
END:VEVENT
END:VCALENDAR