BEGIN:VCALENDAR
VERSION:2.0
PRODID:-//Hawaii LGBT Legacy Foundation - ECPv6.13.2.1//NONSGML v1.0//EN
CALSCALE:GREGORIAN
METHOD:PUBLISH
X-WR-CALNAME:Hawaii LGBT Legacy Foundation
X-ORIGINAL-URL:https://hawaiilgbtlegacyfoundation.com
X-WR-CALDESC:Events for Hawaii LGBT Legacy Foundation
REFRESH-INTERVAL;VALUE=DURATION:PT1H
X-Robots-Tag:noindex
X-PUBLISHED-TTL:PT1H
BEGIN:VTIMEZONE
TZID:Pacific/Honolulu
BEGIN:STANDARD
TZOFFSETFROM:-1000
TZOFFSETTO:-1000
TZNAME:HST
DTSTART:20220101T000000
END:STANDARD
END:VTIMEZONE
BEGIN:VEVENT
DTSTART;VALUE=DATE:20220514
DTEND;VALUE=DATE:20220515
DTSTAMP:20260419T223804
CREATED:20210506T040206Z
LAST-MODIFIED:20220512T031614Z
UID:30461-1652486400-1652572799@hawaiilgbtlegacyfoundation.com
SUMMARY:16th Annual LGBTQ Community Survey
DESCRIPTION:Make your voice heard by participating in the CMI 16th Annual LGBTQ Community Survey. Previous surveys have had over 30\,000 participants\, providing invaluable data that’s offered free to non-profits\, universities\, and organizations to help them better serve the LGBTQ+ community. Results will be published on the CMI.info website for free download on approximately August 15. \nHawaiiʻs LGBTQ+ community has been partnering with CMI since 1999\, bringing their global research to inform Hawaii tourism policies and our local economy. Together\, we can continue this work that makes Hawaii an LGBTQ+ inclusive place to live and visit. \nHawaii needs at least 200 completed surveys in order to give us an even more detailed reporting of how we compare to other LGBTQ+ communities\, so please participate in this important survey.  Click here. Mahalo!
URL:https://hawaiilgbtlegacyfoundation.com/events/15th-annual-lgbtq-community-survey/
LOCATION:Online
ATTACH;FMTTYPE=image/png:https://hawaiilgbtlegacyfoundation.com/wp-content/uploads/2021/05/CMI-16th-Annual-Survey.png
END:VEVENT
END:VCALENDAR