BEGIN:VCALENDAR
VERSION:2.0
PRODID:-//Hawaii LGBT Legacy Foundation - ECPv6.13.2.1//NONSGML v1.0//EN
CALSCALE:GREGORIAN
METHOD:PUBLISH
X-WR-CALNAME:Hawaii LGBT Legacy Foundation
X-ORIGINAL-URL:https://hawaiilgbtlegacyfoundation.com
X-WR-CALDESC:Events for Hawaii LGBT Legacy Foundation
REFRESH-INTERVAL;VALUE=DURATION:PT1H
X-Robots-Tag:noindex
X-PUBLISHED-TTL:PT1H
BEGIN:VTIMEZONE
TZID:Pacific/Honolulu
BEGIN:STANDARD
TZOFFSETFROM:-1000
TZOFFSETTO:-1000
TZNAME:HST
DTSTART:20260101T000000
END:STANDARD
END:VTIMEZONE
BEGIN:VEVENT
DTSTART;TZID=Pacific/Honolulu:20260107T183000
DTEND;TZID=Pacific/Honolulu:20260107T193000
DTSTAMP:20260423T103536
CREATED:20251208T192605Z
LAST-MODIFIED:20251208T192605Z
UID:50779-1767810600-1767814200@hawaiilgbtlegacyfoundation.com
SUMMARY:The Return of Kapaemahu - Final Free Shows on Kūhiō Beach Hula Mound
DESCRIPTION:Produced by Lei Pua ʻAla Queer Histories of Hawaiʻi\, and composed and directed by Kumu Patrick Makuakāne\, The Return of Kapaemahu shares and honors the long-hidden story of the Healer Stones of Kapaemahu—a sacred site of healing and inclusion in Waikīkī that commemorates Hawaiʻi’s legendary gender-fluid healers. The show takes place under the banyan tree on the Kūhiō Beach hula mound\, just steps from the stones. Wednesdays at golden hour – 6:30-7:30 PM. FINAL EIGHT SHOWS are Nov 26\,; Dec 3\, 10 & 17; Jan 7\, 14\, 21 & 28.
URL:https://hawaiilgbtlegacyfoundation.com/events/the-return-of-kapaemahu-final-free-shows-on-kuhio-beach-hula-mound/2026-01-07/
LOCATION:Kūhiō Beach Hula Mound\, Waikīkī\, Kalakaua Avenue\, Honolulu\, HI\, 96815\, United States
ATTACH;FMTTYPE=image/png:https://hawaiilgbtlegacyfoundation.com/wp-content/uploads/2025/11/Kapaemahu-Final-Performances-1.png
END:VEVENT
BEGIN:VEVENT
DTSTART;TZID=Pacific/Honolulu:20260114T183000
DTEND;TZID=Pacific/Honolulu:20260114T193000
DTSTAMP:20260423T103536
CREATED:20251208T192606Z
LAST-MODIFIED:20251208T192606Z
UID:50780-1768415400-1768419000@hawaiilgbtlegacyfoundation.com
SUMMARY:The Return of Kapaemahu - Final Free Shows on Kūhiō Beach Hula Mound
DESCRIPTION:Produced by Lei Pua ʻAla Queer Histories of Hawaiʻi\, and composed and directed by Kumu Patrick Makuakāne\, The Return of Kapaemahu shares and honors the long-hidden story of the Healer Stones of Kapaemahu—a sacred site of healing and inclusion in Waikīkī that commemorates Hawaiʻi’s legendary gender-fluid healers. The show takes place under the banyan tree on the Kūhiō Beach hula mound\, just steps from the stones. Wednesdays at golden hour – 6:30-7:30 PM. FINAL EIGHT SHOWS are Nov 26\,; Dec 3\, 10 & 17; Jan 7\, 14\, 21 & 28.
URL:https://hawaiilgbtlegacyfoundation.com/events/the-return-of-kapaemahu-final-free-shows-on-kuhio-beach-hula-mound/2026-01-14/
LOCATION:Kūhiō Beach Hula Mound\, Waikīkī\, Kalakaua Avenue\, Honolulu\, HI\, 96815\, United States
ATTACH;FMTTYPE=image/png:https://hawaiilgbtlegacyfoundation.com/wp-content/uploads/2025/11/Kapaemahu-Final-Performances-1.png
END:VEVENT
BEGIN:VEVENT
DTSTART;TZID=Pacific/Honolulu:20260121T183000
DTEND;TZID=Pacific/Honolulu:20260121T193000
DTSTAMP:20260423T103536
CREATED:20251208T192606Z
LAST-MODIFIED:20251208T192606Z
UID:50781-1769020200-1769023800@hawaiilgbtlegacyfoundation.com
SUMMARY:The Return of Kapaemahu - Final Free Shows on Kūhiō Beach Hula Mound
DESCRIPTION:Produced by Lei Pua ʻAla Queer Histories of Hawaiʻi\, and composed and directed by Kumu Patrick Makuakāne\, The Return of Kapaemahu shares and honors the long-hidden story of the Healer Stones of Kapaemahu—a sacred site of healing and inclusion in Waikīkī that commemorates Hawaiʻi’s legendary gender-fluid healers. The show takes place under the banyan tree on the Kūhiō Beach hula mound\, just steps from the stones. Wednesdays at golden hour – 6:30-7:30 PM. FINAL EIGHT SHOWS are Nov 26\,; Dec 3\, 10 & 17; Jan 7\, 14\, 21 & 28.
URL:https://hawaiilgbtlegacyfoundation.com/events/the-return-of-kapaemahu-final-free-shows-on-kuhio-beach-hula-mound/2026-01-21/
LOCATION:Kūhiō Beach Hula Mound\, Waikīkī\, Kalakaua Avenue\, Honolulu\, HI\, 96815\, United States
ATTACH;FMTTYPE=image/png:https://hawaiilgbtlegacyfoundation.com/wp-content/uploads/2025/11/Kapaemahu-Final-Performances-1.png
END:VEVENT
BEGIN:VEVENT
DTSTART;TZID=Pacific/Honolulu:20260125T080000
DTEND;TZID=Pacific/Honolulu:20260125T090000
DTSTAMP:20260423T103536
CREATED:20260123T190227Z
LAST-MODIFIED:20260123T190429Z
UID:51789-1769328000-1769331600@hawaiilgbtlegacyfoundation.com
SUMMARY:Queer Hiking Group Kuliʻouʻou Ridge Hike Sunday Jan 25
DESCRIPTION:Kuliʻouʻou Ridge\nSunday January 25\, 9am-2pm\nDistance: 4.4 miles round trip\nDog friendly\, although stairs at the end can be challenging for dogs. \nAre you ready for a fun challenge? Join us to start your new year right with friends\, views\, and cardio!\nConsistently ranked in the top 10 trails on Oahu\, the Kuliouou Ridge Trail is located in the eastern part of Oahu near Hawaii Kai. It is about 4.4 miles round trip and takes 3- 4 hours to complete. The trail follows the ridgeline of the Koolau Mountain Range and provides stunning panoramic views and lush vegetation including a peaceful Cook Pine forest and progressive views of the city/ocean. It is considered moderately challenging\, culminating in steep stairs for a real cardio push. You will need good cardio for this hike. 🙂\nThe trail can become muddy if there’s rain.\nBecause this is a residential neighborhood with barely any parking\, PLEASE please consider joining a carpool\, listed below.\nwww.tinyurl.com/QHikeCarpool\nMeeting spot\nhttps://maps.app.goo.gl/pUyB7chrqdFpJv2i6 \nRank: Intermediate\, with hard stair climb at end.\nNew ranks out of 10\, 10 being hardest\nTrail quality 5/10\nElevation 7/10\nDistance 7/10\nPlease bring comfortable shoes\, at least 2 liters of water\, sun protection/hat\, insect repellent and snacks. Remember that you want to be present\, enjoy the hikes and meet other people\, so ideally be sober and no recreational drugs in your system.\nMeet us at the entrance to the hike by 9:00 am. Please be very mindful of the neighborhood parking. This area is notorious for residents ticketing and towing cars even for the smallest issues (spacing from the curb\, etc.) We recommend parking a few blocks further down from the trailhead to avoid the hassle.\nAlso\, we will be meeting closer to the trailhead to limit the noise and not disturb the residents.\nAny questions please contact Glenn at oahuqueerhiking@gmail.com.
URL:https://hawaiilgbtlegacyfoundation.com/events/queer-hiking-group-kuliouou-ridge-hike-sunday-jan-25/
LOCATION:Kuliʻouʻou Ridge
ATTACH;FMTTYPE=image/jpeg:https://hawaiilgbtlegacyfoundation.com/wp-content/uploads/2026/01/kulio-1-1.jpeg
END:VEVENT
BEGIN:VEVENT
DTSTART;TZID=Pacific/Honolulu:20260128T183000
DTEND;TZID=Pacific/Honolulu:20260128T193000
DTSTAMP:20260423T103536
CREATED:20251208T192606Z
LAST-MODIFIED:20251208T192606Z
UID:50782-1769625000-1769628600@hawaiilgbtlegacyfoundation.com
SUMMARY:The Return of Kapaemahu - Final Free Shows on Kūhiō Beach Hula Mound
DESCRIPTION:Produced by Lei Pua ʻAla Queer Histories of Hawaiʻi\, and composed and directed by Kumu Patrick Makuakāne\, The Return of Kapaemahu shares and honors the long-hidden story of the Healer Stones of Kapaemahu—a sacred site of healing and inclusion in Waikīkī that commemorates Hawaiʻi’s legendary gender-fluid healers. The show takes place under the banyan tree on the Kūhiō Beach hula mound\, just steps from the stones. Wednesdays at golden hour – 6:30-7:30 PM. FINAL EIGHT SHOWS are Nov 26\,; Dec 3\, 10 & 17; Jan 7\, 14\, 21 & 28.
URL:https://hawaiilgbtlegacyfoundation.com/events/the-return-of-kapaemahu-final-free-shows-on-kuhio-beach-hula-mound/2026-01-28/
LOCATION:Kūhiō Beach Hula Mound\, Waikīkī\, Kalakaua Avenue\, Honolulu\, HI\, 96815\, United States
ATTACH;FMTTYPE=image/png:https://hawaiilgbtlegacyfoundation.com/wp-content/uploads/2025/11/Kapaemahu-Final-Performances-1.png
END:VEVENT
END:VCALENDAR