BEGIN:VCALENDAR
VERSION:2.0
PRODID:-//Hawaii LGBT Legacy Foundation - ECPv6.13.2.1//NONSGML v1.0//EN
CALSCALE:GREGORIAN
METHOD:PUBLISH
X-WR-CALNAME:Hawaii LGBT Legacy Foundation
X-ORIGINAL-URL:https://hawaiilgbtlegacyfoundation.com
X-WR-CALDESC:Events for Hawaii LGBT Legacy Foundation
REFRESH-INTERVAL;VALUE=DURATION:PT1H
X-Robots-Tag:noindex
X-PUBLISHED-TTL:PT1H
BEGIN:VTIMEZONE
TZID:Pacific/Honolulu
BEGIN:STANDARD
TZOFFSETFROM:-1000
TZOFFSETTO:-1000
TZNAME:HST
DTSTART:20250101T000000
END:STANDARD
END:VTIMEZONE
BEGIN:VEVENT
DTSTART;TZID=Pacific/Honolulu:20251210T183000
DTEND;TZID=Pacific/Honolulu:20251210T193000
DTSTAMP:20260423T120550
CREATED:20251211T205902Z
LAST-MODIFIED:20251211T205902Z
UID:50913-1765391400-1765395000@hawaiilgbtlegacyfoundation.com
SUMMARY:The Return of Kapaemahu - Free Hula Show in Waikiki
DESCRIPTION:Produced by Lei Pua ʻAla Queer Histories of Hawaiʻi\, and composed and directed by Kumu Patrick Makuakāne\, The Return of Kapaemahu shares and honors the long-hidden story of the Healer Stones of Kapaemahu—a sacred site of healing and inclusion in Waikīkī that commemorates Hawaiʻi’s legendary gender-fluid healers. The show takes place under the banyan tree on the Kūhiō Beach hula mound\, just steps from the stones\, every Wednesday at golden hour – 6:30-7:30 PM. Donʻt miss this must-see performance that will end in January!
URL:https://hawaiilgbtlegacyfoundation.com/events/the-return-of-kapaemahu-free-hula-show-in-waikiki/
LOCATION:Kūhiō Beach Hula Mound\, Waikīkī\, Kalakaua Avenue\, Honolulu\, HI\, 96815\, United States
ATTACH;FMTTYPE=image/png:https://hawaiilgbtlegacyfoundation.com/wp-content/uploads/2025/12/Kapaemahu-Final-Performances-2.png
END:VEVENT
END:VCALENDAR