BEGIN:VCALENDAR
VERSION:2.0
PRODID:-//Hawaii LGBT Legacy Foundation - ECPv6.13.2.1//NONSGML v1.0//EN
CALSCALE:GREGORIAN
METHOD:PUBLISH
X-WR-CALNAME:Hawaii LGBT Legacy Foundation
X-ORIGINAL-URL:https://hawaiilgbtlegacyfoundation.com
X-WR-CALDESC:Events for Hawaii LGBT Legacy Foundation
REFRESH-INTERVAL;VALUE=DURATION:PT1H
X-Robots-Tag:noindex
X-PUBLISHED-TTL:PT1H
BEGIN:VTIMEZONE
TZID:Pacific/Honolulu
BEGIN:STANDARD
TZOFFSETFROM:-1000
TZOFFSETTO:-1000
TZNAME:HST
DTSTART:20250101T000000
END:STANDARD
END:VTIMEZONE
BEGIN:VTIMEZONE
TZID:Pacific/Honolulu
BEGIN:STANDARD
TZOFFSETFROM:-1000
TZOFFSETTO:-1000
TZNAME:HST
DTSTART:20250101T000000
END:STANDARD
END:VTIMEZONE
BEGIN:VEVENT
DTSTART;VALUE=DATE:20250308
DTEND;VALUE=DATE:20250310
DTSTAMP:20260424T051839
CREATED:20250216T001643Z
LAST-MODIFIED:20250216T024913Z
UID:45928-1741392000-1741564799@hawaiilgbtlegacyfoundation.com
SUMMARY:Aloha Kāua at ʻĪao Theatre / Maui
DESCRIPTION:Following its Oʻahu premiere\, Noa Helelā’s Aloha Kāua historical drama about “ka wa ia Kaomi” during the early part of the reign of Kauikeaouli\, plays at Maui’s historic ʻĪao Theater\, March 8 and 9. The play is directed by Taurie Kinoshita of the Hawai’i Conservatory of Performing Arts at Windward Community College. \nAloha Kaua is a timeless tale of love\, sacrifice\, and courage in a time of repression and uncertainty\, peppered with humor and witty dialogue. Kauikeaouli (Kamehameha III) fell in love with Kaomi\, who could heal with his hands\, diagnose illnesses\, and rebelled against the values and laws being imposed by the missionaries. As their love deepens\, Kauikeaouli is inspired to resist oppressive colonial morality: he brings back hula\, free love\, drinking\, games\, and Makahiki. Outraged by Kauikeaouli making Kaomi his Mō‘ī ku‘i (joint king)\, Christian chiefs try to stop the young Kauikeaouli. Some resort to violence\, turning their anger on Kaomi and demonizing him for leading the king down what they believed was a dangerous path. \nLearn more and purchase tickets: \nMaui: General admission is $20. Free tickets for youth/college students.\nMaui tickets: https://mauionstage.thundertix.com/events/242500
URL:https://hawaiilgbtlegacyfoundation.com/events/aloha-kaua-at-%ca%bbiao-theatre-maui/
LOCATION:ʻĪao Theater\, 68 N Market Street\, Wailuku\, HI\, 96793\, United States
ATTACH;FMTTYPE=image/jpeg:https://hawaiilgbtlegacyfoundation.com/wp-content/uploads/2025/01/Aloha-Kaua-featured-image.jpg
END:VEVENT
BEGIN:VEVENT
DTSTART;TZID=Pacific/Honolulu:20250309T113000
DTEND;TZID=Pacific/Honolulu:20250309T160000
DTSTAMP:20260424T051839
CREATED:20221109T003929Z
LAST-MODIFIED:20250212T220941Z
UID:37412-1741519800-1741536000@hawaiilgbtlegacyfoundation.com
SUMMARY:Aloha Bears Catamaran Cruise
DESCRIPTION:Join the Aloha Bears for their popular Catamaran Cruise every second Sunday of the Month. Ticket purchasers meet at 11:30am. at Tapa’s Waikiki\, 407 Seaside Avenue. You’ll check in\, meet and greet other passengers and enjoy a cocktail or two. Then walk over as a group at 12:30pm to the boarding area on the beach behind Dukes. An open bar on board ensures a good time for all. After the 1 hour sail\, you are invited back to Bacchus Waikiki\, 408 Lewers Street for lunch (included in the price of the ticket) and a few more cocktails around 2:30pm. \nPurchase your tickets here.
URL:https://hawaiilgbtlegacyfoundation.com/events/aloha-bears-booze-cruise-2/
LOCATION:HI
ATTACH;FMTTYPE=image/png:https://hawaiilgbtlegacyfoundation.com/wp-content/uploads/2022/11/Aloha-Bears-Cruise.png
END:VEVENT
BEGIN:VEVENT
DTSTART;TZID=Pacific/Honolulu:20250310T143000
DTEND;TZID=Pacific/Honolulu:20250310T153000
DTSTAMP:20260424T051839
CREATED:20241119T183545Z
LAST-MODIFIED:20250212T220606Z
UID:45340-1741617000-1741620600@hawaiilgbtlegacyfoundation.com
SUMMARY:Hawaiʻi LGBTQ+ Commission Public Meetings
DESCRIPTION:The Hawaii State LGBTQ+ Commission was established to improve the State’s interface with members of the lesbian\, gay\, bisexual\, transgender\, queer\, plus community. It identifies the short-and long-range needs of its members; and ensure that there is an effective means of researching\, planning\, and advocating for the equity of this population in all aspects of state government. \nHawai‘i State LGBTQ+ Commission monthly public meetings are normally held on the 2nd Monday of each month at 2:30 PM.  Meetings are currently being held in person and on Zoom.  Check the Hawai‘i State Public Meeting Calendar for more information and meeting updates. The meeting notifications with the agenda will be posted at least one (1) week prior to the meeting. \nIn-person meeting location:\n1390 Miller Street  2nd Floor Conference Rooms 1 & 2\nHonolulu\, HI 96813 \nZoom Meeting \nhttps://zoom.us/j/92198507509?pwd=hieXyWvs3IPkxKPWliHOlqUKuG7jbm.1\nMeeting ID: 921 9850 7509\nPasscode: 509173\nDial in by phone\n+1 669 444 9171 US \nClick here to sign-up for the HI State LGBTQ+ Commission email list and to receive Commission’s meeting notifications.
URL:https://hawaiilgbtlegacyfoundation.com/events/hawai%ca%bbi-lgbtq-commission-public-meetings/
LOCATION:Hawaiʻi Dept. of Human Services\, 1390 Miller Street\, Honolulu\, 96813\, United States
ATTACH;FMTTYPE=image/jpeg:https://hawaiilgbtlegacyfoundation.com/wp-content/uploads/2024/11/LGBTQ-Commission-LOGO.jpg
END:VEVENT
BEGIN:VEVENT
DTSTART;TZID=Pacific/Honolulu:20250311T150000
DTEND;TZID=Pacific/Honolulu:20250311T160000
DTSTAMP:20260424T051839
CREATED:20250204T231521Z
LAST-MODIFIED:20250204T231521Z
UID:45817-1741705200-1741708800@hawaiilgbtlegacyfoundation.com
SUMMARY:QUEERPHORIA: Nonverbal Expression of Identity...
DESCRIPTION:The QSERIES program (QUEERIFY and QUEERPHORIA) is a University of Hawaiʻi public service project designed to amplify queer voices. It also serves to mobilize queer folks to speak our truths\, and connect queer folks and allies with information and one another for a stronger\, healthier community.   \nThe Spring program QUEERPHORIA serves as a precursor to pride in June. It represents newness and rebirth\, celebrating queer stories\, but also queer joy\, wellness\, and creativity. The program is sponsored by the University of Hawaiʻi Commission on LGBTQ+ Equality.  \nFor more information\, click here or contact Kalei Ruiz at kalei.ruiz@hawaii.edu
URL:https://hawaiilgbtlegacyfoundation.com/events/queerphoria-nonverbal-expression-of-identity/
LOCATION:Online
ATTACH;FMTTYPE=image/png:https://hawaiilgbtlegacyfoundation.com/wp-content/uploads/2025/02/Queerphoria-2025-banner.png
END:VEVENT
BEGIN:VEVENT
DTSTART;TZID=Pacific/Honolulu:20250312T180000
DTEND;TZID=Pacific/Honolulu:20250312T190000
DTSTAMP:20260424T051839
CREATED:20241219T193347Z
LAST-MODIFIED:20250227T201635Z
UID:45575-1741802400-1741806000@hawaiilgbtlegacyfoundation.com
SUMMARY:AA Recovery for the LGBTQ+ Community
DESCRIPTION:A weekly AA group that was founded as a safe space for LGBTQ+ recovery meets every Wednesday from 6-7pm at United Methodist Church in Kailua. Meetings are held in the classroom annex adjacent to the parking lot\, and the format alternates each week: \nWeek 1 – Step Meeting\nWeek 2 – LGBTQ+ Guest Interview and Q&A\nWeek 3 – LGBTQ+ Literature\nWeek 4 – Topic/Discussion \nFor more information\, contact Carolyn at crridderman@gmail.com.
URL:https://hawaiilgbtlegacyfoundation.com/events/aa-recovery-for-the-lgbtq-community/
LOCATION:United Methodist Church\, 1110 Kailua Rd\, Kailua\, HI\, 96734\, United States
ATTACH;FMTTYPE=image/png:https://hawaiilgbtlegacyfoundation.com/wp-content/uploads/2024/12/AA-LGBTQ-Kailua.png
END:VEVENT
BEGIN:VEVENT
DTSTART;TZID=Pacific/Honolulu:20250324T150000
DTEND;TZID=Pacific/Honolulu:20250324T163000
DTSTAMP:20260424T051839
CREATED:20250204T231709Z
LAST-MODIFIED:20250204T231709Z
UID:45819-1742828400-1742833800@hawaiilgbtlegacyfoundation.com
SUMMARY:QUEERPHORIA: Queer Filipinx Ginhawa...
DESCRIPTION:The QSERIES program (QUEERIFY and QUEERPHORIA) is a University of Hawaiʻi public service project designed to amplify queer voices. It also serves to mobilize queer folks to speak our truths\, and connect queer folks and allies with information and one another for a stronger\, healthier community.   \nThe Spring program QUEERPHORIA serves as a precursor to pride in June. It represents newness and rebirth\, celebrating queer stories\, but also queer joy\, wellness\, and creativity. The program is sponsored by the University of Hawaiʻi Commission on LGBTQ+ Equality.  \nFor more information\, click here or contact Kalei Ruiz at kalei.ruiz@hawaii.edu
URL:https://hawaiilgbtlegacyfoundation.com/events/queerphoria-queer-filipinx-ginhawa/
LOCATION:Online
ATTACH;FMTTYPE=image/png:https://hawaiilgbtlegacyfoundation.com/wp-content/uploads/2025/02/Queerphoria-2025-banner.png
END:VEVENT
BEGIN:VEVENT
DTSTART;TZID=Pacific/Honolulu:20250324T190000
DTEND;TZID=Pacific/Honolulu:20250324T200000
DTSTAMP:20260424T051839
CREATED:20241202T203123Z
LAST-MODIFIED:20250212T221330Z
UID:45456-1742842800-1742846400@hawaiilgbtlegacyfoundation.com
SUMMARY:Gay Men’s Chorus of Honolulu
DESCRIPTION:The Gay Men’s Chorus of Honolulu is looking for new members\, and welcomes all singers of any sex\, gender\, or sexual-orientation who are able to sing in the Tenor1\, Tenor2\, Baritone\, or Bass range. Rehearsals are held every Monday at 7pm at the Unity Church of Hawaii. \nLearn more about GMCoH\, and stay tuned for details of their upcoming music workshop led by interim director\, X Jones.
URL:https://hawaiilgbtlegacyfoundation.com/events/gay-mens-chorus-of-honolulu/
LOCATION:Unity Church of Hawaii\, 3608 Diamond Head Circle\, Honolulu\, 96815\, United States
ATTACH;FMTTYPE=image/png:https://hawaiilgbtlegacyfoundation.com/wp-content/uploads/2024/12/Join-the-GMCoH.png
END:VEVENT
BEGIN:VEVENT
DTSTART;TZID=Pacific/Honolulu:20250328T103000
DTEND;TZID=Pacific/Honolulu:20250328T113000
DTSTAMP:20260424T051839
CREATED:20241215T012057Z
LAST-MODIFIED:20250227T201539Z
UID:45566-1743157800-1743161400@hawaiilgbtlegacyfoundation.com
SUMMARY:NGLCC LGBTQ+ Sip & Pitch Fridays
DESCRIPTION:Sip & Pitch is a chance for LGBTQ+ business owners to informally present their business pitch to a panel of experts and fellow business owners for positive\, constructive feedback and new ideas. Presenters are chosen and invited beforehand to pitch\, but if you’d like to be considered to pitch in the future\, please apply here.  \nFollowing pitches\, all members of the LGBTQ and allied business community in the NGLCC network are welcome to pour a drink of your choice\, whether that is a seltzer water or an afternoon cocktail\, and casually network with your fellow community members. Join the audience and cheer on our fantastic LGBTQ+ entrepreneurs. \nFor more information\, visit nglcc.org/sipandpitch \nQuestions? Contact education@nglcc.org.
URL:https://hawaiilgbtlegacyfoundation.com/events/nglcc-lgbtq-sip-pitch-fridays/
LOCATION:Online
ATTACH;FMTTYPE=image/webp:https://hawaiilgbtlegacyfoundation.com/wp-content/uploads/2024/12/SIP-PITCH-fridays-Facebook-Cover-1536x865-1.webp
END:VEVENT
BEGIN:VEVENT
DTSTART;TZID=Pacific/Honolulu:20250331T150000
DTEND;TZID=Pacific/Honolulu:20250331T200000
DTSTAMP:20260424T051839
CREATED:20250227T191305Z
LAST-MODIFIED:20250227T191305Z
UID:45975-1743433200-1743451200@hawaiilgbtlegacyfoundation.com
SUMMARY:Māhū Magic: Transgender Day of Visibility
DESCRIPTION:Now more than ever\, visibility matters. As attacks on transgender rights continue\, letʻs gather in solidarity to amplify trans voices and celebrate the strength\, resilience\, and contributions of transgender and nonbinary people. \nJoin Hawai‘i Health & Harm Reduction Center (HHHRC) on March 31 for Transgender Day of Visibility. Sign Wave at the Hawai‘i State Capitol from 3:00 – 4:30pm\, and then join the community at a Reception & Rally at Capitol Modern (Hawai‘i State Art Museum) from 5:00 – 8:00pm. \nJoin HHHRC for an afternoon of advocacy\, followed by an evening of community\, storytelling\, and empowerment. Let’s stand together\, uplift one another\, and celebrate the magic that comes from living authentically. While no RSVP is required\, HHHRC appreciates having a headcount to better prepare and ensure a welcoming space for our community. \nLearn more and RSVP here.
URL:https://hawaiilgbtlegacyfoundation.com/events/mahu-magic-transgender-day-of-visibility/
LOCATION:HI
ATTACH;FMTTYPE=image/png:https://hawaiilgbtlegacyfoundation.com/wp-content/uploads/2025/02/TDOV-2025-Trans-Mahu-Magic.png
END:VEVENT
END:VCALENDAR