BEGIN:VCALENDAR
VERSION:2.0
PRODID:-//Hawaii LGBT Legacy Foundation - ECPv6.13.2.1//NONSGML v1.0//EN
CALSCALE:GREGORIAN
METHOD:PUBLISH
X-ORIGINAL-URL:https://hawaiilgbtlegacyfoundation.com
X-WR-CALDESC:Events for Hawaii LGBT Legacy Foundation
REFRESH-INTERVAL;VALUE=DURATION:PT1H
X-Robots-Tag:noindex
X-PUBLISHED-TTL:PT1H
BEGIN:VTIMEZONE
TZID:Pacific/Honolulu
BEGIN:STANDARD
TZOFFSETFROM:-1000
TZOFFSETTO:-1000
TZNAME:HST
DTSTART:20240101T000000
END:STANDARD
END:VTIMEZONE
BEGIN:VEVENT
DTSTART;TZID=Pacific/Honolulu:20240801T190000
DTEND;TZID=Pacific/Honolulu:20240801T210000
DTSTAMP:20260424T171210
CREATED:20240608T190320Z
LAST-MODIFIED:20240618T024555Z
UID:44033-1722538800-1722546000@hawaiilgbtlegacyfoundation.com
SUMMARY:Inaugural Legacy Concert: The Music Of ABBA
DESCRIPTION:Calling all Dancing Queens! Get ready for a night of music\, fun\, and fabulousness at the Inaugural Legacy Concert featuring the music of ABBA\, a 365 Pride fundraiser in support of the Hawai‘i LGBT Legacy Foundation. \nJoin us for an unforgettable evening emceed by the fabulous Tori Richards. Dress in your best ABBA-inspired attire for our costume contests with prizes\, enjoy spectacular drag performances\, and sing along with the band “Direct from Sweden – The Music of ABBA.” Don’t miss the special VIP reception with bevies and nibbles. \n“Direct from Sweden The Music of ABBA will deliver the closest ABBA experience you’ll ever get with some of Sweden’s most experienced and talented singers and musicians playing 100% live.  The audience will be on their feet the entire show!” \nAll net proceeds support Pride365 events\, keeping the spirit of Pride alive throughout the year. \nPurchase tickets here. \n 
URL:https://hawaiilgbtlegacyfoundation.com/events/a-festival-of-all-that-is-abba/
LOCATION:Hawaii Theatre Center\, 1130 Bethel Street\, Honolulu\, 96813\, United States
ATTACH;FMTTYPE=image/jpeg:https://hawaiilgbtlegacyfoundation.com/wp-content/uploads/2024/06/ABBA-Legacy-Concert-hp-scaled.jpeg
END:VEVENT
BEGIN:VEVENT
DTSTART;VALUE=DATE:20240803
DTEND;VALUE=DATE:20240804
DTSTAMP:20260424T171210
CREATED:20240628T203139Z
LAST-MODIFIED:20240729T223608Z
UID:44301-1722643200-1722729599@hawaiilgbtlegacyfoundation.com
SUMMARY:Oʻahu Pride Volleyball Season 3
DESCRIPTION:Oʻahu Pride Volleyball (formerly the Hawaii LGBTQ Volleyball League) aims to bring the Oʻahu LGBTQIA+ community together through friendship and a shared loved of volleyball. Season 3 runs through August 31 with games from 8am-3pm in Kapiʻolani Park Picnic Areas 15-18. Learn more here.
URL:https://hawaiilgbtlegacyfoundation.com/events/o%ca%bbahu-pride-volleyball-season-3/
LOCATION:Kapiolani Regional Park\, 3840 Paki Avenue\, Honolulu\, HI\, 96815\, United States
ATTACH;FMTTYPE=image/png:https://hawaiilgbtlegacyfoundation.com/wp-content/uploads/2024/06/OPV-Season-3-Poster.png
END:VEVENT
BEGIN:VEVENT
DTSTART;TZID=Pacific/Honolulu:20240804T140000
DTEND;TZID=Pacific/Honolulu:20240804T180000
DTSTAMP:20260424T171210
CREATED:20240730T225152Z
LAST-MODIFIED:20240730T230434Z
UID:44537-1722780000-1722794400@hawaiilgbtlegacyfoundation.com
SUMMARY:Aloha Bears Back To School Drive
DESCRIPTION:The Aloha Bears are hosting their annual Back To School Drive on Sundays during August (8/4\, 8/18 & 8/25) from 2pm-6pm at Tapas Waikīkī to benefit Hale Kipa. Bring a new backpack with supplies and/or make a donation of $20 or more in cash/Venmo and receive a ticket for a free draft beer or well drink. For more information\, email Info@thealohabears.org \n“Hale Kipa is a multi-service\, fully accredited 501(c)(3) nonprofit agency that specializes in working with youth and their families who often have nowhere else to turn. Hale Kipa supports youth involved in juvenile justice\, behavioral health\, education and child welfare. Program goals include stabilizing young people in crisis and helping youth and families build resiliency to experience success in their lives.”
URL:https://hawaiilgbtlegacyfoundation.com/events/aloha-bears-back-to-school-drive/
LOCATION:Tapas Waikiki\, 407 Seaside Avenue\, Honolulu\, HI\, 96815\, United States
ATTACH;FMTTYPE=image/png:https://hawaiilgbtlegacyfoundation.com/wp-content/uploads/2024/07/Aloha-Bears-School-Drive.png
END:VEVENT
BEGIN:VEVENT
DTSTART;TZID=Pacific/Honolulu:20240811T080000
DTEND;TZID=Pacific/Honolulu:20240811T170000
DTSTAMP:20260424T171210
CREATED:20240731T192414Z
LAST-MODIFIED:20240731T192648Z
UID:44545-1723363200-1723395600@hawaiilgbtlegacyfoundation.com
SUMMARY:August 11 - 25: Oʻahu Queer Hiking and Adventures August Events
DESCRIPTION:Join Oʻahu Queer Hiking and Adventures during August for these fun\, informative and healthy get togethers. For more information\, visit www.linktr.ee/oahuqueerhiking.\n\nSunday\, August 11: Aiea Loop Trail Bird and Plant Learning Walk\nA walk focused on learning about plants and birds. Limited to 12 people.\n\nThis is an educational hike at slower pace with stops and discussion. This trail provides an excellent initial experience of some key trees and plants introduced to Hawaiʻi as well as some key native species.  Hike leaders will discuss some of the history of the introduced species\, their contributions to Hawaiʻi\, and the problems that came with them\, including some plants that are destructive or invasive. They’ll also identify and discuss important native species such as ohi’a\, koa\, and sandalwood\, and some of their historical and cultural importance. If lucky\,  hikers may also see a native bird species or two.\nRSVP here. \n\nAugust 17th Saturday Ka’ena Point walk and beach day\n5 mile in and out\, beautiful coastal views all the way to the bird sanctuary at the westernmost point of the island. Sometimes a dirt trail\, sometimes semi-paved\, sometimes sand. Optional multiple beaches including Polo/Mokulea (clothing optional) beach afterwards.\n\nAugust 25th Sunday Foster Botanical Gardens Walkabout and Picnic \nA garden in the midst of busy downtown Honolulu? Yes!  As the oldest of the Honolulu Botanical Gardens\, Foster Garden displays a mature and impressive collection of tropical plants. Some of the magnificent trees in this 14-acre garden were planted in the 1850s by Dr. William Hillebrand. They marked the beginning of a heritage that became The Honolulu Botanical Gardens.\n\nFor more information\, Visit Oʻahu Queer Hiking & Adventures at www.linktr.ee/oahuqueerhiking.
URL:https://hawaiilgbtlegacyfoundation.com/events/august-11-25-queer-hiking-and-adventures-august-events/
LOCATION:HI
ATTACH;FMTTYPE=image/png:https://hawaiilgbtlegacyfoundation.com/wp-content/uploads/2024/07/Oʻahu-Queer-Hiking-Pillbox-Hike-okina.png
ORGANIZER;CN="O%CA%BBahu Queer Hiking":MAILTO:oahuqueerhiking@gmail.com
END:VEVENT
BEGIN:VEVENT
DTSTART;VALUE=DATE:20240816
DTEND;VALUE=DATE:20240819
DTSTAMP:20260424T171210
CREATED:20240628T204149Z
LAST-MODIFIED:20240628T205701Z
UID:44304-1723766400-1724025599@hawaiilgbtlegacyfoundation.com
SUMMARY:Luana Hospitality Group Kona Classic 2024
DESCRIPTION:The Luana Hospitality Group Kona Classic 2024\, proudly presented by the Hawai’i Gay Kickball League\, will take place August 16-18\, 2024 in Kona\, Hawai’i. The weekend tournament fosters unity within the Hawai’i LGBTQIA+ community through the joy of kickball\, and the league welcomes other queer social kickball leagues to join in the fun. Games will be played August 17th-18th\, with a pool play on Saturday and single elimination playoffs on Sunday.  \nLearn more here.
URL:https://hawaiilgbtlegacyfoundation.com/events/hawai%ca%bbi-kickball-league-luana-hospitality-group-kona-classic-2024/
LOCATION:Old Kona State Airport Recreation Area\, 75-5560 Kuakini Hwy\, Kailua-Kona\, HI\, 96740\, United States
ATTACH;FMTTYPE=image/jpeg:https://hawaiilgbtlegacyfoundation.com/wp-content/uploads/2024/06/Kona-Kickball-Classic.jpg
END:VEVENT
BEGIN:VEVENT
DTSTART;TZID=Pacific/Honolulu:20240816T180000
DTEND;TZID=Pacific/Honolulu:20240816T200000
DTSTAMP:20260424T171210
CREATED:20240807T174751Z
LAST-MODIFIED:20240807T175928Z
UID:44565-1723831200-1723838400@hawaiilgbtlegacyfoundation.com
SUMMARY:LGBTQIA Friday Night Game Night
DESCRIPTION:Enjoy a fun-filled evening of games and laughter at the Manoa Innovation Center. Whether you’re a board game enthusiast or just curious\, there’s something here for everyone. Bring your favorite game to share\, and challenge your friends to a friendly competition\, or make new ones as you play your way through the night. Don’t miss out on the chance to unwind and have a blast with fellow gamers. \n“Try out SPARKED Board Game it is an addictively fun game that celebrates and elevates everyone. It’s a Game Changer! Pizza is included; bring your soft drinks. From soulful conversations to juicy surprises and laugh-until-you-cry moments\, you never know what will be SPARKED!” \n 
URL:https://hawaiilgbtlegacyfoundation.com/events/lgbtqia-friday-night-game-night/
LOCATION:Manoa Innovation Center\, 2800 Woodlawn Drive\, Honolulu\, HI\, 96822\, United States
ATTACH;FMTTYPE=image/png:https://hawaiilgbtlegacyfoundation.com/wp-content/uploads/2021/12/Pride-Flag-Forward.png
END:VEVENT
BEGIN:VEVENT
DTSTART;TZID=Pacific/Honolulu:20240818T080000
DTEND;TZID=Pacific/Honolulu:20240831T170000
DTSTAMP:20260424T171210
CREATED:20240726T180221Z
LAST-MODIFIED:20240816T215535Z
UID:44520-1723968000-1725123600@hawaiilgbtlegacyfoundation.com
SUMMARY:HRFF35 All-Access Passes On Sale
DESCRIPTION:The 35th Annual Honolulu Rainbow Film Festival–running September 20-22–will be weekend of live screenings of remarkable queer cinema at the Doris Duke Theatre / Honolulu Museum of Art\, as well as fabulous parties\, and a program of free online shorts. Join the LGBTQIA+ / MVPFAFF community\, film makers and film lovers for this yearʻs festival. \nAll-Access Festival Passes for the 2024 Honolulu Rainbow Film Festival are now on sale. Click here. \nThe Honolulu Rainbow Film Festival is one of the longest-running and most respected queer film festivals in the country. Especially well known as a bridge between Hawaiʻi and the Pacific\, Asia\, and the USA\, HRFF is an IMDB-qualified festival and member of the Asia Pacific Queer Film Festival Alliance. \nGet the latest updates by subscribing to our email newsletter. Click here.  \nFor more information about the HRFF35 program and schedule\, contact Festival Director Brent Anbe. To learn how your organization can support the Festival\, contact Randy Soriano. \n 
URL:https://hawaiilgbtlegacyfoundation.com/events/hrff35-all-access-passes/
LOCATION:Online
ATTACH;FMTTYPE=image/jpeg:https://hawaiilgbtlegacyfoundation.com/wp-content/uploads/2024/06/HRFF35-featured.jpg
END:VEVENT
BEGIN:VEVENT
DTSTART;VALUE=DATE:20240821
DTEND;VALUE=DATE:20240901
DTSTAMP:20260424T171210
CREATED:20240716T022018Z
LAST-MODIFIED:20240821T002106Z
UID:44392-1724198400-1725148799@hawaiilgbtlegacyfoundation.com
SUMMARY:Vote YES for Marriage Equality is Hiring
DESCRIPTION:The Vote YES for Marriage Equality coalition is working to remove the outdated discriminatory Section 23–added a generation ago to Hawaiʻi’s Constitution–which gives the Hawaiʻi legislature the authority to limit marriage to opposite-sex couples. The coalition is hiring a Field/Volunteer Organizer and Volunteer Coordinator(s) for their “Yes On One: Vote Yes To Marriage Equality” campaign to encourage voters to vote Yes on Amendment One on this Novemberʻs ballot. Learn more about the campaign\, and the contractor positions\, by clicking here. \n 
URL:https://hawaiilgbtlegacyfoundation.com/events/change23-coalition-is-hiring/
LOCATION:Online
ATTACH;FMTTYPE=image/png:https://hawaiilgbtlegacyfoundation.com/wp-content/uploads/2024/07/Vote-Yes-on-One-Change23.png
END:VEVENT
BEGIN:VEVENT
DTSTART;TZID=Pacific/Honolulu:20240824T200000
DTEND;TZID=Pacific/Honolulu:20240824T220000
DTSTAMP:20260424T171210
CREATED:20240820T221735Z
LAST-MODIFIED:20240820T231056Z
UID:44626-1724529600-1724536800@hawaiilgbtlegacyfoundation.com
SUMMARY:Paula Poundstone
DESCRIPTION:Paula Poundstone is a humorist\, author and comedian known for her clever\, observational humor and spontaneous wit. When she isn’t collecting hotel soaps while on tour or panel-ing on NPR’s #1 show\, Wait\, Wait…Don’t Tell Me!\, Paula hosts the popular Maximum Fun podcast\, Nobody Listens to Paula Poundstone. Nobody is a comedy field guide to life complete with taste tests\, cats of the weeks and leading experts in everything from beekeeping to ping pong to prosopagnosia (say that 3 times fast). \nPaula can be heard on the big screen as “Forgetter Paula” in Disney/Pixar’s Inside Out\, winner of the 2017 Academy Award for Best Animated Feature Film. She has also starred in her own series on both HBO and ABC\, is included on Comedy Central’s Top 100 Comics of All Time and won an American Comedy Award for Best Female Stand-Up. In February 2019\, Paula’s stand-up special\, Cats\, Cops and Stuff was named by TIME Magazine and Tig Notaro as one of The 5 Funniest Stand-Up Specials Ever. \nLearn more and purchase tickets here.
URL:https://hawaiilgbtlegacyfoundation.com/events/paula-poundstone/
LOCATION:Hawaii Theatre Center\, 1130 Bethel Street\, Honolulu\, 96813\, United States
ATTACH;FMTTYPE=image/png:https://hawaiilgbtlegacyfoundation.com/wp-content/uploads/2024/08/Paula-Poundstone-Hawaii-Aug-24.png
END:VEVENT
END:VCALENDAR