BEGIN:VCALENDAR
VERSION:2.0
PRODID:-//Hawaii LGBT Legacy Foundation - ECPv6.13.2.1//NONSGML v1.0//EN
CALSCALE:GREGORIAN
METHOD:PUBLISH
X-WR-CALNAME:Hawaii LGBT Legacy Foundation
X-ORIGINAL-URL:https://hawaiilgbtlegacyfoundation.com
X-WR-CALDESC:Events for Hawaii LGBT Legacy Foundation
REFRESH-INTERVAL;VALUE=DURATION:PT1H
X-Robots-Tag:noindex
X-PUBLISHED-TTL:PT1H
BEGIN:VTIMEZONE
TZID:Pacific/Honolulu
BEGIN:STANDARD
TZOFFSETFROM:-1000
TZOFFSETTO:-1000
TZNAME:HST
DTSTART:20230101T000000
END:STANDARD
END:VTIMEZONE
BEGIN:VTIMEZONE
TZID:Pacific/Honolulu
BEGIN:STANDARD
TZOFFSETFROM:-1000
TZOFFSETTO:-1000
TZNAME:HST
DTSTART:20230101T000000
END:STANDARD
END:VTIMEZONE
BEGIN:VEVENT
DTSTART;TZID=Pacific/Honolulu:20231201T173000
DTEND;TZID=Pacific/Honolulu:20231201T210000
DTSTAMP:20260419T015855
CREATED:20231120T235937Z
LAST-MODIFIED:20231121T000440Z
UID:42025-1701451800-1701464400@hawaiilgbtlegacyfoundation.com
SUMMARY:Jingle Balls Holiday Soirée
DESCRIPTION:Save the date\, Friday\, December 1\, for Jingle Balls\, an all LGBTQIA+ Sports League Holiday Soirée hosted by the Aikāne ʻOhana. \nJoin the community at Capitol Modern for an evening of camaraderie and celebration with members of Hawaiʻiʻs social and athletic groups including Hawaiʻi Queer Womxn\, Aloha State Softball\, Oʻahu Pride Volleyball\, Because Hawaiʻi\, Hawaiʻi Queer Surfers\, Rainbow Bowling Hawaiʻi\, Hawaiʻi Gay Kickball League\, Hawaiʻiʻs Queer Hiking & Activities\, The Aloha Bears\, Hawaiʻi Queer Golf Club\, and the Hawaiʻi Gay Flag Football League. \nThe event will also benefit Toys For Tots\, so be sure to bring something for the keiki! For more details\, visit the Aikāne ʻOhana website.
URL:https://hawaiilgbtlegacyfoundation.com/events/42025/
LOCATION:Capitol Modern: The Hawaiʻi State Art Museum\, 250 South Hotel Street\, Honolulu\, HI\, United States
ATTACH;FMTTYPE=image/jpeg:https://hawaiilgbtlegacyfoundation.com/wp-content/uploads/2023/11/Jingle-Balls-Aikane-ʻOhana.jpg
END:VEVENT
BEGIN:VEVENT
DTSTART;TZID=Pacific/Honolulu:20231201T180000
DTEND;TZID=Pacific/Honolulu:20231201T180000
DTSTAMP:20260419T015855
CREATED:20211029T001516Z
LAST-MODIFIED:20231106T215912Z
UID:33127-1701453600-1701453600@hawaiilgbtlegacyfoundation.com
SUMMARY:World AIDS Day Hawaiʻi
DESCRIPTION:Join the community for World AIDS Day Hawaiʻi at Church of the Crossroads on December 1 at 6pm. Gather together to honor those we have lost\, and to join the effort to reduce the harm and fight the stigma of HIV/AIDS. \nFor more information\, email the Hawai’i Health & Harm Reduction Centerʻs World AIDS Day Committee and learn more at World AIDS Day Hawaii.
URL:https://hawaiilgbtlegacyfoundation.com/events/world-aids-day-hawaii/
LOCATION:Church of the Crossroads\, 1212 University Avenue\, Honolulu\, HI\, 96826\, United States
ATTACH;FMTTYPE=image/png:https://hawaiilgbtlegacyfoundation.com/wp-content/uploads/2021/10/World-AIDS-Day-Oʻahu-2024.png
END:VEVENT
BEGIN:VEVENT
DTSTART;TZID=Pacific/Honolulu:20231201T190000
DTEND;TZID=Pacific/Honolulu:20231201T210000
DTSTAMP:20260419T015855
CREATED:20231106T213500Z
LAST-MODIFIED:20231106T214217Z
UID:41834-1701457200-1701464400@hawaiilgbtlegacyfoundation.com
SUMMARY:World AIDS Day Maui: A Concert of Hope
DESCRIPTION:Join the Maui ʻohana for an evening of gathering\, honoring\, and healing through music as Eric Gilliom\, Vince Esquire and Anthony Pfluke lift you up with hope and the sense of community.\n\n\n\n\n\nPanels from the AIDS quilt will be on display courtesy the National AIDS Memorial\, and new quilt blocks will be displayed representing Hawaii\, and honoring this day of impact\, progress\,  and awareness worldwide.\n\n\n\n\n\nTicket sales directly support a healthier future in Maui County through Maui AIDS Foundation’s (MAF) free community health services. This includes Mental Health\, Prevention Education\, Clinical Testing\, and Harm Reduction serving the houseless and at-risk Maui community.\n\n\n\nFor more information\, and to purchase tickets\, click here.
URL:https://hawaiilgbtlegacyfoundation.com/events/world-aids-day-maui-a-concert-of-hope/
LOCATION:Io Theatre\, 68 Market Street\, Wailuku\, 96793\, United States
ATTACH;FMTTYPE=image/jpeg:https://hawaiilgbtlegacyfoundation.com/wp-content/uploads/2023/11/Maui-World-AIDS-Day-2024.jpg
END:VEVENT
BEGIN:VEVENT
DTSTART;VALUE=DATE:20231203
DTEND;VALUE=DATE:20231204
DTSTAMP:20260419T015855
CREATED:20231030T234017Z
LAST-MODIFIED:20231121T192625Z
UID:41721-1701561600-1701647999@hawaiilgbtlegacyfoundation.com
SUMMARY:Nominations deadline: Women Who Mean Business
DESCRIPTION:The Pacific Business News Women Who Mean Business Awards is a celebration of the accomplishments of successful businesswomen throughout the state. PBN is looking for outstanding women from public and private companies of varying sizes\, nonprofits and startups who have made a difference in their businesses\, their industries and their communities. If you know a successful businesswoman who deserves special recognition for her contributions to the Hawaii business community\, let PBN know. Self-nominations are welcome\, but past honorees from the past 5 years are not eligible.  \nFor more information\, and make a nomination\, click here.
URL:https://hawaiilgbtlegacyfoundation.com/events/nominations-open-women-who-mean-business/
LOCATION:Online
ATTACH;FMTTYPE=image/jpeg:https://hawaiilgbtlegacyfoundation.com/wp-content/uploads/2023/10/Women-Who-Mean-Business-2024.jpg
END:VEVENT
BEGIN:VEVENT
DTSTART;VALUE=DATE:20231203
DTEND;VALUE=DATE:20231204
DTSTAMP:20260419T015855
CREATED:20231122T040915Z
LAST-MODIFIED:20231122T041739Z
UID:42045-1701561600-1701647999@hawaiilgbtlegacyfoundation.com
SUMMARY:Tinsel Up: GMCoH 2023 Holiday Concert
DESCRIPTION:Dive into the holiday season with an evening filled with music and merriment with the Gay Men’s Chorus of Honolulu on Sunday\, December 3 at Unity Church of Hawai’i. From traditional carols to contemporary favorites\, and with featured guests Lea Almanza\, Leslie Goldman and Starr Kalahiki\, let GMCoH be your guiding star to a magical Christmas. \nThere will be two shows–4pm and 7pm–and you can purchase your tickets here.
URL:https://hawaiilgbtlegacyfoundation.com/events/tinsel-up-gmcoh-2023-holiday-concert/
LOCATION:Unity Church of Hawaii\, 3608 Diamond Head Circle\, Honolulu\, 96815\, United States
ATTACH;FMTTYPE=image/png:https://hawaiilgbtlegacyfoundation.com/wp-content/uploads/2023/11/Screenshot-2023-11-21-at-6.03.23-PM.png
END:VEVENT
BEGIN:VEVENT
DTSTART;TZID=Pacific/Honolulu:20231207T120000
DTEND;TZID=Pacific/Honolulu:20231207T133000
DTSTAMP:20260419T015855
CREATED:20231204T203748Z
LAST-MODIFIED:20231204T204005Z
UID:42126-1701950400-1701955800@hawaiilgbtlegacyfoundation.com
SUMMARY:Virtual Lunch & Learn with Ryan Hew
DESCRIPTION:Join the Hawaiʻi Rainbow Chamber of Commerce for a virtual Lunch & Learn webinar with Attorney Ryan K. Hew to discuss an important new federal law impacting small business owners. Starting on January 1\, 2024\, the Corporate Transparency Act (CTA) will go into effect. This new law is directly aimed at owners of corporations\, LLCs\, and similar state-level registered entities\, and requires beneficial owners to file a report with the Financial Crime Enforcement Network (FinCEN). The purpose this is new law and requirement is to combat money laundering. This Beneficial Owners Information (BOI) report will force you to disclose information\, such as your full legal name and current residential address\, along with providing a valid identifying document (e.g.\, US Passport or state-issued driver’s license). \nTo become a member of the Hawaiʻi Rainbow Chamber of Commerce and to learn more about this webinar\, contact Kevin Martin at info@hirainbowchamber.org.
URL:https://hawaiilgbtlegacyfoundation.com/events/virtual-lunch-learn-with-ryan-hew/
LOCATION:Online
ATTACH;FMTTYPE=image/png:https://hawaiilgbtlegacyfoundation.com/wp-content/uploads/2023/12/Corporate-Transparency-Act.png
END:VEVENT
BEGIN:VEVENT
DTSTART;TZID=Pacific/Honolulu:20231208T203000
DTEND;TZID=Pacific/Honolulu:20231208T223000
DTSTAMP:20260419T015855
CREATED:20231122T042636Z
LAST-MODIFIED:20231208T201936Z
UID:42050-1702067400-1702074600@hawaiilgbtlegacyfoundation.com
SUMMARY:Dragged Off Broadway: Twas the Night Before a Big Gay Holiday
DESCRIPTION:Join Gay Island Guide & Dark Mirror Entertainment for Dragged Off Broadway: “Twas the Night Before a Big Gay Holiday” to benefit Arts at Marks Garage on Friday\, December 8th 8:30pm at Arts at Marks. An amazing show of music\, dance and laughter will get you into the holiday spirit while supporting a local non-profit venue that has been there for our community. \nFeaturing: Gay Men’s Chorus of Honolulu\, Aloha Bears\, Kalista Fox\, Aria Redi\, Lilith Satana\, Catherine D’Cantor\, Hayzel Nuttz\, Kanoa Keawe-Clute and more!\n\nAll Tickets Include: Welcome Drink\, Pupus\, Free Holiday Photo by Eric Martin Photography\, Fabulous Show and Free Entry to Scarlet Honolulu for Official After-Party!\n\nPurchase your tickets here.
URL:https://hawaiilgbtlegacyfoundation.com/events/dragged-off-broadway-twas-the-night-before-a-big-gay-holiday/
LOCATION:Arts At Marks Garage\, 1159 Nuuanu Ave\, Honolulu\, HI\, 96817\, United States
ATTACH;FMTTYPE=image/png:https://hawaiilgbtlegacyfoundation.com/wp-content/uploads/2023/11/Big-Gay-Holiday.png
GEO:21.313389;-157.858773
X-APPLE-STRUCTURED-LOCATION;VALUE=URI;X-ADDRESS=Arts At Marks Garage 1159 Nuuanu Ave Honolulu HI 96817 United States;X-APPLE-RADIUS=500;X-TITLE=1159 Nuuanu Ave:geo:-157.858773,21.313389
END:VEVENT
BEGIN:VEVENT
DTSTART;VALUE=DATE:20231209
DTEND;VALUE=DATE:20231210
DTSTAMP:20260419T015855
CREATED:20231128T184344Z
LAST-MODIFIED:20231128T184344Z
UID:42069-1702080000-1702166399@hawaiilgbtlegacyfoundation.com
SUMMARY:Susie Scorpio Ingénue Burlesque Show
DESCRIPTION:The Aphrodisiacs’ Headmistress Susie Scorpio is bringing back all the fan favorites from 2023’s Ingenue Shows with two performances (7pm and 9:30pm) on Saturday\, December 9th at the Arts at Marks. This specially curated showcase featuring Oahu’s blossoming burlesque beauties is for the grown and sexy: performance contains adult content and is intended for mature audiences. You must be 18 years of age to attend. \nFor more information and to purchase tickets\, click here.
URL:https://hawaiilgbtlegacyfoundation.com/events/susie-scorpio-ingenue-burlesque-show/
LOCATION:Arts At Marks Garage\, 1159 Nuuanu Ave\, Honolulu\, HI\, 96817\, United States
ATTACH;FMTTYPE=image/jpeg:https://hawaiilgbtlegacyfoundation.com/wp-content/uploads/2023/11/Ingenue-Burlesque.jpeg
GEO:21.313389;-157.858773
X-APPLE-STRUCTURED-LOCATION;VALUE=URI;X-ADDRESS=Arts At Marks Garage 1159 Nuuanu Ave Honolulu HI 96817 United States;X-APPLE-RADIUS=500;X-TITLE=1159 Nuuanu Ave:geo:-157.858773,21.313389
END:VEVENT
BEGIN:VEVENT
DTSTART;TZID=Pacific/Honolulu:20231213T090000
DTEND;TZID=Pacific/Honolulu:20231213T170000
DTSTAMP:20260419T015855
CREATED:20231130T175451Z
LAST-MODIFIED:20231206T182503Z
UID:42085-1702458000-1702486800@hawaiilgbtlegacyfoundation.com
SUMMARY:Amplified Harm: LGBTQ+ Disaster Displacement
DESCRIPTION:A new data analysis of the Census Bureau’s Household Pulse Survey Natural Data Tables found that LGBTQ+ disaster displacement is nearly 2x higher than cisgender\, heterosexual displacement\, and LGBTQ+ individuals are more likely to have negative experiences during and after disasters. In addition\, the data analysis underscores how these experiences are associated with state governments with higher amounts of anti-LGBTQ+ policies.\n\nJoin a Webinar and Learning Session on Amplified Harm: LGBTQ+ Disaster Displacement\, December 13th at 11am PST (9 am HT)\, in collaboration with the Federal Emergency Management Agency (FEMA) and other disaster experts to learn more.\n\nLink to Policy Brief and Recommendations:\nhttps://socialecology.uci.edu/news/amplified-harm-lgbtq-disaster-displacement\n\nThis new analysis further supports Chapter 15 Human Health and Chapter 28 Southwest (Wildfire section) of the recently published National Climate Assessment (NCA 5) — which have short sections on Sexual and Gender Minorities.\n  \nSpeakers include:\nJessica Geiger\, Claremont Graduate University\nJustin Knighten\, FEMA\nMaria Melo\, Pacific Pride Foundation\nAlex Keuroghlian\, Fenway Health\nMichael Mendez\, UC Irvine \nTo register\, click here.
URL:https://hawaiilgbtlegacyfoundation.com/events/amplified-harm-lgbtq-disaster-displacement/
LOCATION:Online
ATTACH;FMTTYPE=image/png:https://hawaiilgbtlegacyfoundation.com/wp-content/uploads/2023/11/LGBTQ-Disaster-calendar.png
END:VEVENT
BEGIN:VEVENT
DTSTART;TZID=Pacific/Honolulu:20231213T173000
DTEND;TZID=Pacific/Honolulu:20231213T190000
DTSTAMP:20260419T015855
CREATED:20231108T215431Z
LAST-MODIFIED:20231108T215712Z
UID:41895-1702488600-1702494000@hawaiilgbtlegacyfoundation.com
SUMMARY:ACLU Hawaiʻi Annual Meeting
DESCRIPTION:Come talk story at the ACLU of Hawaiʻi Annual Meeting & Celebration of the 232nd anniversary of the ratification of the Bill of Rights\, and learn how the organization is working to defend our civil rights and liberties. A brief business meeting will be followed by a presentation highlighting ACLU Hawaiʻi’s campaign priorities and work in the courts\, legislature\, and with communities over the past year. The event is free and open to the public. In-person and virtual reservations will receive detailed event information pending registration. Light refreshments will be provided for in-person attendees. \nFor more information\, and to register\, click here.
URL:https://hawaiilgbtlegacyfoundation.com/events/aclu-hawai%ca%bbi-annual-meeting/
LOCATION:Hawaiʻi Government Employees Association\, 888 Mililani Street\, Honolulu\, HI\, 96813\, United States
ATTACH;FMTTYPE=image/png:https://hawaiilgbtlegacyfoundation.com/wp-content/uploads/2023/11/ACLU-Hawaii-Annual-Meeting.png
END:VEVENT
BEGIN:VEVENT
DTSTART;TZID=Pacific/Honolulu:20231216T100000
DTEND;TZID=Pacific/Honolulu:20231216T113000
DTSTAMP:20260419T015855
CREATED:20231120T194755Z
LAST-MODIFIED:20231120T195036Z
UID:42015-1702720800-1702726200@hawaiilgbtlegacyfoundation.com
SUMMARY:Having YOUR Voice Heard
DESCRIPTION:The Stonewall Caucus is hosting a Zoom 2024 Legislative Training Session open to all members of the community on December 16 beginning at 10am. In preparation for the 2024 Hawaiʻi State Legislative Session\, beginning January 17\, 2024\, this free training webinar will help citizens learn how to submit testimony\, track bills and engage elected officials and their staff. For more information\, and to register\, click here. \nThe Stonewall Caucus is the first caucus of the Democratic Party of Hawaiʻi and Hawaiʻi’s largest and oldest LGBTQIA+ focused policy and political organization.
URL:https://hawaiilgbtlegacyfoundation.com/events/having-your-voice-heard/
LOCATION:Online
ATTACH;FMTTYPE=image/png:https://hawaiilgbtlegacyfoundation.com/wp-content/uploads/2023/11/Stonewall-Caucus-Voice-Heard-Training.png
END:VEVENT
BEGIN:VEVENT
DTSTART;TZID=Pacific/Honolulu:20231216T100000
DTEND;TZID=Pacific/Honolulu:20231216T130000
DTSTAMP:20260419T015855
CREATED:20231213T193458Z
LAST-MODIFIED:20231213T193601Z
UID:42151-1702720800-1702731600@hawaiilgbtlegacyfoundation.com
SUMMARY:Ho’omaluhia Botanical Gardens Walkabout and Picnic
DESCRIPTION:Join the Aloha Bears for this easy hike and picnic at Hoʻomaluhia Botanical Gardens.  A picturesque lake and walking trails are lead attractions on the 400-acre plot of land\, and being a botanical garden\, the park is also home to more than 65 tree species from across the globe\, all marked with descriptive plaques. Towering over the garden is the incomparable Koʻolau Mountain Range with its distinctly beveled grooves\, like a mammoth accordion. \nBring your own picnic and a blanket/picnic gear for lunch\, and then everyone is welcome to head to the beach after. For more information\, click here.
URL:https://hawaiilgbtlegacyfoundation.com/events/hoomaluhia-botanical-gardens-walkabout-and-byopicnic/
LOCATION:Ho’omaluhia Botanical Gardens
ATTACH;FMTTYPE=image/jpeg:https://hawaiilgbtlegacyfoundation.com/wp-content/uploads/2023/12/Aloha-Bears-Walkabout.jpg
END:VEVENT
BEGIN:VEVENT
DTSTART;TZID=Pacific/Honolulu:20231217T120000
DTEND;TZID=Pacific/Honolulu:20231217T150000
DTSTAMP:20260419T015855
CREATED:20231213T194413Z
LAST-MODIFIED:20231213T194448Z
UID:42156-1702814400-1702825200@hawaiilgbtlegacyfoundation.com
SUMMARY:HoMA Queer WalkStory and Family Art Day
DESCRIPTION:It’s Queer Art and Queer Family Day at HOMA with the Oʻahu Queer Hiking and Activities Group\, and itʻs a great time to see the new David Hockney retrospective exhibit. Held the third Sunday of every month\, Family Sunday presented by Bank of Hawai‘i Foundation features creative activities for keiki of all ages\, entertainment\, and community-focused programming across the museum. Museum admission for kamaʻāina is free from 10am–6pm. \nThe Oʻahu Queer Hiking and Activities Group will meet at 12pm just inside the museum in the main courtyard at the tables to the left and wander. If you are late\, just look for anyone wearing a rainbow heart sticker. For more information please contact Glenn at oahuqueerhiking@gmail.com.
URL:https://hawaiilgbtlegacyfoundation.com/events/homa-queer-walkstory-and-family-art-day/
LOCATION:Honolulu Museum of Art\, 900 S Beretania St\, Honolulu\, HI\, 96814\, United States
ATTACH;FMTTYPE=image/jpeg:https://hawaiilgbtlegacyfoundation.com/wp-content/uploads/2023/12/homa_1217.jpg
GEO:21.303833;-157.84944
X-APPLE-STRUCTURED-LOCATION;VALUE=URI;X-ADDRESS=Honolulu Museum of Art 900 S Beretania St Honolulu HI 96814 United States;X-APPLE-RADIUS=500;X-TITLE=900 S Beretania St:geo:-157.84944,21.303833
END:VEVENT
BEGIN:VEVENT
DTSTART;TZID=Pacific/Honolulu:20231223T180000
DTEND;TZID=Pacific/Honolulu:20231223T210000
DTSTAMP:20260419T015855
CREATED:20231208T193843Z
LAST-MODIFIED:20231208T193856Z
UID:42145-1703354400-1703365200@hawaiilgbtlegacyfoundation.com
SUMMARY:Kalanai Peʻa Hawaiian Christmas Show
DESCRIPTION:Kalani Pe‘a’s Hawaiian Christmas show\, with special guests Kumu Hula Shelsea Ai\, Hālau Lilia Makanoe\, Raiatea Helm and Mele Apana\, is a celebration of the warmth and special “aloha” of the Holiday Season\, sharing much-loved songs from both western and Hawaiian roots. A three-time Grammy winner\, Kalani is a charismatic performer with a gorgeous voice\, powerful presence\, and captivating style not-to-be-missed. \nThe first Hawaiian performer presented at Lincoln Center’s American Songbook\, he was recognized by his Hawai‘i peers most recently at the Na Hoku Hanohano (Hawai‘i’s “Grammy”) Awards\, winning honors for both Male Vocalist of the Year and Song of the Year. Self-described as “Hawaiian contemporary soul”\, Kalani’s dynamism and charm\, vocal brilliance\, and range of songs from Hawaiian to R&B has brought him to the forefront of Hawaiian music for both traditionalists and a new generation. Kalani will be releasing his first Christmas album in time for the 2023 holiday season. \nPurchase tickets here.
URL:https://hawaiilgbtlegacyfoundation.com/events/kalanai-pe%ca%bba-hawaiian-christmas-show/
LOCATION:Hawaii Theatre Center\, 1130 Bethel Street\, Honolulu\, 96813\, United States
ATTACH;FMTTYPE=image/png:https://hawaiilgbtlegacyfoundation.com/wp-content/uploads/2023/12/Kalani-Peʻa-Hawiian-Christmas-Show.png
END:VEVENT
BEGIN:VEVENT
DTSTART;TZID=Pacific/Honolulu:20231227T080000
DTEND;TZID=Pacific/Honolulu:20231227T170000
DTSTAMP:20260419T015855
CREATED:20231115T235030Z
LAST-MODIFIED:20231220T200245Z
UID:41962-1703664000-1703696400@hawaiilgbtlegacyfoundation.com
SUMMARY:Aikāne: Free Online Premiere
DESCRIPTION:Aikāne\, the award-winning animated short film\, is now available to stream for free at Them magazine. The film tells the tale of two queer lovers – a valiant warrior and his trusted shape-shifting advisor – as they battle against looming colonial forces. The idea originated with the Hawaiʻi-based filmmakers Dean Hamer and Joe Wilson\, and a small creative team helped bring it to life\, including animator Daniel Sousa\, who served as co-director\, and filmmaker Hinaleimoana Wong-Kalu\, a Kanaka Maoli activist who produced the project. Aikane draws broad inspiration from LGBTQ+ legends and cultures from across the world\, including the Celtic tradition in Ireland and ancient Greek myths. Ultimately\, though\, the story was born and crafted in Hawaii\, and its a universal queer love story rooted in Native Hawaiian tradition. \nFollow these links to watch the film\, read an interview with the filmmakers\, and learn more about the Aikāne project.
URL:https://hawaiilgbtlegacyfoundation.com/events/aikana-free-online-premiere/
LOCATION:them magazine
ATTACH;FMTTYPE=image/jpeg:https://hawaiilgbtlegacyfoundation.com/wp-content/uploads/2023/11/Aikane.jpg
END:VEVENT
END:VCALENDAR