BEGIN:VCALENDAR
VERSION:2.0
PRODID:-//Hawaii LGBT Legacy Foundation - ECPv6.13.2.1//NONSGML v1.0//EN
CALSCALE:GREGORIAN
METHOD:PUBLISH
X-ORIGINAL-URL:https://hawaiilgbtlegacyfoundation.com
X-WR-CALDESC:Events for Hawaii LGBT Legacy Foundation
REFRESH-INTERVAL;VALUE=DURATION:PT1H
X-Robots-Tag:noindex
X-PUBLISHED-TTL:PT1H
BEGIN:VTIMEZONE
TZID:Pacific/Honolulu
BEGIN:STANDARD
TZOFFSETFROM:-1000
TZOFFSETTO:-1000
TZNAME:HST
DTSTART:20230101T000000
END:STANDARD
END:VTIMEZONE
BEGIN:VTIMEZONE
TZID:America/Los_Angeles
BEGIN:DAYLIGHT
TZOFFSETFROM:-0800
TZOFFSETTO:-0700
TZNAME:PDT
DTSTART:20230312T100000
END:DAYLIGHT
BEGIN:STANDARD
TZOFFSETFROM:-0700
TZOFFSETTO:-0800
TZNAME:PST
DTSTART:20231105T090000
END:STANDARD
END:VTIMEZONE
BEGIN:VEVENT
DTSTART;TZID=Pacific/Honolulu:20230503T133000
DTEND;TZID=Pacific/Honolulu:20230503T150000
DTSTAMP:20260419T064902
CREATED:20230430T230549Z
LAST-MODIFIED:20230430T230549Z
UID:39134-1683120600-1683126000@hawaiilgbtlegacyfoundation.com
SUMMARY:Civil Cafe: Legislative Wrap Up
DESCRIPTION:This is the final installment of the Civil Cafe series covering the 2023 Hawaii State Legislature will take place in-person at the Hawaii State Capitol in room 329.  If you’re not able to join\, register to receive the post-event recording. This discussion will be hosted by reporters Kevin Dayton and Blaze Lovell. \nPanel:\nRepresentative Nadine Nakamura – House District 15\, House Majority Leader\nRepresentative Dee Morikawa – House District 17\, House Majority Floor Leader\nSenator Chris Lee – Senate District 25\, Senate Assistant Majority Whip \nIf you have questions for the panel\, please use this form to submit them or email membership@civilbeat.org
URL:https://hawaiilgbtlegacyfoundation.com/events/civil-cafe-legislative-wrap-up-2/
LOCATION:Hawaii State Capitol\, 415 South Beretania Street\, Honolulu\, HI\, 96813\, United States
ATTACH;FMTTYPE=image/jpeg:https://hawaiilgbtlegacyfoundation.com/wp-content/uploads/2023/04/Civil-Beat.jpg
END:VEVENT
BEGIN:VEVENT
DTSTART;TZID=Pacific/Honolulu:20230504T100000
DTEND;TZID=Pacific/Honolulu:20230504T120000
DTSTAMP:20260419T064902
CREATED:20230426T235026Z
LAST-MODIFIED:20230503T002954Z
UID:39123-1683194400-1683201600@hawaiilgbtlegacyfoundation.com
SUMMARY:2023 -2027 State Plan on Aging Presentation
DESCRIPTION:The Executive Office on Aging (EOA) is the designated lead agency in the coordination of a statewide system of aging and caregiver support services in the State of Hawai’i\, as authorized by federal and state laws. \nAll are welcome to provide input on the goals\, objectives\, and strategies of the 2023 – 2027 State Plan on Aging at their presentation on Thursday\, May 4\, 2023 from 10am-12pm at Harris United Methodist Church\, and online via Zoom. \nIf you have any questions\, please contact the Executive Office on Aging at (808) 586-0100.
URL:https://hawaiilgbtlegacyfoundation.com/events/2023-2027-state-plan-on-aging-presentation/
LOCATION:Online
ATTACH;FMTTYPE=image/png:https://hawaiilgbtlegacyfoundation.com/wp-content/uploads/2023/04/Hawaii-Exec-Office-on-Aging.png
END:VEVENT
BEGIN:VEVENT
DTSTART;TZID=Pacific/Honolulu:20230506T090000
DTEND;TZID=Pacific/Honolulu:20230506T120000
DTSTAMP:20260419T064902
CREATED:20230324T002027Z
LAST-MODIFIED:20230324T002433Z
UID:38969-1683363600-1683374400@hawaiilgbtlegacyfoundation.com
SUMMARY:Walk Story at Kapo‘o (Sharks Cove)
DESCRIPTION:Join the community on the Saturday\, May 6 Walk Story at the ecological treasure known as Kapoʻo\, or Sharks Cove\, located within the Pūpūkea Marine Life Conservation District on North Shore O’ahu. \nThe Walk Story\, hosted by the local nonprofit steward of the area Mālama Pūpūkea-Waimea\, is expected to take approximately two hours. Gather at 9:00am in the grassy area at the northeast end of Pūpūkea Beach Park (away from the tide pools and restroom facility). Due to the environmental sensitivity of the conservation district\, group size is limited to 30 participants. RSVPs will be accepted and confirmed on a first come\, first served basis. \nCheck out the details and RSVP here: https://shorturl.at/dntAV  Contact Joe Wilson of NSKDC with questions: (808) 629-9864 or QwavesJoe@yahoo.com\n\nLearn more about the North Shore Koʻolau Diversity Collective which is working to raise visibility and ensure that our rural Oʻahu communities are welcoming and inclusive of māhū and LGBTQ+ folks and allies.\n\nThis event is also sponsored by the Hawai’i & O’ahu Queer Hiking & Activities Group; Hawai’i Gay Kickball League; and Affirmation Hawai’i Chapter.
URL:https://hawaiilgbtlegacyfoundation.com/events/walk-story-at-kapoo-sharks-cove/
LOCATION:Pūpūkea Beach Park\, 59-727 Kamehameha Hwy\, Haleiwa\, HI\, United States
ATTACH;FMTTYPE=image/jpeg:https://hawaiilgbtlegacyfoundation.com/wp-content/uploads/2023/03/Sharkʻs-Cove-Kapʻo-Beach-Cleanup.jpg
END:VEVENT
BEGIN:VEVENT
DTSTART;TZID=Pacific/Honolulu:20230506T103000
DTEND;TZID=Pacific/Honolulu:20230506T143000
DTSTAMP:20260419T064903
CREATED:20230422T011045Z
LAST-MODIFIED:20230422T011045Z
UID:39079-1683369000-1683383400@hawaiilgbtlegacyfoundation.com
SUMMARY:Hawaii Gay Flag Football League: Season 11 Week Four
DESCRIPTION:The Hawaii Gay Flag Football Leagueʻs 11th season is off and running with games on Saturdays at Kapiʻolani Park at 10:30am and 12:30pm.\n\nThe HIGFFL 2023 championship games will be held on June 10th.\n\nThe 2023 season features 8 teams and 112 players\, with tongue-in-cheek team names nodding to their “give-back” for the year – monthly food drives.\n\nAll are welcome to the games\, and all are welcome to contribute to HIGFFLʻs food drives on April 22\, May 13\, and June 3.\n\nFor more information\, visit the HIGFFL website.
URL:https://hawaiilgbtlegacyfoundation.com/events/hawaii-gay-flag-football-league-season-11-week-four/
LOCATION:Kapiolani Regional Park\, 3840 Paki Avenue\, Honolulu\, HI\, 96815\, United States
ATTACH;FMTTYPE=image/png:https://hawaiilgbtlegacyfoundation.com/wp-content/uploads/2023/04/HIGFFL-logo.png
END:VEVENT
BEGIN:VEVENT
DTSTART;TZID=Pacific/Honolulu:20230507T150000
DTEND;TZID=Pacific/Honolulu:20230507T160000
DTSTAMP:20260419T064903
CREATED:20230417T225237Z
LAST-MODIFIED:20230417T225317Z
UID:39025-1683471600-1683475200@hawaiilgbtlegacyfoundation.com
SUMMARY:Mimosas & Marys: Chicks In Space
DESCRIPTION:MIMOSAS & MARYS is a monthly\, Sunday Funday\, Daytime Drag and Variety Show starring the multitalented\, singing drag queen and comedienne Candi Shell who has\, among her comedy credits\, opened for Joan Rivers and appeared in the prime time TV Show “Ugly Betty”.  MIMOSAS & MARYS keeps you entertained and thirsty for more with a revolving cast of Variety\, Drag\, and Comedy acts including live vocal talent. \nFall in love with Candi and her cast of confections while enjoying refreshing cocktail specials. Seating starts at 2:00 P.M.
URL:https://hawaiilgbtlegacyfoundation.com/events/mimosas-marys-chicks-in-space/
LOCATION:Hula’s Bar & Lei Stand\, 134 Kapahulu Ave\, Honolulu\, HI\, 96815\, United States
ATTACH;FMTTYPE=image/jpeg:https://hawaiilgbtlegacyfoundation.com/wp-content/uploads/2023/04/Chicks-In-Space-calendar.jpg
END:VEVENT
BEGIN:VEVENT
DTSTART;TZID=Pacific/Honolulu:20230508T100000
DTEND;TZID=Pacific/Honolulu:20230508T110000
DTSTAMP:20260419T064903
CREATED:20230501T220233Z
LAST-MODIFIED:20230501T220252Z
UID:39138-1683540000-1683543600@hawaiilgbtlegacyfoundation.com
SUMMARY:SMP Hawaii: Scam Free in 2023
DESCRIPTION:Join Senior Medical Patrol Hawaii for the final presentation of their web series on fraud and abuse and learn: The Dimensions of Fraud L x W x D; how to Protect Your Personal Identity\, and how to move From Loss to Legacy: Changing Our Narrative Now. \nPresenters include: \nBrian Lee\, General Investigator (GI) with the U.S. Department of Health and Human Services \nRandy Lawrence\, Outreach Coordinator for the ID Theft Resource Center \nMona Terry\, Chief Victims Officer at the ITRC\, the Interstate Technology and Regulatory Council. \nFor more information\, and to register\, click here.
URL:https://hawaiilgbtlegacyfoundation.com/events/smp-hawaii-scam-free-in-2023/
LOCATION:Online
ATTACH;FMTTYPE=image/jpeg:https://hawaiilgbtlegacyfoundation.com/wp-content/uploads/2023/05/SMP-Hawaii.jpg
END:VEVENT
BEGIN:VEVENT
DTSTART;TZID=Pacific/Honolulu:20230513T103000
DTEND;TZID=Pacific/Honolulu:20230513T143000
DTSTAMP:20260419T064903
CREATED:20230422T011336Z
LAST-MODIFIED:20230422T011336Z
UID:39082-1683973800-1683988200@hawaiilgbtlegacyfoundation.com
SUMMARY:Hawaii Gay Flag Football League: Season 11 Week Five
DESCRIPTION:The Hawaii Gay Flag Football Leagueʻs 11th season is off and running with games on Saturdays at Kapiʻolani Park at 10:30am and 12:30pm.\n\nThe HIGFFL 2023 championship games will be held on June 10th.\n\nThe 2023 season features 8 teams and 112 players\, with tongue-in-cheek team names nodding to their “give-back” for the year – monthly food drives.\n\nAll are welcome to the games\, and all are welcome to contribute to HIGFFLʻs food drives on April 22\, May 13\, and June 3.\n\nFor more information\, visit the HIGFFL website.
URL:https://hawaiilgbtlegacyfoundation.com/events/hawaii-gay-flag-football-league-season-11-week-five/
LOCATION:Kapiolani Regional Park\, 3840 Paki Avenue\, Honolulu\, HI\, 96815\, United States
ATTACH;FMTTYPE=image/png:https://hawaiilgbtlegacyfoundation.com/wp-content/uploads/2023/04/HIGFFL-logo.png
END:VEVENT
BEGIN:VEVENT
DTSTART;TZID=Pacific/Honolulu:20230513T140000
DTEND;TZID=Pacific/Honolulu:20230513T180000
DTSTAMP:20260419T064903
CREATED:20230420T205544Z
LAST-MODIFIED:20240418T221112Z
UID:39029-1683986400-1684000800@hawaiilgbtlegacyfoundation.com
SUMMARY:Lesbian Events Hawaiʻi Meetup
DESCRIPTION:Lesbian Events Hawaiʻi\, a group helping to facilitate lesbian events and build community in the Hawaiian Islands\, is getting together for a special Mothers Day celebration Meetup at Kailua Beach Park on Saturday\, May 13th from 2pm – 6pm. Learn more about the group on Meetup. \n 
URL:https://hawaiilgbtlegacyfoundation.com/events/lesbian-events-hawai%ca%bbi-meetup/
LOCATION:Kailua Beach Park\, 526 Kawailoa Rd\, Kailua\, Hawaii\, 96734
ATTACH;FMTTYPE=image/png:https://hawaiilgbtlegacyfoundation.com/wp-content/uploads/2023/04/Lesbian-Events-Hawaii.png
END:VEVENT
BEGIN:VEVENT
DTSTART;TZID=America/Los_Angeles:20230516T080000
DTEND;TZID=America/Los_Angeles:20230516T090000
DTSTAMP:20260419T064903
CREATED:20230417T215918Z
LAST-MODIFIED:20230417T224437Z
UID:39020-1684224000-1684227600@hawaiilgbtlegacyfoundation.com
SUMMARY:Financial Wellness & Older LGBTQ+ People
DESCRIPTION:Join SAGE\, the National Center on Elder Abuse (NCEA)\, the Consumer Financial Protection Bureau (CFPB)\, and the Federal Trade Commission (FTC) for a webinar on financial wellness for LGBTQ+ older adults. \nLearn more about: \n* SAGE’s financial wellness app\, SAGECents\, and how SAGE is creating a safe space for older LGBTQ+ people to learn more about their finances\, as well as provide tools to save money\, increase their credit scores and more! \n* FTC’s new consumer education campaign – Money Matters: How to Spot\, Avoid\, and Report Scams at FTC.gov/MoneyMatters. \n* CFPB’s resources for financial caregiving\, scam prevention\, recovery from elder financial exploitation\, and financial wellbeing. \n* NCEA’s resources for identifying suspected older adult financial fraud and how to seek support in your local community. \nTo register\, click here.
URL:https://hawaiilgbtlegacyfoundation.com/events/financial-wellness-older-lgbtq-people/
LOCATION:Online
ATTACH;FMTTYPE=image/png:https://hawaiilgbtlegacyfoundation.com/wp-content/uploads/2023/04/SAGE-Financial-Wellness-calendar.png
END:VEVENT
BEGIN:VEVENT
DTSTART;TZID=America/Los_Angeles:20230519T140000
DTEND;TZID=America/Los_Angeles:20230519T150000
DTSTAMP:20260419T064903
CREATED:20230426T000920Z
LAST-MODIFIED:20230426T000940Z
UID:39119-1684504800-1684508400@hawaiilgbtlegacyfoundation.com
SUMMARY:LGB&T Cultural Humility - Knowing Our Place
DESCRIPTION:LGB&T Cultural Humility training is designed to increase knowledge and skills to effectively interact with LGB&T people\, as well as support and provide affirming care and support. \nThis training integrates the unique viewpoints of local and Hawaii culture as related to māhū. Utilizing the unique viewpoints of our Hawaiian and local cultures\, we aim to increase humility and capacity for understanding when engaging with our most vulnerable populations. \nLearning objectives: At the end of this training\, participants will: \n1. Have an increased understanding about the culture\, family values and place of our Native Hawaiian māhū community; \n2. Have an increased understanding of the differences between cultural and western views of our LGB&T community; \n3. Increased ability to tailor existing services and support to better meet the needs of our LGB&T and māhū communities. \nPresented by Kunane Dreier\, Director of Training and Program Development and Maddalyn Sesepasara\, Kua’ana Project Manger at Hawaii Health & Harm Reduction Center. \nLearn more and register here.
URL:https://hawaiilgbtlegacyfoundation.com/events/lgbt-cultural-humility-knowing-our-place/
LOCATION:Online
ATTACH;FMTTYPE=image/png:https://hawaiilgbtlegacyfoundation.com/wp-content/uploads/2023/04/HPHI-LGBT.png
END:VEVENT
BEGIN:VEVENT
DTSTART;VALUE=DATE:20230520
DTEND;VALUE=DATE:20230521
DTSTAMP:20260419T064903
CREATED:20230506T023616Z
LAST-MODIFIED:20230509T024401Z
UID:39168-1684540800-1684627199@hawaiilgbtlegacyfoundation.com
SUMMARY:Down and Derby
DESCRIPTION:Pacific Roller Derby is Hawai’i’s first WFTDA league and the only WFTDA league located on O’ahu\, and theyʻre having a fundraiser at Atlas Bar & Nightclubʻs Lesbian Night on Saturday\, May 20 from 9pm-2am. \nDonʻt miss Down and Derby: Atlas Honolulu & Pacfic Roller Derby Queens Go King for a great night of “Good Vibes Only” while supporting this womenʻs athletic league thatʻs always supported the LGBTQIA+ community as an inclusive space\, where all bodies and all abilities are welcome. \nAnd give a big “mahalo” to the Derby Queens who always rock the Balloons on Wheels at the annual Honolulu Pride Parade! \nFor more information\, click here.
URL:https://hawaiilgbtlegacyfoundation.com/events/down-and-derby/
LOCATION:Atlas Honolulu\, 2012 S. Beretania\, Honolulu\, 96826\, United States
ATTACH;FMTTYPE=image/png:https://hawaiilgbtlegacyfoundation.com/wp-content/uploads/2023/05/Pacific-Roller-Derby-LOGO-calendar.png
END:VEVENT
BEGIN:VEVENT
DTSTART;TZID=Pacific/Honolulu:20230520T103000
DTEND;TZID=Pacific/Honolulu:20230520T143000
DTSTAMP:20260419T064903
CREATED:20230422T011706Z
LAST-MODIFIED:20230422T011706Z
UID:39086-1684578600-1684593000@hawaiilgbtlegacyfoundation.com
SUMMARY:Hawaii Gay Flag Football League: Season 11 Week Six
DESCRIPTION:The Hawaii Gay Flag Football Leagueʻs 11th season is off and running with games on Saturdays at Kapiʻolani Park at 10:30am and 12:30pm.\n\nThe HIGFFL 2023 championship games will be held on June 10th.\n\nThe 2023 season features 8 teams and 112 players\, with tongue-in-cheek team names nodding to their “give-back” for the year – monthly food drives.\n\nAll are welcome to the games\, and all are welcome to contribute to HIGFFLʻs food drives on April 22\, May 13\, and June 3.\n\nFor more information\, visit the HIGFFL website.
URL:https://hawaiilgbtlegacyfoundation.com/events/hawaii-gay-flag-football-league-season-11-week-six/
LOCATION:Kapiolani Regional Park\, 3840 Paki Avenue\, Honolulu\, HI\, 96815\, United States
ATTACH;FMTTYPE=image/png:https://hawaiilgbtlegacyfoundation.com/wp-content/uploads/2023/04/HIGFFL-logo.png
END:VEVENT
BEGIN:VEVENT
DTSTART;TZID=Pacific/Honolulu:20230521T160000
DTEND;TZID=Pacific/Honolulu:20230521T180000
DTSTAMP:20260419T064903
CREATED:20230506T013601Z
LAST-MODIFIED:20230506T022203Z
UID:39159-1684684800-1684692000@hawaiilgbtlegacyfoundation.com
SUMMARY:Lesbian-Events-Hawaiʻi Bookclub
DESCRIPTION:A year ago the Lesbian-Events-Hawaii Bookclub started meeting once a month on Sunday evenings\, and the first book discussed was The Four Agreements by Don Miguel Ruiz. The group is bringing back Bookclub and returning to the beginning of their literary journey together by revisiting the book. \nLesbian-Events-Hawaii welcomes members of the community to join them. Meet at one of the large outdoor tables at Whole Foods Market Kakaʻako to discuss the book\, share snacks and brainstorm ideas for other books to explore with the group in the future. \nQuestions or suggestions? Contact Lisa at 773-512-4982 or Maheshi at 808-430-6290.
URL:https://hawaiilgbtlegacyfoundation.com/events/lesbian-events-hawai%ca%bbi-bookclub/
LOCATION:Whole Foods\, 388 Kamakee Street\, Honolulu\, 96814\, United States
ATTACH;FMTTYPE=image/png:https://hawaiilgbtlegacyfoundation.com/wp-content/uploads/2023/05/Lesbian-Events-Hawaii-Bookclub.png
END:VEVENT
BEGIN:VEVENT
DTSTART;VALUE=DATE:20230524
DTEND;VALUE=DATE:20230525
DTSTAMP:20260419T064903
CREATED:20230228T221629Z
LAST-MODIFIED:20230522T193218Z
UID:38785-1684886400-1684972799@hawaiilgbtlegacyfoundation.com
SUMMARY:LGBTQIA+ Kūpuna Survey
DESCRIPTION:Help the Hawaiʻi LGBT Legacy Foundationʻs new Kūpuna Project understand how we can better serve LGBTQIA+ elders in Hawaiʻi. If youʻre an older LGBTQIA+ adult living in Hawaiʻi\, please take our short survey. And/or share it with your kūpuna colleagues\, friends and family. \nThe Kūpuna Project is a new committee formed to help address the challenges LGBTQIA+ kūpuna face in Hawai’i. In 2023\, the Kūpuna Committee will be focusing on participating in and learning from groups like the Kūpuna Collective and the Kūpuna Caucus\, and on bringing greater awareness to\, and gathering feedback from\, our LGBTQIA+ kūpuna. \nTo take the survey\, click here. \n  \n 
URL:https://hawaiilgbtlegacyfoundation.com/events/lgbtqia-kupuna-survey/
LOCATION:Online
ATTACH;FMTTYPE=image/png:https://hawaiilgbtlegacyfoundation.com/wp-content/uploads/2023/02/HLLF-KUPUNA-survey-Calendar.png
END:VEVENT
BEGIN:VEVENT
DTSTART;VALUE=DATE:20230525
DTEND;VALUE=DATE:20230526
DTSTAMP:20260419T064903
CREATED:20230428T011358Z
LAST-MODIFIED:20230522T193110Z
UID:39127-1684972800-1685059199@hawaiilgbtlegacyfoundation.com
SUMMARY:May 12-28: ARTXCHANGE
DESCRIPTION:The Hawai‘i Contemporary artXchange fundraiser features an online silent Art Auction\, presenting a selection of works by notable visual artists from Hawai‘i\, the Pacific\, and beyond\, who support Hawai‘i Contemporary and its mission. More than 50 artworks will be available for sale online\, as well as on view at a weeklong Public Viewing in Waikīkī. \nComplementing the Public Viewing are free public programming and Young Contemporaries\, a student exhibition and art sale. Hawai‘i Contemporary is  kicking off their first-ever artXchange with a special\, ticketed Benefit Experience and looks forward to welcoming audiences at Royal Hawaiian Center in Waikīkī for a week-long viewing and public programming. \nHawai‘i Contemporary seeks to create an accessible gateway for contemporary art in Hawai‘i nei. Through community-backed collaboration\, their work — including the Triennial\, Art Summit\, professional development opportunities\, and year-round public programming centered around contemporary art and ideas — contributes to a vibrant visual arts ecosystem in Hawai‘i. \nLearn more by clicking here.
URL:https://hawaiilgbtlegacyfoundation.com/events/may-12-28-artxchange/
LOCATION:Royal Hawaiian Center\, 2201 Kalākaua Ave\, Honolulu\, 96815\, United States
ATTACH;FMTTYPE=image/jpeg:https://hawaiilgbtlegacyfoundation.com/wp-content/uploads/2023/04/artXchange.jpg
END:VEVENT
BEGIN:VEVENT
DTSTART;VALUE=DATE:20230527
DTEND;VALUE=DATE:20230528
DTSTAMP:20260419T064903
CREATED:20230503T012856Z
LAST-MODIFIED:20230522T193330Z
UID:39151-1685145600-1685231999@hawaiilgbtlegacyfoundation.com
SUMMARY:HI SIS Trans Community Peer Support Groups
DESCRIPTION:HI SIS is now offering community groups for Trans Folks on the second Saturday of the month starting May 13th and People living with PCOS on the third Saturday of each month starting May 20th. They are encouraging people to RSVP\, although it is not required. \nHI SIS was founded as an organization to fill in a specific gap to care–electrolysis–and offers services at reduced rates\, as part of a broader public health movement to advance health equity. \nGet more information at www.hisis.org.
URL:https://hawaiilgbtlegacyfoundation.com/events/hi-sis-trans-community-peer-support-groups/
LOCATION:HI SIS
ATTACH;FMTTYPE=image/png:https://hawaiilgbtlegacyfoundation.com/wp-content/uploads/2023/05/HI-SIS-community-groups.png
END:VEVENT
BEGIN:VEVENT
DTSTART;TZID=America/Los_Angeles:20230527T080000
DTEND;TZID=America/Los_Angeles:20230527T170000
DTSTAMP:20260419T064903
CREATED:20230422T011855Z
LAST-MODIFIED:20230522T192944Z
UID:39089-1685174400-1685206800@hawaiilgbtlegacyfoundation.com
SUMMARY:Hawaii Gay Flag Football League: Season 11 Week Seven
DESCRIPTION:The Hawaii Gay Flag Football Leagueʻs 11th season is off and running with games on Saturdays at Kapiʻolani Park at 10:30am and 12:30pm.\n\nThe HIGFFL 2023 championship games will be held on June 10th.\n\nThe 2023 season features 8 teams and 112 players\, with tongue-in-cheek team names nodding to their “give-back” for the year – monthly food drives.\n\nAll are welcome to the games\, and all are welcome to contribute to HIGFFLʻs food drives on April 22\, May 13\, and June 3.\n\nFor more information\, visit the HIGFFL website.
URL:https://hawaiilgbtlegacyfoundation.com/events/hawaii-gay-flag-football-league-season-11-week-seven/
LOCATION:Kapiolani Regional Park\, 3840 Paki Avenue\, Honolulu\, HI\, 96815\, United States
ATTACH;FMTTYPE=image/png:https://hawaiilgbtlegacyfoundation.com/wp-content/uploads/2023/04/HIGFFL-logo.png
END:VEVENT
BEGIN:VEVENT
DTSTART;TZID=Pacific/Honolulu:20230529T183000
DTEND;TZID=Pacific/Honolulu:20230529T193000
DTSTAMP:20260419T064903
CREATED:20230503T043301Z
LAST-MODIFIED:20230503T043857Z
UID:39155-1685385000-1685388600@hawaiilgbtlegacyfoundation.com
SUMMARY:Shinnyo Lantern Floating Hawaiʻi
DESCRIPTION:Shinnyo Lantern Floating Hawaiʻi returns to Ala Moana Beach on May 29\, 2023 as an in-person ceremony. “Shinnyo Lantern Floating Hawaiʻi is a ceremony of personal and collective remembrance\, reflection\, and offering gratitude to all who have supported us. We are strengthened as a community as we uncover our common values through supporting one another.” \nIn pre-pandemic years\, Shinnyo Lantern Floating Hawaiʻi brought together an estimated 50\,000 people at Ala Moana Beach who were joined by thousands from around the world via live streaming and telecast to honor of loved ones while generating collective hope toward the future. \nLearn more about Shinnyo Lantern Floating Hawaiʻi\, and how to participate\, by clicking here.
URL:https://hawaiilgbtlegacyfoundation.com/events/shinnyo-lantern-floating-hawai%ca%bbi/
LOCATION:Ala Moana Beach Park\, 1201 Ala Moana Blvd\, Honolulu\, 96814\, United States
ATTACH;FMTTYPE=image/png:https://hawaiilgbtlegacyfoundation.com/wp-content/uploads/2023/05/Shinnyo-Lantern-Floating.png
END:VEVENT
END:VCALENDAR