BEGIN:VCALENDAR
VERSION:2.0
PRODID:-//Hawaii LGBT Legacy Foundation - ECPv6.13.2.1//NONSGML v1.0//EN
CALSCALE:GREGORIAN
METHOD:PUBLISH
X-ORIGINAL-URL:https://hawaiilgbtlegacyfoundation.com
X-WR-CALDESC:Events for Hawaii LGBT Legacy Foundation
REFRESH-INTERVAL;VALUE=DURATION:PT1H
X-Robots-Tag:noindex
X-PUBLISHED-TTL:PT1H
BEGIN:VTIMEZONE
TZID:Pacific/Honolulu
BEGIN:STANDARD
TZOFFSETFROM:-1000
TZOFFSETTO:-1000
TZNAME:HST
DTSTART:20230101T000000
END:STANDARD
END:VTIMEZONE
BEGIN:VTIMEZONE
TZID:America/Los_Angeles
BEGIN:DAYLIGHT
TZOFFSETFROM:-0800
TZOFFSETTO:-0700
TZNAME:PDT
DTSTART:20230312T100000
END:DAYLIGHT
BEGIN:STANDARD
TZOFFSETFROM:-0700
TZOFFSETTO:-0800
TZNAME:PST
DTSTART:20231105T090000
END:STANDARD
END:VTIMEZONE
BEGIN:VEVENT
DTSTART;TZID=Pacific/Honolulu:20230401T090000
DTEND;TZID=Pacific/Honolulu:20230401T110000
DTSTAMP:20260419T064904
CREATED:20230316T030415Z
LAST-MODIFIED:20230316T030619Z
UID:38917-1680339600-1680346800@hawaiilgbtlegacyfoundation.com
SUMMARY:Your Mental Health Is No Joke
DESCRIPTION:Join the Hawaii Rainbow Chamber of Commerce for their first event of 2023. Get together for a breakfast and panel discussion on mental health and the impact on the LGBTQ+ community\, and learn what tools and resources are available to you when you need it. With Kevin Moran (SafeHaus Conseling & Coaching)\, Amanda Martinez\, MPH (Mental Health of American Hawaiʻi) and Alex Vidrio (Waikiki Health). \nFor more information\, contact Winston Welch at the Hawaiʻi Rainbow Chamber of Commerce.
URL:https://hawaiilgbtlegacyfoundation.com/events/your-mental-health-is-no-joke/
LOCATION:Dave & Busters\, 1030 Auahi St\, Honolulu\, 96814\, United States
ATTACH;FMTTYPE=image/png:https://hawaiilgbtlegacyfoundation.com/wp-content/uploads/2023/03/HiRCC-Mental-Health-No-Joke-calendar.png
END:VEVENT
BEGIN:VEVENT
DTSTART;TZID=Pacific/Honolulu:20230401T110000
DTEND;TZID=Pacific/Honolulu:20230401T180000
DTSTAMP:20260419T064904
CREATED:20230317T220543Z
LAST-MODIFIED:20230317T220730Z
UID:38935-1680346800-1680372000@hawaiilgbtlegacyfoundation.com
SUMMARY:Hanohano Kūhiō
DESCRIPTION:He Fenua International in collaboration with Waiwai Collective presents Hanohano Kūhiō 2023\, a celebration of Ke Aliʻi Makaʻāinana and Native Hawaiian Excellence. \nThis an all ages event for the whole family to enjoy\, featuring live music by some of Hawaiʻis most beloved Hawaiian music\, singers\, local retail & food vendors. \nPerformances by Uheuhene – Led Kaapana & The Ohana Serenaders – Raiatea Helm – The Lim Family – Nahe – Kalani Peʻa and Hālau o Kamuela – Pōmaikaʻi Keawe Lyman – and more special guests! \nPaid tickets grant access to the indoor concert. There will also be an outdoor market in the parking lot that is free to the public. \nLearn more and purchase tickets here.
URL:https://hawaiilgbtlegacyfoundation.com/events/hanohano-kuhio/
LOCATION:Ka Waiwai ma Mō’ili’ili\, 1110 University Avenue\, Honolulu\, HI\, 96826\, United States
ATTACH;FMTTYPE=image/png:https://hawaiilgbtlegacyfoundation.com/wp-content/uploads/2023/03/Hanohano-Kuhio.png
GEO:21.285968;-157.827389
X-APPLE-STRUCTURED-LOCATION;VALUE=URI;X-ADDRESS=Ka Waiwai ma Mō’ili’ili 1110 University Avenue Honolulu HI 96826 United States;X-APPLE-RADIUS=500;X-TITLE=1110 University Avenue:geo:-157.827389,21.285968
END:VEVENT
BEGIN:VEVENT
DTSTART;VALUE=DATE:20230403
DTEND;VALUE=DATE:20230404
DTSTAMP:20260419T064904
CREATED:20230213T211523Z
LAST-MODIFIED:20230403T210802Z
UID:38636-1680480000-1680566399@hawaiilgbtlegacyfoundation.com
SUMMARY:March 6 - April 4: Queerphoria
DESCRIPTION:Queerphoria is a short series (including Zoom sessions) about queer identity and experience hosted by a group of University of Hawaiʻi students\, faculty\, and staff throughout March and into the first week of April. Sessions are open to the public and will cover topics including “Hoʻomāhū: Rethinking Gender in Māhū”\, “Ace\, Grace Indigeneous Space: Asexuality as Resistance”\, and “Coming Out When the World Wonʻt Let You”\, among others. \nSee the full schedule here. \n 
URL:https://hawaiilgbtlegacyfoundation.com/events/queerphoria/
LOCATION:Online
ATTACH;FMTTYPE=image/jpeg:https://hawaiilgbtlegacyfoundation.com/wp-content/uploads/2023/02/Queerphoria-1.jpg
END:VEVENT
BEGIN:VEVENT
DTSTART;TZID=Pacific/Honolulu:20230403T190000
DTEND;TZID=Pacific/Honolulu:20230403T213000
DTSTAMP:20260419T064904
CREATED:20200428T215124Z
LAST-MODIFIED:20230330T224912Z
UID:24952-1680548400-1680557400@hawaiilgbtlegacyfoundation.com
SUMMARY:Bacchus Trivia Night
DESCRIPTION:It’s Bacchus Trivia Night Live in Person at 408 Lewers. Everyone’s welcome to join at the bar for trivia every other Monday night at 7pm where teams of 2-6 players are quizzed on a wide variety of themed topics. The winning teams get prizes that vary from cash and gift certificates to swag and doo-hickeys!\n\n\nClick here.
URL:https://hawaiilgbtlegacyfoundation.com/events/bacchus-monday-trivia-night/
LOCATION:Bacchus Waikiki\, 408 Lewers Street\, Honolulu\, HI\, United States
ATTACH;FMTTYPE=image/jpeg:https://hawaiilgbtlegacyfoundation.com/wp-content/uploads/2020/04/Bacchus-Trivia-So-Dreamy.jpg
GEO:21.278417;-157.831678
X-APPLE-STRUCTURED-LOCATION;VALUE=URI;X-ADDRESS=Bacchus Waikiki 408 Lewers Street Honolulu HI United States;X-APPLE-RADIUS=500;X-TITLE=408 Lewers Street:geo:-157.831678,21.278417
END:VEVENT
BEGIN:VEVENT
DTSTART;VALUE=DATE:20230406
DTEND;VALUE=DATE:20230407
DTSTAMP:20260419T064904
CREATED:20220815T021438Z
LAST-MODIFIED:20230403T210837Z
UID:36688-1680739200-1680825599@hawaiilgbtlegacyfoundation.com
SUMMARY:Through April 9: La Cage aux Folles | Diamond Head Theatre
DESCRIPTION:Georges is the manaager of a Saint-Tropez drag queen nightclub. Albin is his romantic partner and the star of the show. Jean-Michel\, Georgesʻ son from a brief heterosexual relationship\, is getting married\, and his fianceeʻs parents want to meet his parents — the problem is they donʻt know that Jean-Michelʻs parents are gay men. \nTo purchases tickets\, click here.
URL:https://hawaiilgbtlegacyfoundation.com/events/la-cage-aux-folles-diamond-head-theatre/
LOCATION:Diamond Head Theatre
ATTACH;FMTTYPE=image/jpeg:https://hawaiilgbtlegacyfoundation.com/wp-content/uploads/2022/08/La-Cage-aux-Folles.jpg
END:VEVENT
BEGIN:VEVENT
DTSTART;TZID=America/Los_Angeles:20230406T153000
DTEND;TZID=America/Los_Angeles:20230406T170000
DTSTAMP:20260419T064904
CREATED:20230404T232721Z
LAST-MODIFIED:20230404T232949Z
UID:38999-1680795000-1680800400@hawaiilgbtlegacyfoundation.com
SUMMARY:Centering and Celebrating Cultures in Health
DESCRIPTION:National Public Health Week is an opportunity for health professionals\, organizations\, individuals and communities to engage and navigate the changing world of public health. Join the community as we celebrate National Public Health Week in Hawaiʻi on Thursday\, April 6th from 3:30pm to 5:00pm with a special event and panel discussion addressing “Centering and Celebrating Cultures in Health.”  \nHeld via Zoom\, the event will feature speakers representing and discussing:• HIV/ AIDS Impact & Prevalence in the Native Hawaiian Community • Raymond (Pono) Alejo • Kekoa Kealoha • Transgender Community Discussion Featuring the Kua’ana Project • Maddalynn (Maddie) Sesepasara • Shalani Placencia • Maddison Moliga • Youth Mental Health • Dr. Mestisa Gass \nLearn more and register here.
URL:https://hawaiilgbtlegacyfoundation.com/events/centering-and-celebrating-cultures-in-health/
LOCATION:Online
ATTACH;FMTTYPE=image/png:https://hawaiilgbtlegacyfoundation.com/wp-content/uploads/2023/04/Public-Health-in-Hawaii.png
END:VEVENT
BEGIN:VEVENT
DTSTART;VALUE=DATE:20230409
DTEND;VALUE=DATE:20230410
DTSTAMP:20260419T064904
CREATED:20230329T030259Z
LAST-MODIFIED:20230409T214449Z
UID:38977-1680998400-1681084799@hawaiilgbtlegacyfoundation.com
SUMMARY:April 8 & 9: Easter Egg Hunt & Easter Sunday Service
DESCRIPTION:Calvary by the Sea invites LGBTQIA+ families to their 2023 Easter Egg Hunt and Easter Sunday Service. The Flashlight Easter-Egg Hunt on April 8 at 6:30pm is a free community family friendly event for children ages (0-10)\, celebrating life\, joy\, resurrection\, rebirth and awakening. There will be hotdogs\, snacks\, drinks\, candy\, prizes\, and a raffle of grand prize for golden eggs found. Register here. \nThe Easter Sunday Service on April 9 at 10:00am will be an oceanfront and intimate experience for the whole family\, with choir and worship band leading inspirational songs and melodies. Sunday school is provided for children up to 5th Grade. \nCalvary by the Sea is an inclusive\, intentional\, and involved community of diverse people serving the people of Hawaiʻi. \nFor more information\, contact Associate Minister Grace Lee or visit Calvary by the Seaʻs website.
URL:https://hawaiilgbtlegacyfoundation.com/events/april-8-9-easter-egg-hunt-easter-sunday-service/
LOCATION:Calvary By The Sea\, 5339 Kalanianaʻole Hwy\, Honolulu\, 96821\, United States
ATTACH;FMTTYPE=image/jpeg:https://hawaiilgbtlegacyfoundation.com/wp-content/uploads/2023/03/Easter-2023.jpeg
END:VEVENT
BEGIN:VEVENT
DTSTART;TZID=America/Los_Angeles:20230414T080000
DTEND;TZID=America/Los_Angeles:20230414T170000
DTSTAMP:20260419T064904
CREATED:20230320T231506Z
LAST-MODIFIED:20230409T214706Z
UID:38956-1681459200-1681491600@hawaiilgbtlegacyfoundation.com
SUMMARY:Hawaiʻi Women In Filmmaking Summer Reel Camps
DESCRIPTION:Hawaiʻi Women In Filmmaking is getting ready for summer with three different camps running June 3 – July 28: Animation\, Basic Reel\, and Advanced Reel. HWFʻs Reel Camps are a brave\, safe and creative space and time where girls (cis/trans)\, femmes\, non-binary\, gender-fluid and gender-queer youth and any other youth outside the gender binary\, ages 12-19.  Unleash your creativity\, build confidence\, and initiate a long-term individual transformational journey from passive recipients of content that others create\, to active creators and makers of your own stories – stories that need to be heard and seen. \nFor more information\, click here.
URL:https://hawaiilgbtlegacyfoundation.com/events/hawai%ca%bbi-women-in-filmmaking-summer-reel-camps/
LOCATION:HI
ATTACH;FMTTYPE=image/png:https://hawaiilgbtlegacyfoundation.com/wp-content/uploads/2022/04/Hawaii-Women-In-Filmmaking-logo.png
END:VEVENT
BEGIN:VEVENT
DTSTART;TZID=Pacific/Honolulu:20230422T103000
DTEND;TZID=Pacific/Honolulu:20230422T140000
DTSTAMP:20260419T064904
CREATED:20230422T004935Z
LAST-MODIFIED:20230422T011423Z
UID:39068-1682159400-1682172000@hawaiilgbtlegacyfoundation.com
SUMMARY:Hawaii Gay Flag Football League: Season 11 Week Two
DESCRIPTION:The Hawaii Gay Flag Football Leagueʻs 11th season is off and running with games on Saturdays at Kapiʻolani Park at 10:30am and 12:30pm.\n\nThe HIGFFL 2023 championship games will be held on June 10th.\n\nThe 2023 season features 8 teams and 112 players\, with tongue-in-cheek team names nodding to their “give-back” for the year – monthly food drives.\n\nAll are welcome to the games\, and all are welcome to contribute to HIGFFLʻs food drives on April 22\, May 13\, and June 3.\n\nFor more information\, visit the HIGFFL website.
URL:https://hawaiilgbtlegacyfoundation.com/events/hawaii-gay-flag-football-league-season-11/
LOCATION:Kapiolani Regional Park\, 3840 Paki Avenue\, Honolulu\, HI\, 96815\, United States
ATTACH;FMTTYPE=image/png:https://hawaiilgbtlegacyfoundation.com/wp-content/uploads/2023/04/HIGFFL-logo.png
END:VEVENT
BEGIN:VEVENT
DTSTART;VALUE=DATE:20230425
DTEND;VALUE=DATE:20230426
DTSTAMP:20260419T064904
CREATED:20230329T214140Z
LAST-MODIFIED:20230425T210748Z
UID:38990-1682380800-1682467199@hawaiilgbtlegacyfoundation.com
SUMMARY:Kūpuna Care Pair Family Support Seminars
DESCRIPTION:Kūpuna Care Pair is partnering with the Honolulu City & County Elderly Affairs Division to conduct a public presentation series to caregivers in the community. The 2023 series\, through August 26\, is funded by the Federal Older Americans Act\, and provides support to family caregivers who currently care for kūpuna at home. Attendance is free and you can learn more and register here.
URL:https://hawaiilgbtlegacyfoundation.com/events/kupuna-care-pair-family-support-seminars/
LOCATION:HI
ATTACH;FMTTYPE=image/jpeg:https://hawaiilgbtlegacyfoundation.com/wp-content/uploads/2023/03/Kupuna-Care-Pair-logo.jpg
END:VEVENT
BEGIN:VEVENT
DTSTART;VALUE=DATE:20230428
DTEND;VALUE=DATE:20230429
DTSTAMP:20260419T064904
CREATED:20230320T234403Z
LAST-MODIFIED:20230425T210715Z
UID:38959-1682640000-1682726399@hawaiilgbtlegacyfoundation.com
SUMMARY:Town Hall Meetings with Mayor Blangiardi
DESCRIPTION:Honolulu Mayor Rick Blangiardi is inviting members of the public who live and work in communities across the island of Oʻahu to participate in a series of town hall meetings\, featuring the mayor and other top City officials\, that are scheduled to begin on March 21\, 2023. \nThe town hall meetings\, which will be held over a ten-week period running through the end of May\, are an opportunity for the mayor and other senior administration leaders to listen to concerns directly from the public\, answer questions about the City’s top priorities and brief residents about upcoming projects in individual neighborhoods. \nMayor Blangiardi and representatives from more than 25 departments and City agencies will attend all 11 meetings. \nThe town halls will include an open question and answer session with Mayor Blangiardi and other city department directors and deputy directors. The public is encouraged to participate and make suggestions on how the administration can better serve the people of O‘ahu. \nFor the full schedule of meetings\, click here.
URL:https://hawaiilgbtlegacyfoundation.com/events/town-hall-meetings-with-mayor-blangiardi/
LOCATION:HI
ATTACH;FMTTYPE=image/png:https://hawaiilgbtlegacyfoundation.com/wp-content/uploads/2023/03/Blangiardi-Town-Hall.png
END:VEVENT
BEGIN:VEVENT
DTSTART;TZID=Pacific/Honolulu:20230429T090000
DTEND;TZID=Pacific/Honolulu:20230429T120000
DTSTAMP:20260419T064904
CREATED:20230425T220827Z
LAST-MODIFIED:20230425T221459Z
UID:39112-1682758800-1682769600@hawaiilgbtlegacyfoundation.com
SUMMARY:International Workersʻ Day Rally & Celebration
DESCRIPTION:Join the Defend and Respect Hawaii’s Workers Coalition for a march and rally celebrating International Workers Day in partnership with the National Union of Healthcare Workers Hawaiʻi\, Hawaiʻi State Teachers Staff Organization\, Hawaiʻi Peace and Justice\, Hawaiʻi Nurses Association and many others. Learn about the history of May Day\, the international day commemorating the historic struggles and gains made by workers and the labour movement\, hear about current workers’ struggles\, and celebrate successes in the past year. And- it’s the Hawaiʻi Workers Center’s 3rd birthday. \nFor more information\, click here.
URL:https://hawaiilgbtlegacyfoundation.com/events/international-workers%ca%bb-day-rally-celebration/
LOCATION:The Towers at Kuhio Park\, 1475 Linapuni Street\, Honoulu\, 96819\, United States
ATTACH;FMTTYPE=image/png:https://hawaiilgbtlegacyfoundation.com/wp-content/uploads/2023/04/International-Workersʻ-Day-calendar.png
END:VEVENT
BEGIN:VEVENT
DTSTART;TZID=Pacific/Honolulu:20230429T103000
DTEND;TZID=Pacific/Honolulu:20230429T143000
DTSTAMP:20260419T064904
CREATED:20230422T010631Z
LAST-MODIFIED:20230422T010751Z
UID:39074-1682764200-1682778600@hawaiilgbtlegacyfoundation.com
SUMMARY:Hawaii Gay Flag Football League: Season 11 Week Three
DESCRIPTION:The Hawaii Gay Flag Football Leagueʻs 11th season is off and running with games on Saturdays at Kapiʻolani Park at 10:30am and 12:30pm.\n\nThe HIGFFL 2023 championship games will be held on June 10th.\n\nThe 2023 season features 8 teams and 112 players\, with tongue-in-cheek team names nodding to their “give-back” for the year – monthly food drives.\n\nAll are welcome to the games\, and all are welcome to contribute to HIGFFLʻs food drives on April 22\, May 13\, and June 3.\n\nFor more information\, visit the HIGFFL website.
URL:https://hawaiilgbtlegacyfoundation.com/events/hawaii-gay-flag-football-league-season-11-week-three/
LOCATION:Kapiolani Regional Park\, 3840 Paki Avenue\, Honolulu\, HI\, 96815\, United States
ATTACH;FMTTYPE=image/png:https://hawaiilgbtlegacyfoundation.com/wp-content/uploads/2023/04/HIGFFL-logo.png
END:VEVENT
BEGIN:VEVENT
DTSTART;TZID=Pacific/Honolulu:20230430T160000
DTEND;TZID=Pacific/Honolulu:20230430T170000
DTSTAMP:20260419T064904
CREATED:20230227T231000Z
LAST-MODIFIED:20230315T030554Z
UID:38765-1682870400-1682874000@hawaiilgbtlegacyfoundation.com
SUMMARY:Kalani Peʻa May Day is Lei Day Concert
DESCRIPTION:Multi Grammy and Na Hoku Hanohano award winning artist Kalani Pe’a returns to the stage of the Historic Hawaii Theatre for his 5th Annual May Day is Lei Day in Hawai’i concert. Guest Artists: Nāpua Greig and Hālau Nā Lei Kaumaka O Uka Mākena (Ho’okena and Moon Kauakahi of Mākaha Sons) with Kumuhula Nani Dudoit and Hālau Kaleilehuaikealoonālani) Liam Moleta Miss Aloha Hula Manalani English Kumuhula Leimomi Ho Mele Apana\, MC. \nPurchase tickets here.
URL:https://hawaiilgbtlegacyfoundation.com/events/38765/
LOCATION:Hawaii Theatre\, 1130 Bethel Street\, Honolulu\, HI\, 96813\, United States
ATTACH;FMTTYPE=image/jpeg:https://hawaiilgbtlegacyfoundation.com/wp-content/uploads/2023/02/Kalani-Pai-May-Day.jpg
GEO:21.323302;-157.836342
X-APPLE-STRUCTURED-LOCATION;VALUE=URI;X-ADDRESS=Hawaii Theatre 1130 Bethel Street Honolulu HI 96813 United States;X-APPLE-RADIUS=500;X-TITLE=1130 Bethel Street:geo:-157.836342,21.323302
END:VEVENT
END:VCALENDAR