BEGIN:VCALENDAR
VERSION:2.0
PRODID:-//Hawaii LGBT Legacy Foundation - ECPv6.13.2.1//NONSGML v1.0//EN
CALSCALE:GREGORIAN
METHOD:PUBLISH
X-ORIGINAL-URL:https://hawaiilgbtlegacyfoundation.com
X-WR-CALDESC:Events for Hawaii LGBT Legacy Foundation
REFRESH-INTERVAL;VALUE=DURATION:PT1H
X-Robots-Tag:noindex
X-PUBLISHED-TTL:PT1H
BEGIN:VTIMEZONE
TZID:America/Los_Angeles
BEGIN:DAYLIGHT
TZOFFSETFROM:-0800
TZOFFSETTO:-0700
TZNAME:PDT
DTSTART:20230312T100000
END:DAYLIGHT
BEGIN:STANDARD
TZOFFSETFROM:-0700
TZOFFSETTO:-0800
TZNAME:PST
DTSTART:20231105T090000
END:STANDARD
END:VTIMEZONE
BEGIN:VTIMEZONE
TZID:Pacific/Honolulu
BEGIN:STANDARD
TZOFFSETFROM:-1000
TZOFFSETTO:-1000
TZNAME:HST
DTSTART:20230101T000000
END:STANDARD
END:VTIMEZONE
BEGIN:VEVENT
DTSTART;TZID=America/Los_Angeles:20230303T120000
DTEND;TZID=America/Los_Angeles:20230303T130000
DTSTAMP:20260419T083303
CREATED:20230224T204729Z
LAST-MODIFIED:20230224T204829Z
UID:38755-1677844800-1677848400@hawaiilgbtlegacyfoundation.com
SUMMARY:Surmounting HIV Disparities
DESCRIPTION:The Social Network Theory of Homophily states that “birds of a feather flock together\,” suggesting that similar people are more likely to be friends and share information\, including information surrounding HIV prevention strategies. This colloquium will describe foundational social network theories and three studies which examine how personal networks can identify opportunities to surmount structural barriers to HIV prevention among racial/ethnic\, sexual and gender minority communities. \nSOCIAL NETWORK ANALYSIS: AN OPPORTUNITY TO SURMOUNT HIV DISPARITIES AMONG RACIAL/ETHNIC\, SEXUAL\, AND GENDER MINORITY COMMUNITIES. An Epidemiology faculty candidate colloquium with DR. CHO-HEE SHRADER. \nFriday March 3\, 2023\, 12pm-1pm\nUniversity of Hawai‘i at Mānoa\nBiomedical Building D205\nZoom option available: https://go.hawaii.edu/kQ4 \n  \n  \n 
URL:https://hawaiilgbtlegacyfoundation.com/events/surmounting-hiv-disparities/
LOCATION:Online
ATTACH;FMTTYPE=image/png:https://hawaiilgbtlegacyfoundation.com/wp-content/uploads/2023/02/Shrader-Epi-Faculty-Candidate-Colloquium-Flier.png
END:VEVENT
BEGIN:VEVENT
DTSTART;TZID=Pacific/Honolulu:20230303T173000
DTEND;TZID=Pacific/Honolulu:20230303T200000
DTSTAMP:20260419T083303
CREATED:20230220T221020Z
LAST-MODIFIED:20230220T221020Z
UID:38716-1677864600-1677873600@hawaiilgbtlegacyfoundation.com
SUMMARY:Hawaii Storytellers: The Generations
DESCRIPTION:Every generation has their own creative lingo\, unique fashion trends and complaints about the other generations. What generation are you? \nCivil Beat invites you to join them on Friday\, March 3 from 5:30 p.m. to 8:00 p.m. at Ka Waiwai in Moiliili to enjoy stories told by different generations. \nDoors open at 5:30 for interactive activities and the storytellers will begin at 6:30 p.m. \nFeatured Storytellers: \n\nKealoha Kelekolio – Baby Boom Generation: Cultural educator and storyteller\n\nEduardo Hernandez – Generation X: Major Gifts Manager at Honolulu Civil Beat\n\nNick Yee (dj mr.nick) – Millennial: Program Director and Host of Bridging the Gap at Hawaii Public Radio\n\nLauren Teruya – Generation Z: Miss Hawaii 2022\n\nJeju Ahn-Miles – Generation Alpha\n\nFor more information and to register click here.
URL:https://hawaiilgbtlegacyfoundation.com/events/hawaii-storytellers-the-generations/
LOCATION:Ka Waiwai ma Mō’ili’ili\, 1110 University Avenue\, Honolulu\, HI\, 96826\, United States
ATTACH;FMTTYPE=image/png:https://hawaiilgbtlegacyfoundation.com/wp-content/uploads/2023/02/Hawaii-Storytellers.png
GEO:21.285968;-157.827389
X-APPLE-STRUCTURED-LOCATION;VALUE=URI;X-ADDRESS=Ka Waiwai ma Mō’ili’ili 1110 University Avenue Honolulu HI 96826 United States;X-APPLE-RADIUS=500;X-TITLE=1110 University Avenue:geo:-157.827389,21.285968
END:VEVENT
BEGIN:VEVENT
DTSTART;TZID=Pacific/Honolulu:20230305T090000
DTEND;TZID=Pacific/Honolulu:20230305T120000
DTSTAMP:20260419T083303
CREATED:20230131T014449Z
LAST-MODIFIED:20230302T193559Z
UID:38571-1678006800-1678017600@hawaiilgbtlegacyfoundation.com
SUMMARY:Hawai'i Queer Parents Beach Meetup
DESCRIPTION:It’s the first Sunday of the month\, which means it’s the Hawaiʻi Queer Parents Oʻahu Meetup. This month HQP will be meeting at Ala Moana Beach Park from 9:00 am to 12:00 pm. Come hangout with other queer families for a nice relaxing time at the beach. HQP will have some snacks\, but bring your own\, along with water and sunscreen. Look for the green canopy with the pride flags on it. \nFor more information\, click here.
URL:https://hawaiilgbtlegacyfoundation.com/events/hawaii-queer-parents-beach-meetup/
LOCATION:Ala Moana Beach Park\, 1201 Ala Moana Blvd\, Honolulu\, 96814\, United States
ATTACH;FMTTYPE=image/jpeg:https://hawaiilgbtlegacyfoundation.com/wp-content/uploads/2022/12/Hawaiʻi-Queer-Parents.jpg
END:VEVENT
BEGIN:VEVENT
DTSTART;TZID=Pacific/Honolulu:20230305T150000
DTEND;TZID=Pacific/Honolulu:20230305T160000
DTSTAMP:20260419T083303
CREATED:20220130T042723Z
LAST-MODIFIED:20230302T192841Z
UID:34080-1678028400-1678032000@hawaiilgbtlegacyfoundation.com
SUMMARY:All Are Welcome at the Table
DESCRIPTION:Church of the Crossroads in Honolulu\, an Open and Affirming Church\, invites the LGBTQIA+ community to join them for a virtual meeting of the All Are Welcome at the Table Task Force. This Hui gathering for LGBTQIA+ Christians and allies is an opportunity to gather in fellowship for some fun activities and conversation.\n\nFor further information on this event please email Tim Madjeski at onahawaii808@gmail.com.\n\nJoin Zoom Meeting\nhttps://us02web.zoom.us/j/86778912482
URL:https://hawaiilgbtlegacyfoundation.com/events/all-are-welcome-at-the-table/
LOCATION:Online
ATTACH;FMTTYPE=image/png:https://hawaiilgbtlegacyfoundation.com/wp-content/uploads/2022/12/Church-of-the-Crossroads.png
END:VEVENT
BEGIN:VEVENT
DTSTART;TZID=Pacific/Honolulu:20230305T153000
DTEND;TZID=Pacific/Honolulu:20230305T180000
DTSTAMP:20260419T083303
CREATED:20221129T211032Z
LAST-MODIFIED:20230222T001317Z
UID:37980-1678030200-1678039200@hawaiilgbtlegacyfoundation.com
SUMMARY:Aloha Bears Pool Tournament
DESCRIPTION:Join The Aloha Bears at Tapas Waikiki on Sunday\, March 5th from 3-6pm for their monthly Pool Tournament and Beer/Well Liquor Bust. Registration for the pool tournament will begin around 3pm with Ben at the pool table. Entry is $5 (winner takes all) and the tournament will begin at 3:30pm. \nFor more information\, click here.
URL:https://hawaiilgbtlegacyfoundation.com/events/aloha-bears-pool-tournament/
LOCATION:Tapas Waikiki\, 407 Seaside Avenue\, Honolulu\, HI\, 96815\, United States
ATTACH;FMTTYPE=image/jpeg:https://hawaiilgbtlegacyfoundation.com/wp-content/uploads/2022/11/Aloha-Bears-Pool-Tournament-March-2023.jpg
END:VEVENT
BEGIN:VEVENT
DTSTART;VALUE=DATE:20230308
DTEND;VALUE=DATE:20230309
DTSTAMP:20260419T083303
CREATED:20230304T212213Z
LAST-MODIFIED:20230304T212303Z
UID:38828-1678233600-1678319999@hawaiilgbtlegacyfoundation.com
SUMMARY:Keala Kennelly | PBS Hawaiʻi | What School You Went?
DESCRIPTION:Professional surfer Keala Kennelly wears many hats these days\, including actor\, professional DJ and Big Wave World Champion. But\, there’s one hat that she secretly wore for years while surfing on the world tour\, an identity that she hid from her peers and sponsors. In 2005\, just two years after finishing runner-up in the World Title chase\, the Kaua’i native made the most important decision of her life when she told the world she was gay. On the next “What School You Went?”\, Kennelly shares why she was terrified about coming out\, knowing it would be “career suicide.” She shares how the decision to stop living a double life gave her back her life\, and how she is now a crusader for LGBTQ rights and equality in women’s sports.
URL:https://hawaiilgbtlegacyfoundation.com/events/keala-kennelly-pbs-hawai%ca%bbi-what-school-you-went/
LOCATION:PBS Hawaii
ATTACH;FMTTYPE=image/jpeg:https://hawaiilgbtlegacyfoundation.com/wp-content/uploads/2023/03/Keala.jpg
END:VEVENT
BEGIN:VEVENT
DTSTART;TZID=Pacific/Honolulu:20230308T103000
DTEND;TZID=Pacific/Honolulu:20230308T120000
DTSTAMP:20260419T083303
CREATED:20230220T215432Z
LAST-MODIFIED:20230220T221211Z
UID:38713-1678271400-1678276800@hawaiilgbtlegacyfoundation.com
SUMMARY:Civil Cafe: The Sunshine Bills
DESCRIPTION:This year Civil Beat is focusing on ethics and anti-corruption efforts in their special commentary series\, “Let The Sunshine In.” They’ve even created a Sunshine Tracker for about 200 bills aimed at holding state officials and lobbyists more accountable to the public. \nJoin Civil Beat for an in-person discussion on Wednesday\, March 8 from 10:30 a.m. – 12 p.m. at the Hawaii State Capitol Auditorium. \nCivil Beat Politics and Opinion Editor Chad Blair will be joined by Rep. David Tarnas (more to be announced) to discuss the progress of the bills that were introduced this year in efforts to increase government transparency. \nRegister here.
URL:https://hawaiilgbtlegacyfoundation.com/events/civil-cafe-the-sunshine-bills/
LOCATION:Hawaii State Capitol\, 415 South Beretania Street\, Honolulu\, HI\, 96813\, United States
ATTACH;FMTTYPE=image/png:https://hawaiilgbtlegacyfoundation.com/wp-content/uploads/2023/02/Civil-Beat-Sunsine-Bills.png
END:VEVENT
BEGIN:VEVENT
DTSTART;TZID=Pacific/Honolulu:20230310T093000
DTEND;TZID=Pacific/Honolulu:20230310T120000
DTSTAMP:20260419T083303
CREATED:20221216T002007Z
LAST-MODIFIED:20240305T004728Z
UID:38216-1678440600-1678449600@hawaiilgbtlegacyfoundation.com
SUMMARY:Hawaiʻi Queer Parents Meetup
DESCRIPTION:Hawaiʻi Queer Parents is a space for LGBTQIA+ parents to connect\, make new friends\, ask for advice\, talk about experiences\, and be apart of a more local Queer Parenting group. Their next meetup is Sunday morning\, March 10 at the Waikīkī Shell at Kapiʻolani Park for the free Kilohana Hula Show. Bring your chairs\, picnic blankets\, coolers\, some snacks\, park toys\, etc. After the show\, the group will move to a shady spot under some trees at Kapiʻolani Park. The flags will be flying so theyʻll be easy to find. \nFor more information\, click here.
URL:https://hawaiilgbtlegacyfoundation.com/events/hawai%ca%bbi-queer-parents-meetup/
LOCATION:Waikīkī Shell Amphitheater\, 2805 Monsarrat Ave\, Honolulu\, Hawaii\, 96815
ATTACH;FMTTYPE=image/jpeg:https://hawaiilgbtlegacyfoundation.com/wp-content/uploads/2022/12/Hawaiʻi-Queer-Parents.jpg
END:VEVENT
BEGIN:VEVENT
DTSTART;TZID=Pacific/Honolulu:20230311T130000
DTEND;TZID=Pacific/Honolulu:20230311T170000
DTSTAMP:20260419T083303
CREATED:20230311T001731Z
LAST-MODIFIED:20230311T002607Z
UID:38876-1678539600-1678554000@hawaiilgbtlegacyfoundation.com
SUMMARY:Spill The Tea Cafe 1st B-day Party
DESCRIPTION:Spill The Tea Cafe (STTC) is a inclusive mental health clinic focused on adolescents\, and they’re celebrating their first birthday on Sat. March 11th. Join the fun at this free event with live music\, food and drink\, and a silent auction\, and learn more about this specialized healthcare facility that aims to provide comprehensive and evidence-based treatment and support to adolescents struggling with mental health issues. \nFor more information\, and to RSVP\, click here.
URL:https://hawaiilgbtlegacyfoundation.com/events/38876/
LOCATION:Spill The Tea Cafe\, 1034 Queen Street\, Honolulu\, 96814\, United States
ATTACH;FMTTYPE=image/png:https://hawaiilgbtlegacyfoundation.com/wp-content/uploads/2023/03/STTC-Birthday-calendar.png
END:VEVENT
BEGIN:VEVENT
DTSTART;TZID=Pacific/Honolulu:20230312T130000
DTEND;TZID=Pacific/Honolulu:20230312T170000
DTSTAMP:20260419T083303
CREATED:20230303T215638Z
LAST-MODIFIED:20230303T215824Z
UID:38821-1678626000-1678640400@hawaiilgbtlegacyfoundation.com
SUMMARY:Oasis Pool Party | St. Patrick's Celebration
DESCRIPTION:Join Gay Island Guide for one of their most popular Oasis Pool Parties of the Year – St. Patrick’s! Featuring Hawai’i’s best DJ’s including DJ Emvee and DJ Destyn from Scarlet Honolulu\, go-go dancers\, performances by Aria Redi and Gianna Fox\, prizes\, and free photos by Eric Z-Martin Photography. \nThere will also be free HIV testing by Hawai’i Health & Harm Reduction Center\, free vaccinations\, boosters and flu shots by Project Vision Hawaii\, and a special Meet & Get Info with Gregory House Programs. \nTop the day off at the official After-Party at In Between Waikiki! For more information\, and to purchase Early Bird & Pre-Sale Discounted Tickets or Packages\, click here.
URL:https://hawaiilgbtlegacyfoundation.com/events/oasis-pool-party-st-patricks-celebration/
LOCATION:White Sands Hotel\, 431 Nohonani Street\, Honolulu\, HI\, 96815\, United States
ATTACH;FMTTYPE=image/jpeg:https://hawaiilgbtlegacyfoundation.com/wp-content/uploads/2023/03/Gay-Island-Guide-St.-Patricks-calendar.jpg
END:VEVENT
BEGIN:VEVENT
DTSTART;VALUE=DATE:20230323
DTEND;VALUE=DATE:20230324
DTSTAMP:20260419T083303
CREATED:20220124T220056Z
LAST-MODIFIED:20230324T002655Z
UID:33919-1679529600-1679615999@hawaiilgbtlegacyfoundation.com
SUMMARY:March 20 - 24: National LGBT Health Awareness Week
DESCRIPTION:The National Coalition for LGBTQ Health invites you to join them for the 21st National LGBTQ Health Awareness Week\, taking place March 20 to March 24\, 2023. This year’s theme is AWAKE AND AWARE. \nThis theme was chosen because despite a number of positive steps forward\, LGBTQ people continue to face significant barriers to accessing healthcare services. This includes the discrimination they encounter from insurers and medical providers\, as well as the delays or denials of care they face. In addition\, in many cases\, a lack of federal legislation prohibiting discrimination on the basis of Sexual Orientation and Gender Identity is the primary source of these barriers. \nAs healthcare providers and advocates for the LGBTQ community and other underserved populations who experience health disparities\, we are AWAKE to What’s Happening and AWARE of What’s Right. This Week is intended to help the healthcare community advocate for reducing barriers to LGBTQ persons by creating and maintaining safe\, inclusive and welcoming environments—and ensuring quality\, accessible and non-discriminatory health care. \nIf your organization has a program or event planned for National GLBT Health Awareness Week\, and youʻd like us to promote it or partner with you\, please contact us here at the Hawai’i LGBT Legacy Foundation at info@hawaiilgbtlegacy.com \nClick here to view a complete list of LGBTQ Awareness Days from LGBTQnation.com
URL:https://hawaiilgbtlegacyfoundation.com/events/march-21-25-national-lgbt-health-awareness-week/
LOCATION:HI
ATTACH;FMTTYPE=image/jpeg:https://hawaiilgbtlegacyfoundation.com/wp-content/uploads/2022/01/LGBTQ-Health-Awareness.jpg
END:VEVENT
BEGIN:VEVENT
DTSTART;TZID=Pacific/Honolulu:20230323T130000
DTEND;TZID=Pacific/Honolulu:20230323T143000
DTSTAMP:20260419T083303
CREATED:20230314T233208Z
LAST-MODIFIED:20230314T233912Z
UID:38884-1679576400-1679581800@hawaiilgbtlegacyfoundation.com
SUMMARY:Anticipatory Grief Workshop for LGBTQ+ Caregivers
DESCRIPTION:Join FCA for a 90-minute virtual workshop to better understand how anticipatory grief might be affecting you as a LGBTQ+ caregiver. Subjects Covered During the Workshop: defining anticipatory grief\, identifying ways in which anticipatory grief may be affecting you\, discuss strategies to help process anticipatory grief. \nThe feelings of grief tied to loss are an ongoing part of our role as caregivers when looking after family or friends suffering from chronic or terminal illnesses. We grieve the gradual loss of those we care for due to their loss of cognition\, mobility\, or other aspects that defined them. We grieve the loss of parts of who we are as we prioritize caregiving over personal activities that might have recharged us\, brought us joy\, or even offered us an escape from our day-to-day. \nMany of us also experience the weight and pain of the loss of the person we are caring for before their death\, yet never identify these feelings as anticipatory grief\, or understand the impact this grief has on our well-being. \nLearn more and register here.
URL:https://hawaiilgbtlegacyfoundation.com/events/38884/
LOCATION:Online
ATTACH;FMTTYPE=image/png:https://hawaiilgbtlegacyfoundation.com/wp-content/uploads/2023/03/Family-Caregiver-Alliance.png
END:VEVENT
BEGIN:VEVENT
DTSTART;TZID=America/Los_Angeles:20230323T130000
DTEND;TZID=America/Los_Angeles:20230323T150000
DTSTAMP:20260419T083303
CREATED:20230321T030715Z
LAST-MODIFIED:20230321T030752Z
UID:38965-1679576400-1679583600@hawaiilgbtlegacyfoundation.com
SUMMARY:The Right to Play: Title IX and Anti-Trans Sports Bans
DESCRIPTION:As part of its programming for Trans Month of Visibility\, the National Center for Transgender Equality is hosting\, “The Right To Play\,” an important conversation about trans inclusion in sports. Learn about Title IX and trans inclusion in sports\, state legislative attacks\, and what we can do to as a collective to keep our Right to Play. \nJoin NCTE in community and conversation on Thursday\, March 23rd at 7PM EST. To join the stream\, visit NCTE’s Facebook or YouTube page at the time of our event. Our guest panelists will include experts and advocates from Athlete Ally\, Equality Virginia\, InterACT\, National Women’s Law Center\, and others! We encourage you to bring your questions. \nTo learn more about the National Center for Transgender Equality click here. \n 
URL:https://hawaiilgbtlegacyfoundation.com/events/the-right-to-play-title-ix-and-anti-trans-sports-bans/
LOCATION:Online
ATTACH;FMTTYPE=image/png:https://hawaiilgbtlegacyfoundation.com/wp-content/uploads/2023/03/Transgender-Equality-Right-To-Play.png
END:VEVENT
BEGIN:VEVENT
DTSTART;VALUE=DATE:20230325
DTEND;VALUE=DATE:20230326
DTSTAMP:20260419T083303
CREATED:20220815T014013Z
LAST-MODIFIED:20230324T213648Z
UID:36676-1679702400-1679788799@hawaiilgbtlegacyfoundation.com
SUMMARY:Tick\, Tick... Boom! | Manoa Valley Theatre
DESCRIPTION:Before Rent\, there was Tick\, Tick… Boom!. This autobiographical musical by Jonathan Larson\, the Pulitzer Prize and Tony Award-winning composer of Rent\, is the story of an aspiring composer who questions his life choices on the eve of his thirtieth birthday. Jonathan’s best friend wants him to join corporate America\, his girlfriend wants him to move with her to Cape Cod\, but he doesn’t want to abandon the musical he’s worked on for the past five years. \nTo purchase tickets\, click here.
URL:https://hawaiilgbtlegacyfoundation.com/events/tick-tick-boom/
LOCATION:Manoa Valley Theatre\, 2833 E Manoa Rd\, Honolulu\, 96822\, United States
ATTACH;FMTTYPE=image/jpeg:https://hawaiilgbtlegacyfoundation.com/wp-content/uploads/2022/08/tick-tick...boom_.jpg
END:VEVENT
BEGIN:VEVENT
DTSTART;VALUE=DATE:20230325
DTEND;VALUE=DATE:20230326
DTSTAMP:20260419T083303
CREATED:20230115T013722Z
LAST-MODIFIED:20230318T193336Z
UID:38338-1679702400-1679788799@hawaiilgbtlegacyfoundation.com
SUMMARY:Hoʻomau Ike Aikane Aloha Best of Hawaiʻi LGBTQ+ Awards
DESCRIPTION:Nominations are now open for Gay Island Guideʻs Hoʻomau Ike Aikane Aloha Best of Hawaiʻi LGBTQ+ Awards. These awards seek to allow our LGBTQ+ community to acknowledge and recognize  individuals and businesses who consistently seek the knowledge through love and friendships in  order to contribute\, inspire\, motivate and serve Hawaiʻi’s LGBTQ+ community in a positive manner and to praise\, recognize and acknowledge the works of our unsung heroes who may not ordinarily be recognized by “main stream”\, board related or other awards. Learn more and make your nominations for the Individuals\, Groups & Businesses categories. Click here.
URL:https://hawaiilgbtlegacyfoundation.com/events/ho%ca%bbomau-ike-aikane-aloha-best-of-hawai%ca%bbi-lgbtq-awards/
LOCATION:HI
ATTACH;FMTTYPE=image/png:https://hawaiilgbtlegacyfoundation.com/wp-content/uploads/2023/01/Gay-Island-Guide-Best-of-Hawaiʻi-LGBTQ-Awards.png
END:VEVENT
BEGIN:VEVENT
DTSTART;VALUE=DATE:20230325
DTEND;VALUE=DATE:20230326
DTSTAMP:20260419T083303
CREATED:20230319T003635Z
LAST-MODIFIED:20230319T003635Z
UID:38945-1679702400-1679788799@hawaiilgbtlegacyfoundation.com
SUMMARY:Lesbian Night at Atlas Honolulu
DESCRIPTION:Atlas Honolulu\, Hawaii’s newest LGBTQ Nightclub & Bar\, invites you to cultivate your vibe and elevate your tribe. March 25 is their next Lesbian Night\, with music by DJ A.i.T. and a special performance by Chardonnay. Free cover before 10pm. \nFor more information\, click here.
URL:https://hawaiilgbtlegacyfoundation.com/events/lesbian-night-at-atlas-honolulu-2/
LOCATION:Atlas Honolulu\, 2012 S. Beretania\, Honolulu\, 96826\, United States
ATTACH;FMTTYPE=image/png:https://hawaiilgbtlegacyfoundation.com/wp-content/uploads/2023/03/Atlas-Honolulu-Lesbian-Night-calendar.png
END:VEVENT
BEGIN:VEVENT
DTSTART;TZID=Pacific/Honolulu:20230325T190000
DTEND;TZID=Pacific/Honolulu:20230325T203000
DTSTAMP:20260419T083303
CREATED:20230222T004510Z
LAST-MODIFIED:20230222T004655Z
UID:38737-1679770800-1679776200@hawaiilgbtlegacyfoundation.com
SUMMARY:Nā Lei Hulu i ka Wēkiu
DESCRIPTION:Nā Lei Hulu i ka Wēkiu is bringing its production to Oahu’s Leeward Theatre with a captivating cast of māhū guest artists: Hinaleimoana Wong-Kalu\, Kuini\, and Kaumakaʻiwa Kanakaʻole.  \nArtistic Director Patrick Makuakāne says\, “This show features some of the most talented māhū artists in Hawai’i today – each of whom possesses a unique vibe and persona which arouses a distinctive choreographic approach generating hula that feels fresh\, possibly forbidden\, and slightly dangerous.“Each song\, dance and luxuriously-sequined garment was chosen as a deliberate opportunity to be extravagant\, or at the very least pleasurably provocative. No fillers allowed.”For more detailed information on the artists and the show\, visit: naleihulu.org
URL:https://hawaiilgbtlegacyfoundation.com/events/na-lei-hulu-i-ka-wekiu/
LOCATION:Leeward Theatre Pearl City\, 96-045 Ala Ike\, Pearl City\, HI\, 96782\, United States
ATTACH;FMTTYPE=image/jpeg:https://hawaiilgbtlegacyfoundation.com/wp-content/uploads/2023/02/Na-Lei-Hulu-i-ka-Wekiu.jpg
END:VEVENT
BEGIN:VEVENT
DTSTART;VALUE=DATE:20230330
DTEND;VALUE=DATE:20230331
DTSTAMP:20260419T083303
CREATED:20230329T044848Z
LAST-MODIFIED:20230330T222453Z
UID:38985-1680134400-1680220799@hawaiilgbtlegacyfoundation.com
SUMMARY:Fighting Back Against Anti-Trans Hate Across the Country
DESCRIPTION:There is no denying this is a difficult moment in our history. But together\, we will stand up to the anti-trans and anti-LGBTQ+ bullies who peddle fear and intimidation to advance their hateful agenda. Join Lambda Legal for a special live virtual event\, National Call: Fighting Back Against Anti-Trans Hate Across the Country on Thursday\, March 30th from 2:30 pm – 3:30 pm PT / 5:30 pm – 6:30 pm ET to hear a national update on the efforts they are undertaking to address the ongoing attacks against the trans community. \nThe event will feature a variety of speakers\, including Lambda Legal CEO Kevin Jennings and legal staff Carl Charles\, Sasha Buchert\, and Sruti Swaminathan\, who are leading Lambdaʻs transgender rights advocacy. The panel of speakers will discuss how Lambda Legal is fighting back against these attacks on various fronts—from litigation in multiple states and the Supreme Court to policy initiatives and advocacy in state legislatures. \nOn the call\, attendees will hear: \n• A national overview of the legislative attacks against the trans community\, which includes a brief historical context of LGBTQ+ rights and Lambda Legal’s work fighting for lived equality for all LGBTQ+ people and everyone living with HIV/AIDS. \n\n• An overview of the ways Lambda Legal is involved in fighting back\, including litigation\, policy advocacy\, and public education.\n\n• A summary of Lambda Legal’s lawsuits against anti-trans legislation\, such as B.P.J. v. West Virginia State Board of Education\, defending our client\, Becky Pepper-Jackson’s right to participate in sports\, as well as an upcoming lawsuit we are filing in Tennessee challenging the state’s newly enacted anti-trans healthcare ban.\n\nRegister by clicking here. \n 
URL:https://hawaiilgbtlegacyfoundation.com/events/38985/
LOCATION:Online
ATTACH;FMTTYPE=image/png:https://hawaiilgbtlegacyfoundation.com/wp-content/uploads/2023/03/LAMBDALEGAL-Trans-Call.png
END:VEVENT
BEGIN:VEVENT
DTSTART;TZID=America/Los_Angeles:20230330T080000
DTEND;TZID=America/Los_Angeles:20230330T170000
DTSTAMP:20260419T083303
CREATED:20230303T204858Z
LAST-MODIFIED:20230329T031111Z
UID:38814-1680163200-1680195600@hawaiilgbtlegacyfoundation.com
SUMMARY:Womenʻs Herstory Month Film Series
DESCRIPTION:Join Hawaiʻi Women in Filmmaking at the HoMA Doris Duke Theatre for a film series that celebrates Women’s Herstory Month! Screenings are scheduled through April 2 and include Agnès Vardaʻs Cléo from 5-7\, Chantal Akermanʻs Jeanne Dielman\, 23\, quai du Commerce 1080 Bruxelles\, Daughters of the Dust directed by Julie Dash\, and other groundbreaking films by women about women. \nFor more information and to purchase tickets\, click here.
URL:https://hawaiilgbtlegacyfoundation.com/events/women%ca%bbs-herstory-month-film-series/
LOCATION:Doris Duke Theatre\, 900 S Beretania St\, Honolulu\, HI\, 96814\, United States
ATTACH;FMTTYPE=image/jpeg:https://hawaiilgbtlegacyfoundation.com/wp-content/uploads/2023/03/WMF-Herstory-Film-Series-calendar.jpg
GEO:21.303833;-157.84944
X-APPLE-STRUCTURED-LOCATION;VALUE=URI;X-ADDRESS=Doris Duke Theatre 900 S Beretania St Honolulu HI 96814 United States;X-APPLE-RADIUS=500;X-TITLE=900 S Beretania St:geo:-157.84944,21.303833
END:VEVENT
BEGIN:VEVENT
DTSTART;VALUE=DATE:20230331
DTEND;VALUE=DATE:20230401
DTSTAMP:20260419T083303
CREATED:20210223T215921Z
LAST-MODIFIED:20230218T011454Z
UID:29258-1680220800-1680307199@hawaiilgbtlegacyfoundation.com
SUMMARY:Application deadline: March 31 | Kuleana Academy
DESCRIPTION:Hawai‘i Alliance for Progressive Action (HAPA) is now accepting applications for the 7th Kuleana Academy cohort\, a three month political leadership development and non-partisan candidate training program for emerging leaders in Hawai‘i. \nThe program is geared towards individuals from across Hawaiʻi with a track record of community service and engagement who are seeking to grow their political leadership\, advocacy and organizing skills. Whether it is running for elected office\, managing a political campaign or honing advocacy and organizing skills\, Kuleana Academy provides in-depth training\, mentorship and connection to a community of like-minded leaders. \nHAPA’s Kuleana Academy is not an electoral activity; it is a non-partisan educational program. HAPA and the Kuleana Academy will not endorse any political candidates for public office\, make any campaign contributions (monetary or in-kind) or ask candidates to sign pledges on any issues. \nTo learn more and to apply\, click here.
URL:https://hawaiilgbtlegacyfoundation.com/events/application-deadline-april-1-kuleana-academy/
LOCATION:Online
ATTACH;FMTTYPE=image/png:https://hawaiilgbtlegacyfoundation.com/wp-content/uploads/2020/05/HAPAkuleanaACADEMY2020.png
ORGANIZER;CN="Hawaii Alliance for Progressive Action":MAILTO:action@HAPAhi.org
END:VEVENT
BEGIN:VEVENT
DTSTART;VALUE=DATE:20230331
DTEND;VALUE=DATE:20230401
DTSTAMP:20260419T083303
CREATED:20230224T224950Z
LAST-MODIFIED:20230315T032218Z
UID:38759-1680220800-1680307199@hawaiilgbtlegacyfoundation.com
SUMMARY:March 31 - April 6: HIFF 2023 Spring Showcase
DESCRIPTION:The 2023 Hawaiʻi International Film Festival (HIFF) Spring Showcase is chock-full of remarkable films\, including two highly anticipated LGBTQIA+ themed films. LITTLE RICHARD: I AM EVERYTHING “shines a clarifying light on the Black\, queer origins of rock ’n’ roll” and the ground breaking film from Pakistan JOYLAND follows Haider as he takes a job as a backup dancer at an erotic theater and falls in love with its beautiful transgender star Biba. \nHawai‘i International Film Festival\, a 501(c)(3) non-profit membership-driven organization\, endeavors to recognize new and emerging talent\, promote career development and original collaborations through innovative education programs\, and facilitate dynamic cultural exchange through the cinema arts. \nFor more information\, click here.
URL:https://hawaiilgbtlegacyfoundation.com/events/hiff-2023-spring-showcase/
LOCATION:Consolidated Theatres Kahala\, 4211 Waialae Ave\, Honolulu\, 96816\, United States
ATTACH;FMTTYPE=image/jpeg:https://hawaiilgbtlegacyfoundation.com/wp-content/uploads/2023/02/HIFF-Spring-Showcase.jpg
END:VEVENT
END:VCALENDAR