BEGIN:VCALENDAR
VERSION:2.0
PRODID:-//Hawaii LGBT Legacy Foundation - ECPv6.13.2.1//NONSGML v1.0//EN
CALSCALE:GREGORIAN
METHOD:PUBLISH
X-ORIGINAL-URL:https://hawaiilgbtlegacyfoundation.com
X-WR-CALDESC:Events for Hawaii LGBT Legacy Foundation
REFRESH-INTERVAL;VALUE=DURATION:PT1H
X-Robots-Tag:noindex
X-PUBLISHED-TTL:PT1H
BEGIN:VTIMEZONE
TZID:Pacific/Honolulu
BEGIN:STANDARD
TZOFFSETFROM:-1000
TZOFFSETTO:-1000
TZNAME:HST
DTSTART:20230101T000000
END:STANDARD
END:VTIMEZONE
BEGIN:VEVENT
DTSTART;TZID=Pacific/Honolulu:20230205T153000
DTEND;TZID=Pacific/Honolulu:20230205T183000
DTSTAMP:20260419T115954
CREATED:20230127T225730Z
LAST-MODIFIED:20230127T230437Z
UID:38537-1675611000-1675621800@hawaiilgbtlegacyfoundation.com
SUMMARY:Tantalus Sunset Hike
DESCRIPTION:Join Hawaii’s Queer Hiking & Activites Group (LGBTQIA+) – Oahu for their first intermediate evening hike! As long as the weather agrees\, this intermediate hike has spectacular views\, will be filled with sparkling conversations\, and the building of calves AND relationships! There are brief stretches of cardio\, then long stretches of walking\, concluding with a well-earned sunset view from Diamond Head to Aiea. \nFor more information\, click here.
URL:https://hawaiilgbtlegacyfoundation.com/events/tantalus-sunset-hike/
LOCATION:HI
ATTACH;FMTTYPE=image/jpeg:https://hawaiilgbtlegacyfoundation.com/wp-content/uploads/2023/01/Hawaii-Queer-Hiking-Tantalus.jpg
END:VEVENT
BEGIN:VEVENT
DTSTART;TZID=Pacific/Honolulu:20230209T180000
DTEND;TZID=Pacific/Honolulu:20230209T193000
DTSTAMP:20260419T115954
CREATED:20230128T205222Z
LAST-MODIFIED:20230128T205306Z
UID:38550-1675965600-1675971000@hawaiilgbtlegacyfoundation.com
SUMMARY:Virtual Advocacy Training
DESCRIPTION:Whether you’re a lifelong activist or a newbie to organizing\, this training will help equip you with the advocacy tools you’ll need to join the fight and maximize your potential in the weeks and months ahead. \nAt this event\, ACLU staff will highlight their 2023 legislative priorities and some of the most pressing issues facing Hawaiʻi. In small groups you’ll talk story about what matters to you before diving into how we can work together to make our voices heard at the Capitol. NOTE: In order to build connections and create a plan for success\, active participation will be highly encouraged. \nFor more information\, click here.
URL:https://hawaiilgbtlegacyfoundation.com/events/virtual-advocacy-training/
LOCATION:Online
ATTACH;FMTTYPE=image/png:https://hawaiilgbtlegacyfoundation.com/wp-content/uploads/2023/01/ACLU-advocacy-training.png
END:VEVENT
BEGIN:VEVENT
DTSTART;TZID=Pacific/Honolulu:20230211T180000
DTEND;TZID=Pacific/Honolulu:20230211T210000
DTSTAMP:20260419T115955
CREATED:20221117T204110Z
LAST-MODIFIED:20230210T213400Z
UID:37711-1676138400-1676149200@hawaiilgbtlegacyfoundation.com
SUMMARY:Pride Pāʻina Lā ʻOhana
DESCRIPTION:Join us on Saturday\, February 11 from 6pm-9pm for the first annual Pride Pā’ina Lā ‘Ohana\, a Pride Family Event at the Bishop Museum. \nAn all-ages gathering\, the Pā’ina will include food\, activities\, Hawaiian / Pacific crafts\, vendors\, a resource fair\, music and entertainment by DJ A.i.T. and Cocoa Chandelier\, and will feature a high school drag competition. Itʻs a celebration of queer youth and ‘ohana and will be lots of fun for the entire family! \nThis community celebration is organized by the Māhūi and Youth Hui of the Hawai’i LGBT Legacy Foundation. If youʻre interested in tabling at this event to share how your organization is supporting youth leadership development\, advocacy and community encouragement\, please contact Tati Kalaniʻōpua Young at Tatiana@HawaiiLGBTlegacy.com. \nThe Pride Pā’ina Lā ‘Ohanais free\, and all are welcome. (Donations will be gladly accepted). We look forward to seeing you! \nRSVP here. \nPLEASE NOTE: The Hawai‘i LGBT Legacy Foundation (“Foundation”)\, at their sole discretion\, reserves the right to refuse admission to or eject any person behaving dangerously or inappropriately. Admission and security representatives of the Foundation reserve the right to refuse entry and to eject anyone from the Event\, without limitation\, for safety and health reasons. The Foundation reserves the right to conduct security searches and to refuse admission to You\, or eject You from the Venue\, should You refuse to comply with such security measures. The Foundation reserves the right to confiscate any item which\, in their reasonable opinion\, may cause danger or disruption at the Event. \n 
URL:https://hawaiilgbtlegacyfoundation.com/events/pa%ca%bbina-la/
LOCATION:Bishop Museum\, 1525 Bernice Street\, Honolulu\, HI\, 96817\, United States
ATTACH;FMTTYPE=image/jpeg:https://hawaiilgbtlegacyfoundation.com/wp-content/uploads/2023/01/Pride-Paʻina-La-ʻOhana-2b-scaled.jpg
END:VEVENT
BEGIN:VEVENT
DTSTART;TZID=Pacific/Honolulu:20230213T100000
DTEND;TZID=Pacific/Honolulu:20230213T110000
DTSTAMP:20260419T115955
CREATED:20230209T010442Z
LAST-MODIFIED:20230210T202445Z
UID:38597-1676282400-1676286000@hawaiilgbtlegacyfoundation.com
SUMMARY:Celebrating Marriage Equality
DESCRIPTION:The ACLU of Hawaii and Hawaii Health & Harm Reduction Center warmly invite you to a public gathering to honor the important role our state played in the pursuit of marriage equality for members of our LGBTQ+ community. \nThe event will take on Monday\, February 13\, at 10 AM in the auditorium. \n2023 marks the 30th anniversary of Baehr v. Lewin\, where the Hawaii State Supreme Court determined that denying a marriage license to a same-sex couple violated the equal protection guaranteed by our state constitution. Our guests will include Judge Daniel Foley (ret.)\, who litigated the Baehr v. Lewin case as an advocate for the ACLU of Hawaii\, Genora Dancel\, one of the plaintiffs in that case\, and Justice Steven Levinson (ret.)\, who authored the Baehr v. Lewin decision. \nSpeaker Saiki will present Judge Foley and Justice Levinson with a legislative certificates in appreciation for their role in marriage equality and for their commitments to public service. Other guests include Tom Ramsey\, who will provide brief remarks about the road leading to Hawaii’s legalization of same-sex marriage in a special session of the Legislature in 2013. \nLess than two months ago President Biden signed the Respect for Marriage Act into law\, requiring the federal government and all states to recognize the validity of same-sex marriages. Judge Foley’s authored a recent column in Honolulu Civil Beat\, “Reflections on the Respect for Marriage Act.” \nPlease join us to hear from our distinguished guests and celebrate Hawaii’s historic role in the pursuit of marriage equality. There will also be an opportunity to meet them and members of the capitol community in attendance. \nFor more information\, contact Nikos Leverenz nleverenz@hhhrc.org
URL:https://hawaiilgbtlegacyfoundation.com/events/celebrating-marriage-equality/
LOCATION:Hawaii State Capitol\, 415 South Beretania Street\, Honolulu\, HI\, 96813\, United States
ATTACH;FMTTYPE=image/jpeg:https://hawaiilgbtlegacyfoundation.com/wp-content/uploads/2023/02/Marriage-Equality-Celebration.jpg
END:VEVENT
BEGIN:VEVENT
DTSTART;TZID=Pacific/Honolulu:20230213T140000
DTEND;TZID=Pacific/Honolulu:20230213T153000
DTSTAMP:20260419T115955
CREATED:20230210T201405Z
LAST-MODIFIED:20230210T204227Z
UID:38604-1676296800-1676302200@hawaiilgbtlegacyfoundation.com
SUMMARY:Bhenji Ra: Vogue Foundations and Embodied Herstory Class
DESCRIPTION:Bhenji Ra will be taking over Queer Dance Exploratory at the UHM Dance Building on Monday 13th of February from 2-3:30pm. This class is open to the Public and is Free. Liability forms must be filled out and signed to participate\n\nBhenji Ra is a transdisciplinary artist currently based on Gadigal land\, Eora Nation. Her practice combines dance\, video\, illustration and community activation. Her work dissects cultural theory and identity\, centralising her own personal histories as a tool to reframe performance. \nShe is the mother of the House of Sle\, the pioneering house of the ballroom scene in Australia and was the creative director behind Mardi Gras sold out event Sissy Ball since 2018. She is a part of the house of Amazon lead by Leiomy Maldonado and is Juicy Couture in the kiki scene. \nFor more information\, contact Sami L.A. Akuna at Sami@HawaiiLGBTlegacy.com
URL:https://hawaiilgbtlegacyfoundation.com/events/bhenji-ra-vogue-foundations-and-embodied-herstory-class/
LOCATION:University of Hawaiʻi Mānoa Dance Building\, 1820 Edmondson Rd\, Honolulu\, 96822\, United States
ATTACH;FMTTYPE=image/jpeg:https://hawaiilgbtlegacyfoundation.com/wp-content/uploads/2023/02/Bhenji-Ra-calendar.jpg
END:VEVENT
BEGIN:VEVENT
DTSTART;TZID=Pacific/Honolulu:20230214T163000
DTEND;TZID=Pacific/Honolulu:20230214T173000
DTSTAMP:20260419T115955
CREATED:20230212T014253Z
LAST-MODIFIED:20230212T014253Z
UID:38623-1676392200-1676395800@hawaiilgbtlegacyfoundation.com
SUMMARY:Leading With Love Rally
DESCRIPTION:Join us at this LEADING WITH LOVE rally to support RESPECT and EQUALITY on Tuesday\, February 14 at 4:30pm at the Hawaiʻi State Capitol Rotunda. Hear from faith leaders\, teachers\, parents\, community members and legislative advocates about how we can SUPPORT THE LGBTQIA+ COMMUNITY at the Capitol this session. Learn why it is so important to SHOW UP AND SPEAK OUT wherever we can!
URL:https://hawaiilgbtlegacyfoundation.com/events/leading-with-love-rally/
LOCATION:Hawaii State Capitol\, 415 South Beretania Street\, Honolulu\, HI\, 96813\, United States
ATTACH;FMTTYPE=image/jpeg:https://hawaiilgbtlegacyfoundation.com/wp-content/uploads/2023/02/Leading-with-Love-calendar.jpg
END:VEVENT
BEGIN:VEVENT
DTSTART;TZID=Pacific/Honolulu:20230218T100000
DTEND;TZID=Pacific/Honolulu:20230218T120000
DTSTAMP:20260419T115955
CREATED:20210602T000041Z
LAST-MODIFIED:20230128T210422Z
UID:30839-1676714400-1676721600@hawaiilgbtlegacyfoundation.com
SUMMARY:February meeting: Stonewall Caucus of the Democratic Party of Hawai'i
DESCRIPTION:The Stonewall Caucus of the Democratic Party of Hawai‘i\, founded in 2001\, is organized to advocate for Hawai’i’s gay\, lesbian\, bisexual\, and transgender communities through the Democratic Party of Hawai‘i\, Democratic and other elected officials\, appointed officials and the general community. The Stonewall Caucus of the Democratic Party of Hawai‘i is dedicated to the vision of seeking and achieving freedom\, equality and justice for all. \nClick here for the 2023 Stonewall Caucus Leg Tracker.  \nFor more information\, click here.
URL:https://hawaiilgbtlegacyfoundation.com/events/june-meeting-stonewall-caucus-of-the-democratic-party-of-hawaii/
LOCATION:Online
ATTACH;FMTTYPE=image/jpeg:https://hawaiilgbtlegacyfoundation.com/wp-content/uploads/2021/04/Stonewall-Caucus.jpeg
END:VEVENT
BEGIN:VEVENT
DTSTART;TZID=Pacific/Honolulu:20230218T140000
DTEND;TZID=Pacific/Honolulu:20230218T153000
DTSTAMP:20260419T115955
CREATED:20230124T211459Z
LAST-MODIFIED:20230212T223602Z
UID:38460-1676728800-1676734200@hawaiilgbtlegacyfoundation.com
SUMMARY:February 3\, 9 & 18: The Inspection
DESCRIPTION:In Elegance Bratton’s deeply moving film inspired by his own story\, a young\, gay\, Black man\, rejected by his mother and with few options for his future\, decides to join the Marines\, doing whatever it takes to succeed in a system that would cast him aside. But even as he battles deep-seated prejudice and the grueling routines of basic training\, he finds unexpected camaraderie\, strength\, and support in this new community\, giving him a hard-earned sense of belonging that will shape his identity and forever change his life. \nThe Inspection is screening as part of the Honolulu African American Film Festival 2023. at the Doris Duke Theatre / Honolulu Museum of Art.
URL:https://hawaiilgbtlegacyfoundation.com/events/february-3-9-18-the-inspection/
LOCATION:Honolulu Museum of Art\, 900 S Beretania St\, Honolulu\, HI\, 96814\, United States
ATTACH;FMTTYPE=image/png:https://hawaiilgbtlegacyfoundation.com/wp-content/uploads/2023/01/The-Inspection-film-still.png
GEO:21.303833;-157.84944
X-APPLE-STRUCTURED-LOCATION;VALUE=URI;X-ADDRESS=Honolulu Museum of Art 900 S Beretania St Honolulu HI 96814 United States;X-APPLE-RADIUS=500;X-TITLE=900 S Beretania St:geo:-157.84944,21.303833
END:VEVENT
BEGIN:VEVENT
DTSTART;TZID=Pacific/Honolulu:20230218T200000
DTEND;TZID=Pacific/Honolulu:20230218T213000
DTSTAMP:20260419T115955
CREATED:20221223T212245Z
LAST-MODIFIED:20221223T213329Z
UID:38283-1676750400-1676755800@hawaiilgbtlegacyfoundation.com
SUMMARY:An Evening with David Sedaris
DESCRIPTION:Humorist and author of bestsellers including Naked and Me Talk Pretty One Day\, and a regular National Public Radio contributor\, David Sedaris will be live on stage for one night only\, following the release of his newest book Happy Go Lucky. \nPart of his 2023 tour\, including stops on Maui\, Hawaiʻi Island and Kauaʻi\, Sedaris will be offering a selection of all-new readings and recollections\, as well as a Q&A session and book signing. \nFor more information and to purchase tickets\, click here.
URL:https://hawaiilgbtlegacyfoundation.com/events/an-evening-with-david-sedaris/
LOCATION:Neal S Blaisdell Concert Hall\, 777 Ward Avenue\, Honolulu\, 96814\, United States
ATTACH;FMTTYPE=image/jpeg:https://hawaiilgbtlegacyfoundation.com/wp-content/uploads/2022/12/David-Sedaris.jpg
END:VEVENT
BEGIN:VEVENT
DTSTART;TZID=Pacific/Honolulu:20230226T100000
DTEND;TZID=Pacific/Honolulu:20230226T130000
DTSTAMP:20260419T115955
CREATED:20230117T214449Z
LAST-MODIFIED:20230223T003249Z
UID:38368-1677405600-1677416400@hawaiilgbtlegacyfoundation.com
SUMMARY:Old Pali Road Hike + Beach Hiking Event
DESCRIPTION:Another wonderful Aloha Bears and Hawaii’s Queer Hiking & Activities Group event is scheduled for February 26\, and ALL are welcome! Old Pali Road is a 2.5 mile heavily trafficked out and back trail located near Kaneohe\, Oahu\, Hawaii that offers the chance to see wildlife. The trail is primarily used for hiking\, walking\, and nature trips and is accessible year-round. Dogs are also able to use this trail. Bring hiking/comfortable shoes\, at least 2 liters of water\, sun protection/hat\, a towel and snacks. The organizers ask that participants be sober with no recreational drugs in their system in order to be fully present\, meet other people and enjoy the hikes. \nFor more information click here.
URL:https://hawaiilgbtlegacyfoundation.com/events/old-pali-road-hike-beach-hiking-event/
LOCATION:Old Pali Road
ATTACH;FMTTYPE=image/jpeg:https://hawaiilgbtlegacyfoundation.com/wp-content/uploads/2023/01/Old-Pali-Hike.jpg
END:VEVENT
BEGIN:VEVENT
DTSTART;TZID=Pacific/Honolulu:20230228T080000
DTEND;TZID=Pacific/Honolulu:20230228T090000
DTSTAMP:20260419T115955
CREATED:20230221T213316Z
LAST-MODIFIED:20230221T213316Z
UID:38720-1677571200-1677574800@hawaiilgbtlegacyfoundation.com
SUMMARY:Supporting Diverse Family Caregivers: A Guide for Patient Advocacy Groups
DESCRIPTION:Join the National Alliance for Caregiving for the release of their new guide\, Supporting Diverse Family Caregivers: A Guide for Patient Advocacy Groups. This guide provides information learned from diverse family caregivers on how their culture may affect their caregiving role and their interaction with caregiving resources\, and provides guidance on how patient advocacy groups can reach diverse caregivers with culturally responsive support. At the webinar\, NAC will go through some of their findings and the content of the guide itself. \nFor more information and to register\, click here.
URL:https://hawaiilgbtlegacyfoundation.com/events/supporting-diverse-family-caregivers-a-guide-for-patient-advocacy-groups/
LOCATION:Onlilne
ATTACH;FMTTYPE=image/png:https://hawaiilgbtlegacyfoundation.com/wp-content/uploads/2023/02/NAC-Diverse-Caregivers.png
END:VEVENT
BEGIN:VEVENT
DTSTART;TZID=Pacific/Honolulu:20230228T173000
DTEND;TZID=Pacific/Honolulu:20230228T183000
DTSTAMP:20260419T115955
CREATED:20230222T002837Z
LAST-MODIFIED:20230222T003104Z
UID:38730-1677605400-1677609000@hawaiilgbtlegacyfoundation.com
SUMMARY:Annual Virtual Town Hall Meeting
DESCRIPTION:Join a discussion of important issues and updates with Rep. Scott Nishimoto\, Hawaiʻi State Speaker of House Scott Saiki\, Rep. Dela Au Belatti\, Sen.Sharon Moriwaki\, and Honolulu Councilmember Tyler Dos-Santos Tam at their Annual Virtual Town Hall Meeting. \nWednesday\, February 22nd from 5:30 p.m. to 6:30 p.m. \n\nRegister here.
URL:https://hawaiilgbtlegacyfoundation.com/events/annual-virtual-town-hall-meeting/
LOCATION:Online
ATTACH;FMTTYPE=image/png:https://hawaiilgbtlegacyfoundation.com/wp-content/uploads/2023/02/Virtual-Town-Hall-calendar.png
END:VEVENT
END:VCALENDAR