BEGIN:VCALENDAR
VERSION:2.0
PRODID:-//Hawaii LGBT Legacy Foundation - ECPv6.13.2.1//NONSGML v1.0//EN
CALSCALE:GREGORIAN
METHOD:PUBLISH
X-WR-CALNAME:Hawaii LGBT Legacy Foundation
X-ORIGINAL-URL:https://hawaiilgbtlegacyfoundation.com
X-WR-CALDESC:Events for Hawaii LGBT Legacy Foundation
REFRESH-INTERVAL;VALUE=DURATION:PT1H
X-Robots-Tag:noindex
X-PUBLISHED-TTL:PT1H
BEGIN:VTIMEZONE
TZID:Pacific/Honolulu
BEGIN:STANDARD
TZOFFSETFROM:-1000
TZOFFSETTO:-1000
TZNAME:HST
DTSTART:20220101T000000
END:STANDARD
END:VTIMEZONE
BEGIN:VTIMEZONE
TZID:America/Los_Angeles
BEGIN:DAYLIGHT
TZOFFSETFROM:-0800
TZOFFSETTO:-0700
TZNAME:PDT
DTSTART:20220313T100000
END:DAYLIGHT
BEGIN:STANDARD
TZOFFSETFROM:-0700
TZOFFSETTO:-0800
TZNAME:PST
DTSTART:20221106T090000
END:STANDARD
END:VTIMEZONE
BEGIN:VEVENT
DTSTART;TZID=Pacific/Honolulu:20221102T063000
DTEND;TZID=Pacific/Honolulu:20221102T073000
DTSTAMP:20260419T154222
CREATED:20221101T222137Z
LAST-MODIFIED:20221101T222250Z
UID:37263-1667370600-1667374200@hawaiilgbtlegacyfoundation.com
SUMMARY:White House LGBTQI+ Economic Impact Briefing
DESCRIPTION:Please join Senior Advisor to the President for Public Engagement\, Keisha Lance Bottoms and Senior White House Officials for a LGBTQI+ Economic Impact Briefing on Wednesday\, November 2nd at 12:30 PM Eastern Time. \nThis special event will bring together community leaders from across the nation to discuss the Biden-Harris Administration’s economic investments and impacts\, with a particular focus on how these landmark achievements are creating lasting change for the LGBTQI+ community. Please note\, these briefings will take place over zoom. This invitation is open to all stakeholders. \nTo confirm your participation\, RSVP here: https://pitc.zoomgov.com/webinar/register/WN_aj8bCS0IQh-nt9pCfHQuUA \n 
URL:https://hawaiilgbtlegacyfoundation.com/events/white-house-lgbtqi-economic-impact-briefing/
LOCATION:Online
ATTACH;FMTTYPE=image/png:https://hawaiilgbtlegacyfoundation.com/wp-content/uploads/2022/11/US-WhiteHouse-Logo.png
END:VEVENT
BEGIN:VEVENT
DTSTART;VALUE=DATE:20221103
DTEND;VALUE=DATE:20221104
DTSTAMP:20260419T154222
CREATED:20220910T215714Z
LAST-MODIFIED:20221103T212604Z
UID:36887-1667433600-1667519999@hawaiilgbtlegacyfoundation.com
SUMMARY:Hawaiʻi International Film Festival
DESCRIPTION:The 2022 Hawaiʻi International Film Festival will run from November 3 – 27 with online and in-theatre screenings. As the vanguard forum of international cinematic achievement in the Asia-Pacific region\, Hawai‘i International Film Festival (HIFF) endeavors to recognize new and emerging talent\, promote career development and original collaborations through innovative education programs\, and facilitate dynamic cultural exchange through the cinema arts. \nFor more information\, visit HIFF.org
URL:https://hawaiilgbtlegacyfoundation.com/events/hawai%ca%bbi-international-film-festival/
LOCATION:HI
ATTACH;FMTTYPE=image/png:https://hawaiilgbtlegacyfoundation.com/wp-content/uploads/2022/09/HIFF42.png
END:VEVENT
BEGIN:VEVENT
DTSTART;VALUE=DATE:20221105
DTEND;VALUE=DATE:20221106
DTSTAMP:20260419T154222
CREATED:20220917T015740Z
LAST-MODIFIED:20220917T015740Z
UID:36946-1667606400-1667692799@hawaiilgbtlegacyfoundation.com
SUMMARY:HSO - Hapa Symphony - Beyond Hapa
DESCRIPTION:Come to expect the unexpected from your Hawai’i Symphony Orchestra in a magical evening of love\, joy\, and inclusion that IS Hawai’i. From a Mozart Piano Concerto to I’ve Got Rhythm\, Ahe Lau Makani to Quando m’en vo\, and featuring new music by Roslyn Catracchia\, don’t miss an unforgettable night with your HSO\, Lea Almanza\, Starr Kalahiki\, Lady Laritza La Bouche\, special guest Brandy Lee\, and hosted by the wonderous Miss Candi Shell.
URL:https://hawaiilgbtlegacyfoundation.com/events/hso-hapa-symphony-beyond-hapa/
LOCATION:Hawaii Theatre\, 1130 Bethel Street\, Honolulu\, HI\, 96813\, United States
ATTACH;FMTTYPE=image/png:https://hawaiilgbtlegacyfoundation.com/wp-content/uploads/2022/09/Hawaii-Theatre-Center-Beyond-Hapa.png
GEO:21.323302;-157.836342
X-APPLE-STRUCTURED-LOCATION;VALUE=URI;X-ADDRESS=Hawaii Theatre 1130 Bethel Street Honolulu HI 96813 United States;X-APPLE-RADIUS=500;X-TITLE=1130 Bethel Street:geo:-157.836342,21.323302
END:VEVENT
BEGIN:VEVENT
DTSTART;TZID=Pacific/Honolulu:20221105T180000
DTEND;TZID=Pacific/Honolulu:20221105T210000
DTSTAMP:20260419T154222
CREATED:20220819T060258Z
LAST-MODIFIED:20220819T060741Z
UID:36715-1667671200-1667682000@hawaiilgbtlegacyfoundation.com
SUMMARY:Gregory House Programs - Kahu Mālama 2022
DESCRIPTION:Gregory House Programs invites you to attend their Annual Fundraiser\, Kahu Mālama Award and Silent Auction on Saturday\, November 5\, 2022. The event will feature heavy pupu’s\, entertainment\, award presentation\, silent auction\, and lots of time for socializing. \nGregory House Programs provides housing services statewide\, and case management and nutrition services on Oahu to over 500 people living with HIV and their families each year. \nYour support of this event will help them provide essential housing and nutritional services to those most in need. \nTo learn more\, click here.
URL:https://hawaiilgbtlegacyfoundation.com/events/gregory-house-programs-kahu-malama-2022/
LOCATION:HI
ATTACH;FMTTYPE=image/png:https://hawaiilgbtlegacyfoundation.com/wp-content/uploads/2022/08/Gregory-House-Programs-calendar.png
END:VEVENT
BEGIN:VEVENT
DTSTART;TZID=Pacific/Honolulu:20221106T110000
DTEND;TZID=Pacific/Honolulu:20221106T130000
DTSTAMP:20260419T154222
CREATED:20221103T211903Z
LAST-MODIFIED:20221103T212029Z
UID:37301-1667732400-1667739600@hawaiilgbtlegacyfoundation.com
SUMMARY:BACARDÍ Presents Cheers & Queers
DESCRIPTION:Toast the return of Hawaii Food & Wine Festival’s Drag Brunch and sashay your way to the Blue Note Hawaii\, the Outrigger Waikiki Beach Resort’s location of the iconic New York-based jazz club. \nHonolulu’s best drag performers\, the Party Monsters\, are ready to put on a show for you after two long years! The cocktails will keep flowing—because brunch without booze is just sad breakfast—while five local chefs step up their brunch bites game for the ultimate #SundayFunday! \nPurchase your tickets here.
URL:https://hawaiilgbtlegacyfoundation.com/events/bacardi-presents-cheers-queers/
LOCATION:Blue Note Hawaii\, 2335 Kalakaua Ave\, Honolulu\, HI\, 96815\, United States
ATTACH;FMTTYPE=image/png:https://hawaiilgbtlegacyfoundation.com/wp-content/uploads/2022/11/Cheers-Queers.png
END:VEVENT
BEGIN:VEVENT
DTSTART;VALUE=DATE:20221109
DTEND;VALUE=DATE:20221110
DTSTAMP:20260419T154222
CREATED:20221107T010510Z
LAST-MODIFIED:20221108T224159Z
UID:37378-1667952000-1668038399@hawaiilgbtlegacyfoundation.com
SUMMARY:November 6-11 | LGBTQ+ @ HIFF42
DESCRIPTION:The 42nd Annual Hawaiʻi International Film Festival features several remarkable films exploring LGBTQ+ themes. From a documentary chronicling ground-breaking photographer and activist Nan Goldinʻs journey\, to an exploration of BDSM\, to a Moroccan genre-defying love story to an examination of the joy and heartache of an intimate childhood friendship. \nLearn more about these films\, and all the offerings of HIFF42 here.
URL:https://hawaiilgbtlegacyfoundation.com/events/november-6-11-lgbtq-hiff42/
LOCATION:Consolidated Theatres Kahala\, 4211 Waialae Ave\, Honolulu\, 96816\, United States
ATTACH;FMTTYPE=image/png:https://hawaiilgbtlegacyfoundation.com/wp-content/uploads/2022/11/HIFF42-LGBTQ.png
END:VEVENT
BEGIN:VEVENT
DTSTART;TZID=Pacific/Honolulu:20221109T193000
DTEND;TZID=Pacific/Honolulu:20221109T213000
DTSTAMP:20260419T154222
CREATED:20221101T023323Z
LAST-MODIFIED:20221101T023323Z
UID:37259-1668022200-1668029400@hawaiilgbtlegacyfoundation.com
SUMMARY:The Inspection
DESCRIPTION:The Hawaiʻi International Film Festival returns with this year’s Centerpiece Gala presentation\, The Inspection\, Wednesday\, November 9\, 7:30pm at Consolidated Ward 16. \nIn Elegance Bratton’s deeply moving film inspired by his own story\, a young\, gay Black man\, rejected by his mother and with few options for his future\, decides to join the Marines\, doing whatever it takes to succeed in a system that would cast him aside. But even as he battles deep-seated prejudice and the grueling routines of basic training\, he finds unexpected camaraderie\, strength\, and support in this new community\, giving him a hard-earned sense of belonging that will shape his identity and forever change his life. \nLearn more. \n 
URL:https://hawaiilgbtlegacyfoundation.com/events/the-inspection/
LOCATION:Consolidated Ward Theatres\, 1044 Auahi Street\, Honolulu\, HI\, 96814\, United States
ATTACH;FMTTYPE=image/png:https://hawaiilgbtlegacyfoundation.com/wp-content/uploads/2022/10/HIFF42-The-Inspection.png
END:VEVENT
BEGIN:VEVENT
DTSTART;TZID=Pacific/Honolulu:20221109T200000
DTEND;TZID=Pacific/Honolulu:20221109T220000
DTSTAMP:20260419T154222
CREATED:20221103T013136Z
LAST-MODIFIED:20221103T014219Z
UID:37293-1668024000-1668031200@hawaiilgbtlegacyfoundation.com
SUMMARY:Khruangbin
DESCRIPTION:RELIX says: “The Texas trio has made a huge impact over the last several years\, performing at festivals and packing venues worldwide. Out bassist Laura Lee Ochoa is as much of a style icon as the low end of Khruangbin\, donning flowing dresses and her trademark wig on-stage\, providing added allure to the band’s already abundantly intoxicating allure.” \nKhruangbin is a three-piece band from Houston\, Texas\, formed in 2009 with Laura Lee Ochoa on bass\, Mark Speer on guitar and Donald Johnson on drums. Taking influence from 1960’s Thai funk – their name literally translates to “Engine Fly” in Thai – Khruangbin is steeped in the bass heavy\, psychedelic sound of their inspiration\, Tarantino soundtracks and surf-rock cool. \nBy the summer of 2019\, the trio had been on tour for nearly three-and-a-half years\, playing to audiences across North and South America\, Europe\, and southeast Asia behind its acclaimed albums The Universe Smiles Upon You\, Con Todo El Mundo\, and Mordechai. \nKhruangbin has Garnered glowing praise from The New York Times\, W Magazine\, Billboard\, The Los Angeles Times\, and The FADER. \nFor more information\, and to purchase tickets\, click here.
URL:https://hawaiilgbtlegacyfoundation.com/events/khruangbin/
LOCATION:Neal S Blaisdell Concert Hall\, 777 Ward Avenue\, Honolulu\, 96814\, United States
ATTACH;FMTTYPE=image/png:https://hawaiilgbtlegacyfoundation.com/wp-content/uploads/2022/11/Khruangbin.png
END:VEVENT
BEGIN:VEVENT
DTSTART;VALUE=DATE:20221110
DTEND;VALUE=DATE:20221111
DTSTAMP:20260419T154222
CREATED:20221107T000252Z
LAST-MODIFIED:20221107T000616Z
UID:37366-1668038400-1668124799@hawaiilgbtlegacyfoundation.com
SUMMARY:Jordan Nassar: Lēʻahi
DESCRIPTION:Out Palestinian artist Jordan Nassar has been in residency at Shangri La Museum of Islamic Art\, Culture and Design since July 3\, and you can now see the resulting installation–his first large scale tile mosaic– Lēʻahi (also known as Diamond Head)\, on view through May 27\, 2023.\n\n\n\nNassar’s multivalent art practice engages the material varieties of craft to execute ideas centered on heritage and homeland. Through hand-embroidery\, wood inlay\, glasswork and expansive installations\, he examines issues of identity\, diaspora and cultural participation.\n\n\n\nLearn more about the artist by reading OUT Magazineʻs “Fall Into This ʻFlamingly Gayʻ Palestinian Artistʻs Cross-Cultural Web”.\n\n\n\nPurchase your tickets to Shangri La to see the exhibition here: 
URL:https://hawaiilgbtlegacyfoundation.com/events/jordan-nassar-le%ca%bbahi-at-shangri-la/
LOCATION:Shangri La Museum of Islamic Art\, Culture & Design
ATTACH;FMTTYPE=image/png:https://hawaiilgbtlegacyfoundation.com/wp-content/uploads/2022/11/Jordan-Nassar-Shangri-La-calendar.png
END:VEVENT
BEGIN:VEVENT
DTSTART;TZID=Pacific/Honolulu:20221112T090000
DTEND;TZID=Pacific/Honolulu:20221112T150000
DTSTAMP:20260419T154222
CREATED:20221107T002743Z
LAST-MODIFIED:20221107T003122Z
UID:37373-1668243600-1668265200@hawaiilgbtlegacyfoundation.com
SUMMARY:Aloha State Softball League: Season 1
DESCRIPTION:The Aloha State Softball Leagueʻs first season continues through December 3rd\, with games played every Saturday at the Ala Wai Community Park Softball Field. So come on out and root for your favorite team\, and all the players\, and join the fun! \nThe Aloha State Softball League is a co-ed community-minded group that strives to provide an inclusive\, safe\, and enjoyable atmosphere for the lesbian\, gay\, bisexual\, transgender\, queer and the LGBTQI-friendly community. The league fosters sportsmanship\, friendly competition and community building through the sport of softball and falls under the national organization of NAGAAA (North American Gay Amateur Athletic Alliance).
URL:https://hawaiilgbtlegacyfoundation.com/events/aloha-state-softball-league-season-1/
LOCATION:Ala Wai Community Park\, 2015 Kapiolani Blvd\, Honolulu\, HI\, 96826\, United States
ATTACH;FMTTYPE=image/png:https://hawaiilgbtlegacyfoundation.com/wp-content/uploads/2022/11/Aloha-State-Softball-League.png
END:VEVENT
BEGIN:VEVENT
DTSTART;TZID=Pacific/Honolulu:20221116T173000
DTEND;TZID=Pacific/Honolulu:20221116T193000
DTSTAMP:20260419T154222
CREATED:20221109T235703Z
LAST-MODIFIED:20221109T235730Z
UID:37670-1668619800-1668627000@hawaiilgbtlegacyfoundation.com
SUMMARY:Growing Up Film Screening & Student Panel
DESCRIPTION:Created by Brie Larson and Culture House\, Growing Up is an innovative hybrid docu-series that explores the challenges\, triumphs and complexities of adolescence  through coming of age stories. This special FREE event\, presented by the UH Mānoa LGBTQ+ Center\, will include a film screening\, student panel and a light dinner. \nLearn more here.
URL:https://hawaiilgbtlegacyfoundation.com/events/growing-up-film-screening-student-panel/
LOCATION:University of Hawaiʻi at Mānoa Campus Center\, 2465 Campus Road\, Honolulu\, HI\, 96822\, United States
ATTACH;FMTTYPE=image/png:https://hawaiilgbtlegacyfoundation.com/wp-content/uploads/2022/11/Disney-Growing-Up.png
END:VEVENT
BEGIN:VEVENT
DTSTART;TZID=Pacific/Honolulu:20221119T183000
DTEND;TZID=Pacific/Honolulu:20221119T230000
DTSTAMP:20260419T154222
CREATED:20221115T234140Z
LAST-MODIFIED:20221115T234859Z
UID:37704-1668882600-1668898800@hawaiilgbtlegacyfoundation.com
SUMMARY:Lesbian Night at Atlas Honolulu
DESCRIPTION:Donʻt miss this new Lesbian Night at Atlas Honolulu coming up on Saturday\, November 19. “The L Word: Generation Q” Season 3 premiere will be broadcast at 6:30pm. Come grab a seat and watch with your friends\, family\, and partners. Then party with the Atlas oʻhana and headliner DJs Kay-ristin and Kaimi Asing starting at 9pm. All are welcome! \nLearn more: https://www.instagram.com/p/Ck_qEXXS5VX/?hl=en
URL:https://hawaiilgbtlegacyfoundation.com/events/lesbian-night-at-atlas-honolulu/
LOCATION:Atlas Honolulu\, 2012 S. Beretania\, Honolulu\, 96826\, United States
ATTACH;FMTTYPE=image/png:https://hawaiilgbtlegacyfoundation.com/wp-content/uploads/2022/11/Atlas-Honolulu-Lesbian-Night.png
END:VEVENT
BEGIN:VEVENT
DTSTART;TZID=Pacific/Honolulu:20221122T150000
DTEND;TZID=Pacific/Honolulu:20221122T160000
DTSTAMP:20260419T154222
CREATED:20221102T233019Z
LAST-MODIFIED:20221102T233316Z
UID:37289-1669129200-1669132800@hawaiilgbtlegacyfoundation.com
SUMMARY:PLFAG Connects: Military Community
DESCRIPTION:PFLAG Connects: Military Community\, a virtual support meeting in partnership with Modern Military Association of America (MMAA)\, is a monthly support meeting for service members and military spouses with LGBTQ+ children and loved ones. The first meeting will take place on Monday\, November 14\, 2022 at 9pm ET / 8pm CT / 3pm HT. \nEach meeting is facilitated by members of the community\, offering guidance and support in a safe\, affirming\, private space. PFLAG / MMAA takes the opportunity to serve this community with the utmost seriousness and will do all we can to ensure you feel secure when you attend. \nIf this is a community you are part of — or you know someone who would benefit from attending — please visit https://pflagnation.al/PCMil111422 to register.
URL:https://hawaiilgbtlegacyfoundation.com/events/plfag-connects-military-community/
LOCATION:Online
ATTACH;FMTTYPE=image/png:https://hawaiilgbtlegacyfoundation.com/wp-content/uploads/2022/11/PFLAG-MMA.png
END:VEVENT
BEGIN:VEVENT
DTSTART;TZID=Pacific/Honolulu:20221126T140000
DTEND;TZID=Pacific/Honolulu:20221126T180000
DTSTAMP:20260419T154222
CREATED:20221115T204709Z
LAST-MODIFIED:20221115T204709Z
UID:37698-1669471200-1669485600@hawaiilgbtlegacyfoundation.com
SUMMARY:Gobble Wobble Softball & Kickball Potluck Social
DESCRIPTION:Join fellow athletes and sports enthusiasts on Saturday\, November 26 from 2 – 6pm for a potluck social jointly hosted by Aloha State Softball League and the Hawaiʻi Gay Kickball League! Come practice kickball and meet LGTBQ+ sports league players. Kickball will start after the softball games end at 4 PM. The event is BYOB. Please bring a pupu\, dish or dessert.\n\nFor more information\, click here.
URL:https://hawaiilgbtlegacyfoundation.com/events/gobble-wobble-softball-kickball-potluck-social/
LOCATION:Ala Wai Softball Field\, 2015 Kapiolani Blvd\, Honolulu\, 96826\, United States
ATTACH;FMTTYPE=image/jpeg:https://hawaiilgbtlegacyfoundation.com/wp-content/uploads/2022/11/Gobble-Wobble-Gay-Kickball-League.jpg
END:VEVENT
BEGIN:VEVENT
DTSTART;TZID=America/Los_Angeles:20221129T080000
DTEND;TZID=America/Los_Angeles:20221129T170000
DTSTAMP:20260419T154222
CREATED:20221129T205846Z
LAST-MODIFIED:20221129T205852Z
UID:37974-1669708800-1669741200@hawaiilgbtlegacyfoundation.com
SUMMARY:Hulaʻs Celebrates 24 Years of The View
DESCRIPTION:Come celebrate Hulaʻs 24th Anniversary at the Waikiki Grand Hotel on Tuesday\, November 29. With entertainment by Mahi’ai & Kalau and DJ KSM\, pupus by Hula’s Beach Bites by Ginniberries\, beverages\, lots of fun and Hulaʻs special brand of “Aloha for All”. \nTo learn more\, click here. \n 
URL:https://hawaiilgbtlegacyfoundation.com/events/hula%ca%bbs-celebrates-24-years-of-the-view/
LOCATION:HI
ATTACH;FMTTYPE=image/png:https://hawaiilgbtlegacyfoundation.com/wp-content/uploads/2022/11/Hulaʻs-24-Years-The-View.png
END:VEVENT
END:VCALENDAR