BEGIN:VCALENDAR
VERSION:2.0
PRODID:-//Hawaii LGBT Legacy Foundation - ECPv6.13.2.1//NONSGML v1.0//EN
CALSCALE:GREGORIAN
METHOD:PUBLISH
X-ORIGINAL-URL:https://hawaiilgbtlegacyfoundation.com
X-WR-CALDESC:Events for Hawaii LGBT Legacy Foundation
REFRESH-INTERVAL;VALUE=DURATION:PT1H
X-Robots-Tag:noindex
X-PUBLISHED-TTL:PT1H
BEGIN:VTIMEZONE
TZID:America/Los_Angeles
BEGIN:DAYLIGHT
TZOFFSETFROM:-0800
TZOFFSETTO:-0700
TZNAME:PDT
DTSTART:20220313T100000
END:DAYLIGHT
BEGIN:STANDARD
TZOFFSETFROM:-0700
TZOFFSETTO:-0800
TZNAME:PST
DTSTART:20221106T090000
END:STANDARD
END:VTIMEZONE
BEGIN:VEVENT
DTSTART;VALUE=DATE:20221003
DTEND;VALUE=DATE:20221004
DTSTAMP:20260419T173522
CREATED:20220730T202951Z
LAST-MODIFIED:20220730T202951Z
UID:36533-1664755200-1664841599@hawaiilgbtlegacyfoundation.com
SUMMARY:Rainbows Over Waikīkī
DESCRIPTION:Thanks to Rainbows Over Waikīkī Presenting Sponsor Hawaiian Airlines\, there will once again be dozens of Rainbow Banners along Ala Moana Boulevard and Kalākaua Avenue during Honolulu Pride Month\, sharing LGBTQ+ Pride and Aloha. Post your pictures to social media using #RainbowsOverWaikiki. Send them to us and your photos might appear right here on the Honolulu Pride 2022 Rainbows Over Waikīkī website. Questions or comments? Please contact Nathan Leo Happy Pride!
URL:https://hawaiilgbtlegacyfoundation.com/events/rainbows-over-waikiki/
LOCATION:HI
ATTACH;FMTTYPE=image/png:https://hawaiilgbtlegacyfoundation.com/wp-content/uploads/2022/07/HA-ROW-HNL-PRIDE-2021-banner.png
END:VEVENT
END:VCALENDAR