BEGIN:VCALENDAR
VERSION:2.0
PRODID:-//Hawaii LGBT Legacy Foundation - ECPv6.13.2.1//NONSGML v1.0//EN
CALSCALE:GREGORIAN
METHOD:PUBLISH
X-WR-CALNAME:Hawaii LGBT Legacy Foundation
X-ORIGINAL-URL:https://hawaiilgbtlegacyfoundation.com
X-WR-CALDESC:Events for Hawaii LGBT Legacy Foundation
REFRESH-INTERVAL;VALUE=DURATION:PT1H
X-Robots-Tag:noindex
X-PUBLISHED-TTL:PT1H
BEGIN:VTIMEZONE
TZID:Pacific/Honolulu
BEGIN:STANDARD
TZOFFSETFROM:-1000
TZOFFSETTO:-1000
TZNAME:HST
DTSTART:20220101T000000
END:STANDARD
END:VTIMEZONE
BEGIN:VTIMEZONE
TZID:America/Los_Angeles
BEGIN:DAYLIGHT
TZOFFSETFROM:-0800
TZOFFSETTO:-0700
TZNAME:PDT
DTSTART:20220313T100000
END:DAYLIGHT
BEGIN:STANDARD
TZOFFSETFROM:-0700
TZOFFSETTO:-0800
TZNAME:PST
DTSTART:20221106T090000
END:STANDARD
END:VTIMEZONE
BEGIN:VEVENT
DTSTART;VALUE=DATE:20220201
DTEND;VALUE=DATE:20220202
DTSTAMP:20260420T064012
CREATED:20210501T232425Z
LAST-MODIFIED:20220108T015954Z
UID:30394-1643673600-1643759999@hawaiilgbtlegacyfoundation.com
SUMMARY:LGBTQIA+ Small Business Owners & Members Support Group
DESCRIPTION:Discover community and connection through personal and professional growth with this new support group presented by the Hawaii Rainbow Chamber of Commerce. Led by Kevin Moran\, the group will meet the 2nd and 4th Wednesdays of each month beginning May 12 from 6:30pm – 8pm via Zooom. Topics include current events\, stress management\, mindfulness\, anxiety reduction\, coping skills\, grounding techniques\, queer business ownership issues and identity development. \nFor more information\, contact Kevin Moran at info@kevinmoran.com
URL:https://hawaiilgbtlegacyfoundation.com/events/lgbtqia-small-business-owners-members-support-group/
LOCATION:Online
ATTACH;FMTTYPE=image/png:https://hawaiilgbtlegacyfoundation.com/wp-content/uploads/2021/05/Hawaii-Rainbow-Chamber-LGBTQIA-Support-Group.png
END:VEVENT
BEGIN:VEVENT
DTSTART;VALUE=DATE:20220202
DTEND;VALUE=DATE:20220203
DTSTAMP:20260420T064012
CREATED:20220121T210234Z
LAST-MODIFIED:20220131T210136Z
UID:33875-1643760000-1643846399@hawaiilgbtlegacyfoundation.com
SUMMARY:Lambda Legal Report: Year One of the Biden Administration
DESCRIPTION:Lambda Legal looks back on the first year of Joe Biden’s presidency\, reviewing progress on the organizationʻs proposals to advance the rights of LGBTQ+ people and everyone living with HIV. “As the now one-year-old Biden Administration embarks on its second year of work\, we are once again calling for urgent action on a series of critical priorities to reverse the damage done by the Trump administration\, and to continue to address the inequities experienced by LGBTQ+ people and people living with HIV across the country. \n“Our previously stated ten priorities\, along with five additional asks we have set forth for the administration\, include stopping the separation of families\, ending HIV discrimination in the military\, protecting voting rights\, and stopping attacks on trans kids\, and much more.” \nLambda Legal\, a 501(c)(3) nonprofit\, is a national organization committed to achieving full recognition of the civil rights of lesbians\, gay men\, bisexuals\, transgender people and everyone living with HIV through impact litigation\, education and public policy work. \nRead the report here.
URL:https://hawaiilgbtlegacyfoundation.com/events/lambda-legay-report-year-one-of-the-biden-administration/
LOCATION:Online
ATTACH;FMTTYPE=image/png:https://hawaiilgbtlegacyfoundation.com/wp-content/uploads/2022/01/Lambda-Legal-Biden-Report-Jan-2022.png
END:VEVENT
BEGIN:VEVENT
DTSTART;TZID=Pacific/Honolulu:20220202T180000
DTEND;TZID=Pacific/Honolulu:20220202T193000
DTSTAMP:20260420T064012
CREATED:20220111T232523Z
LAST-MODIFIED:20220120T002432Z
UID:33763-1643824800-1643830200@hawaiilgbtlegacyfoundation.com
SUMMARY:ACLU of Hawai'i Advocacy Training
DESCRIPTION:Join ACLU of Hawai’i for a virtual Advocacy Training to learn how you can be part of efforts to promote justice and protect freedom across the state. At this event\, ACLU staff will highlight some of the most pressing issues facing Hawaiʻi\, and equip you with the tools you need to join the fight. In small groups youʻll then talk story before diving into how to work together to make our voices heard at the Capital. Note – in order to build connections and create a plan for success\, active participation will be highly encouraged. \nFor more information\, and to register\, click here.
URL:https://hawaiilgbtlegacyfoundation.com/events/aclu-of-hawaii-advocacy-training/
LOCATION:Online
ATTACH;FMTTYPE=image/png:https://hawaiilgbtlegacyfoundation.com/wp-content/uploads/2022/01/ACLU-Advocacy-Training.png
END:VEVENT
BEGIN:VEVENT
DTSTART;VALUE=DATE:20220204
DTEND;VALUE=DATE:20220205
DTSTAMP:20260420T064012
CREATED:20220103T235455Z
LAST-MODIFIED:20220114T213149Z
UID:33670-1643932800-1644019199@hawaiilgbtlegacyfoundation.com
SUMMARY:2022 Nonprofit Business Plan Competition
DESCRIPTION:Chaminade’s Hogan Entrepreneurial Program and American Savings Bank’s Nonprofit Business Plan Competition is held every other year and is open to Hawaii nonprofit organizations seeking to start new ventures that will benefit society. With awards up to $12\,000\, the competition aims to stimulate public interest and support in nonprofit organizations—and encourage excellence and innovation in socially-motivated entrepreneurs. \nFor detailed information about the 2022 Nonprofit Business Plan Competition\, download the entry packet. The entry packet includes eligibility requirements\, entry and review process\, recognition and awards\, evaluation criteria and FAQs\, as well as a sample business plan outline. You’ll also find the Statement of Intent form in the packet—which will need to be submitted by March 8\, 2022. \nAwards\n\n\nFirst Place: $12\,000\nSecond Place: $10\,000\nThird Place: $5\,000\nFourth Place: $3\,000\nRemaining Finalists: $1\,000 each\n\nFor more information\, click here.
URL:https://hawaiilgbtlegacyfoundation.com/events/33670/
LOCATION:Online
ATTACH;FMTTYPE=image/png:https://hawaiilgbtlegacyfoundation.com/wp-content/uploads/2022/01/Chaminade-Hogan-Nonprofit.png
END:VEVENT
BEGIN:VEVENT
DTSTART;TZID=Pacific/Honolulu:20220212T080000
DTEND;TZID=Pacific/Honolulu:20220212T170000
DTSTAMP:20260420T064012
CREATED:20220209T214637Z
LAST-MODIFIED:20220209T215058Z
UID:34128-1644652800-1644685200@hawaiilgbtlegacyfoundation.com
SUMMARY:Us Kids
DESCRIPTION:Hawaii Women In Filmmaking is offering 10 free tickets to a private in-person screening of Us Kids for youth and young adults ages 5-20. To get your ticket\, email: vera@hawaiiwomeninfilmmaking.org. \nFrom Kim A. Snyder\, director of the Peabody Award-winning documentary Newtown\, comes an insightful\, rousing coming-of-age story of a generation of youth leaders determined to take the reigns and fight for justice at a most critical time in our nation’s history. \nSparked by the plague of gun violence ravaging their schools\, Us Kids chronicles the March For Our Lives movement over the course of several years\, following X Gonzalez\, its co-founders\, survivors and a group of teenage activists as they pull off the largest youth protest in American history and set out across the country and globally to build an inclusive and unprecedented youth movement that addresses racial justice\, a growing public health crisis and shocking a political system into change. \nDirector Kim Snyder in attendance.
URL:https://hawaiilgbtlegacyfoundation.com/events/us-kids/
LOCATION:Waiwai Collective\, 1100 University Ave\, Honolulu\, HI\, 96826\, United States
ATTACH;FMTTYPE=image/jpeg:https://hawaiilgbtlegacyfoundation.com/wp-content/uploads/2022/02/Us-KIds-poster.jpg
GEO:21.285968;-157.827389
X-APPLE-STRUCTURED-LOCATION;VALUE=URI;X-ADDRESS=Waiwai Collective 1100 University Ave Honolulu HI 96826 United States;X-APPLE-RADIUS=500;X-TITLE=1100 University Ave:geo:-157.827389,21.285968
END:VEVENT
BEGIN:VEVENT
DTSTART;TZID=America/Los_Angeles:20220213T120000
DTEND;TZID=America/Los_Angeles:20220213T170000
DTSTAMP:20260420T064012
CREATED:20220128T020528Z
LAST-MODIFIED:20220209T234539Z
UID:34023-1644753600-1644771600@hawaiilgbtlegacyfoundation.com
SUMMARY:Hawaii Gay Flag Football League Fundraiser for Gay Bowl XXII
DESCRIPTION:The Gay Bowl is the National Gay Flag Football Leagueʻs annual national tournament\, and in October 2022 Gay Bowl XXII will be played right here in Honolulu at Kapiolani Park! The event draws players and fans from across the US and Canada\, and our very own Hawaii Gay Flag Football League (HIGFFL) is hosting the tournament. You can show your support for HIGFFL by joining them at their Gay Bowl XXII fundraiser at Bacchus Waikiki on Feb. 13. For more information\, click here.
URL:https://hawaiilgbtlegacyfoundation.com/events/hawaii-gay-flag-football-league-fundraiser-for-gay-bowl-xxii/
LOCATION:Bacchus Waikiki\, 408 Lewers Street\, Honolulu\, HI\, United States
ATTACH;FMTTYPE=image/jpeg:https://hawaiilgbtlegacyfoundation.com/wp-content/uploads/2022/01/HIGFFL-Super-Bowl.jpg
GEO:21.278417;-157.831678
X-APPLE-STRUCTURED-LOCATION;VALUE=URI;X-ADDRESS=Bacchus Waikiki 408 Lewers Street Honolulu HI United States;X-APPLE-RADIUS=500;X-TITLE=408 Lewers Street:geo:-157.831678,21.278417
END:VEVENT
BEGIN:VEVENT
DTSTART;VALUE=DATE:20220214
DTEND;VALUE=DATE:20220215
DTSTAMP:20260420T064012
CREATED:20220201T005438Z
LAST-MODIFIED:20220214T202327Z
UID:34103-1644796800-1644883199@hawaiilgbtlegacyfoundation.com
SUMMARY:February 11 - 14: Singing Valentine-grams from Gay Menʻs Chorus of Honolulu
DESCRIPTION:Need an AWESOME Valentine’s gift idea? Choose a Singing Valentine-Gram from the Gay Men’s Chorus of Honolulu! For $10\, you can send a singing Valentine-gram’ to anyone in the United States! Perfect for out-of-town friends and family as well as locals. Your loved one will receive a personalized singing performance over the phone from the Gay Men’s Chorus of Honolulu – LIVE! Theyʻll even repeat ANY sentiments requested – “word-for-word!” \nFor more information\, click here.
URL:https://hawaiilgbtlegacyfoundation.com/events/february-11-14-singing-valentine-grams-from-gay-men%ca%bbs-chorus-of-honolulu/
LOCATION:Online
ATTACH;FMTTYPE=image/jpeg:https://hawaiilgbtlegacyfoundation.com/wp-content/uploads/2022/01/GMCoH-Valenines-2022.jpg
END:VEVENT
BEGIN:VEVENT
DTSTART;VALUE=DATE:20220214
DTEND;VALUE=DATE:20220215
DTSTAMP:20260420T064012
CREATED:20220203T025254Z
LAST-MODIFIED:20220214T202343Z
UID:34113-1644796800-1644883199@hawaiilgbtlegacyfoundation.com
SUMMARY:#LOVEMAKESLIFE @HonoluluPride
DESCRIPTION:Send a message to your Valentine @HonoluluPride. Share some love with the one that means the world to you. \nLove makes life truly awesome\, and although there are many that we hold in our hearts\, thereʻs always that unique someone whoʻs really special. Is it your lover\, your best friend\, your companion animal\, your spouse\, a member of your family? Whoʻs that special someone who takes your life to another level of compassion\, healing\, learning\, joy? \nWeʻve been celebrating on our social media channels the amazing and diverse ways that the LGBTQIA+ community creates and nurtures family. Join in the next phase of our project. Who do you love? Visit @HonoluluPride and @HonoluluPrideFamilies.  \nFor more information\, contact Joshua@hawaiilgbtlegacy.com or Charyl@hawaiilgbtlegacy.com
URL:https://hawaiilgbtlegacyfoundation.com/events/lovemakeslife-honolulupride/
LOCATION:@honolulupride
ATTACH;FMTTYPE=image/png:https://hawaiilgbtlegacyfoundation.com/wp-content/uploads/2022/02/LOVEmakesLIFE-calendar.png
END:VEVENT
BEGIN:VEVENT
DTSTART;VALUE=DATE:20220214
DTEND;VALUE=DATE:20220215
DTSTAMP:20260420T064012
CREATED:20220125T041831Z
LAST-MODIFIED:20220212T212556Z
UID:33985-1644796800-1644883199@hawaiilgbtlegacyfoundation.com
SUMMARY:Share Your Theme Ideas for 2022 Honolulu Pride
DESCRIPTION:The Hawai’i LGBT Legacy Foundation is asking the community to share their ideas for the theme of 2022 Honolulu Pride. If your theme is selected by the Honolulu Pride team\, youʻll receive VIP access to our events during Honolulu Pride in October 2022! Over the past few years themes have included “I Am Pride”\, “Shaka And Shine” and “Celebrate The Rainbow.” Each captured something important about the moment\, our aspirations\, and the way we are building LGBTQIA+ community here in Hawai’i nei. What should this yearʻs theme be? \nCLICK HERE.
URL:https://hawaiilgbtlegacyfoundation.com/events/send-your-theme-ideas-for-2022-honolulu-pride/
LOCATION:HI
ATTACH;FMTTYPE=image/png:https://hawaiilgbtlegacyfoundation.com/wp-content/uploads/2022/01/Your-PRIDE-theme-IDEAS-bitly-REV.png
END:VEVENT
BEGIN:VEVENT
DTSTART;VALUE=DATE:20220217
DTEND;VALUE=DATE:20220218
DTSTAMP:20260420T064012
CREATED:20220120T192757Z
LAST-MODIFIED:20220217T012217Z
UID:33839-1645056000-1645142399@hawaiilgbtlegacyfoundation.com
SUMMARY:February 17 - 27: Social Awareness Film Festival 2022
DESCRIPTION:Each year\, Anaina Hou’s Social Awareness Film Festival features a theme that focuses on the opportunity to enlighten and create understanding on a broad range of topics that speak to the challenges and beauty of being a human being on this amazing planet; things like agriculture\, the environment and climate change\, art & culture\, socio-economic issues\, LGBTQIA+ issues\, geopolitical issues\, revolutionary changes\, race\, religion and immigration. The theme for this year’s SAFF is Voices. \nIn the tradition of SAFF\, each evening will feature a talk story discussion with the director or someone from the film. Various live stream features allow for different ways to be involved with the director discussion. Select films will feature a private link to watch the film at any time on the day it screens. Attendees can choose just to watch the film or to listen in or participate in the audience Q&A. \nThis year’s attendance packages have expanded to include accommodations at nearby resort The Cliffs at Princeville. \nFor more information\, click here.
URL:https://hawaiilgbtlegacyfoundation.com/events/february-17-27-social-awareness-film-festival-2022-voices/
LOCATION:Porter Pavilion\, 5-2723 Kuhio Highway\, Kilauea\, 96754\, United States
ATTACH;FMTTYPE=image/jpeg:https://hawaiilgbtlegacyfoundation.com/wp-content/uploads/2022/01/Social-Awareness-Film-Festival.jpg
END:VEVENT
BEGIN:VEVENT
DTSTART;VALUE=DATE:20220219
DTEND;VALUE=DATE:20220220
DTSTAMP:20260420T064012
CREATED:20220204T233144Z
LAST-MODIFIED:20220217T011808Z
UID:34124-1645228800-1645315199@hawaiilgbtlegacyfoundation.com
SUMMARY:Research Roundup from Out Leadership
DESCRIPTION:This month’s edition of Research Roundup focuses on the reality of workplace discrimination for LGBTQ+ individuals and how that impacts LGBTQ+ and Ally talent retention. It also explores the profound impact of compounded intersectional identities on an individual’s workplace experience. Out Leadership created the Research Roundup as a resource to support member companies in their work\, and they are making the first edition available to a broader community of subscribers. You can read the newsletter here\, and learn more about Out Leadership here.
URL:https://hawaiilgbtlegacyfoundation.com/events/research-roundup-from-out-leadership/
LOCATION:Online
ATTACH;FMTTYPE=image/png:https://hawaiilgbtlegacyfoundation.com/wp-content/uploads/2022/02/OUT-Leadership-Research-Roundup.png
END:VEVENT
BEGIN:VEVENT
DTSTART;TZID=Pacific/Honolulu:20220219T100000
DTEND;TZID=Pacific/Honolulu:20220219T130000
DTSTAMP:20260420T064012
CREATED:20220217T194730Z
LAST-MODIFIED:20220217T210338Z
UID:34228-1645264800-1645275600@hawaiilgbtlegacyfoundation.com
SUMMARY:Walking on Eggshells: Work-in-Progress Showing and Workshop
DESCRIPTION:As part of the development of their new production Walking On Eggshells\, the artists are engaging the Hawai‘i community in a series of free work-in-progress showings and workshops. \nThis event at The ARTS at Marks Garage\, exploring gender / sexualism / immigration of the body\, will be facilitated by Sami L.A. Akuna aka Cocoa Chandelier with the goal of inviting dialogue that fosters mutual respect for the diverse beliefs and values of all persons and groups. A light lunch will be provided and attendees are encouraged to stay and eat with the performers afterwards and share their thoughts about the workshop. This event will be videotaped for archive work and research. \nPart of a series of Works in Progress Showings and Workshops in partnership with The ARTS at Marks Garage\, Sisters Empowering Hawai‘i\, Hawai‘i Health and Harm Reduction Center\, the University of Hawai‘i Dance program\, and the University of Hawai‘i LGBTQ+ Center. \nWalking On Eggshells\, premiering March 4 at The ARTS at Marks Garage\, will feature new performance works including\, Walking Through Walls by Sami L.A. Akuna\, Never Justify Your Truth: Black Females\, Navigating in Constructed White Female Spaces by Sequoia Carr-Brown and Equilibrium by Kara Jhalak Miller. \nLearn more and register here.
URL:https://hawaiilgbtlegacyfoundation.com/events/walking-on-eggshells-works-in-progress-and-workshop/
LOCATION:Arts At Marks Garage\, 1159 Nuuanu Ave\, Honolulu\, HI\, 96817\, United States
ATTACH;FMTTYPE=image/jpeg:https://hawaiilgbtlegacyfoundation.com/wp-content/uploads/2022/02/Walking-on-Eggshells-Workshop-calendar.jpg
GEO:21.313389;-157.858773
X-APPLE-STRUCTURED-LOCATION;VALUE=URI;X-ADDRESS=Arts At Marks Garage 1159 Nuuanu Ave Honolulu HI 96817 United States;X-APPLE-RADIUS=500;X-TITLE=1159 Nuuanu Ave:geo:-157.858773,21.313389
END:VEVENT
BEGIN:VEVENT
DTSTART;VALUE=DATE:20220220
DTEND;VALUE=DATE:20220221
DTSTAMP:20260420T064012
CREATED:20210915T000513Z
LAST-MODIFIED:20220220T202704Z
UID:32467-1645315200-1645401599@hawaiilgbtlegacyfoundation.com
SUMMARY:February 18 - 20: 2022 Aloha Classic
DESCRIPTION:The Hawaii Gay Flag Football League is thrilled to host the 6th Annual 2022 Aloha Classic Pickup Flag Football Tournament bringing together players of all skill levels from Hawaii and the mainland for a weekend of sport\, camaraderie and fun! \nPresident’s Day Weekend: February 18-20\, 2022. \nInfo: thealohaclassic.com
URL:https://hawaiilgbtlegacyfoundation.com/events/2022-aloha-classic/
LOCATION:HI
ATTACH;FMTTYPE=image/jpeg:https://hawaiilgbtlegacyfoundation.com/wp-content/uploads/2021/09/Hawaii-Gay-Flag-Football-League-Aloha-Classic-2022.jpg
END:VEVENT
BEGIN:VEVENT
DTSTART;TZID=Pacific/Honolulu:20220220T140000
DTEND;TZID=Pacific/Honolulu:20220220T150000
DTSTAMP:20260420T064012
CREATED:20220130T033145Z
LAST-MODIFIED:20220215T235619Z
UID:34074-1645365600-1645369200@hawaiilgbtlegacyfoundation.com
SUMMARY:The Bible + LGBTQ = Inclusive Christianity
DESCRIPTION:Are you interested in what the Bible really says in regards to LGBTQ people\, and why our churches should welcome all? Two free webinars will explore the extension of extravagant welcome to LGBTQ persons in our Christian churches. \nIn the first webinar\, on February 20\, presenters Ellen Godbey Carson\, Chaplain MacArthur Flournoy & Kahu David Baumgart Turner will explore the Bible’s extravagant welcome and God’s love for all\, via historical and cultural analysis\, sharing major Biblical themes of hospitality and inclusivity\, and enlightened understanding of the few verses mis-used to stigmatize LGBTQ persons. \nHosted by the Church of the Crossroads (Honolulu) and the “All are Welcome at the Table” task-force of the Justice and Witness Missional Team of the Hawaii Conference United Church of Christ. \nRegister here.  \nFor more information\, email ONAHawaii808@gmail.com
URL:https://hawaiilgbtlegacyfoundation.com/events/the-bible-lgbtq-inclusive-christianity/
LOCATION:Online
ATTACH;FMTTYPE=image/png:https://hawaiilgbtlegacyfoundation.com/wp-content/uploads/2022/01/Exploring-LGBT-Inclusion-1rev.png
END:VEVENT
BEGIN:VEVENT
DTSTART;TZID=Pacific/Honolulu:20220223T173000
DTEND;TZID=Pacific/Honolulu:20220223T173000
DTSTAMP:20260420T064012
CREATED:20220128T215144Z
LAST-MODIFIED:20220128T221716Z
UID:34034-1645637400-1645637400@hawaiilgbtlegacyfoundation.com
SUMMARY:Virtual Town Hall with Sen. Moriwaki and Reps. Saiki\, Belatti and Nishimoto
DESCRIPTION:Join Rep. Scott K. Saiki\, Sen. Sharon Moriwaki\, Rep. Della Au Belatti and Rep. Scott Nishimoto for their Annual Town Hall event on February 23\, 2022 at 5:30 p.m. This annual legislative town hall ensures that constituents in House Districts 21\, 24 and 26\, and Senate District 12  (these districts include Waikiki\, Ala Moana\, Kakaʻako\, Kapahulu\, McCully\, Moʻiliʻili\, Kaheka\, Downtown\, Makiki\, Tantalus\, Papakolea\, Pawaa and Manoa) can hear about the issues that matter most to them\, including community issues and COVID-19 updates. In consideration of social distancing\, this year’s town hall will occur virtually via Zoom. \nTo register\, click here.
URL:https://hawaiilgbtlegacyfoundation.com/events/34034/
LOCATION:Online
ATTACH;FMTTYPE=image/png:https://hawaiilgbtlegacyfoundation.com/wp-content/uploads/2022/01/Town-Hall-Nishimoto-Au-Belatti-Saiki.png
END:VEVENT
BEGIN:VEVENT
DTSTART;TZID=Pacific/Honolulu:20220224T120000
DTEND;TZID=Pacific/Honolulu:20220224T130000
DTSTAMP:20260420T064012
CREATED:20220125T204305Z
LAST-MODIFIED:20220125T213213Z
UID:33987-1645704000-1645707600@hawaiilgbtlegacyfoundation.com
SUMMARY:SGM Talk Story with Sen. Brian Schatz
DESCRIPTION:Sen. Brian Schatz will hold a Talk Story with members of the Hawai’i Sexual and Gender Minorities Group (SGM) focusing on issues related to the health and well-being of the LGBTQIA+ community\, and youʻre invited!  Registration is required  to join the conversation\, and youʻll have the option to ask Sen. Schatz questions and make comments related to SGM Health issues that you think should be brought to his attention. \nTo join\, please complete this short survey. \nIf you have questions\, please contact members of the SGM team Thaddeus Pham\, Maddalynn Sesepasara or Ikaika Regidor.
URL:https://hawaiilgbtlegacyfoundation.com/events/talk-story-with-sen-brian-schatz/
LOCATION:Online
ATTACH;FMTTYPE=image/png:https://hawaiilgbtlegacyfoundation.com/wp-content/uploads/2022/01/Brian-Schatz-SGM-Talk-Story.png
END:VEVENT
BEGIN:VEVENT
DTSTART;VALUE=DATE:20220226
DTEND;VALUE=DATE:20220227
DTSTAMP:20260420T064012
CREATED:20220223T204751Z
LAST-MODIFIED:20220226T204632Z
UID:34299-1645833600-1645919999@hawaiilgbtlegacyfoundation.com
SUMMARY:February 25 - 26: Black Voices Matter
DESCRIPTION:Manoa Valley Theatre and Volcanic Voices presents the 3rd Annual Black Voices Matter showcase featuring America’s Got Talent winner Brandon Leake. Celebrate Black History Month and amplify Black voices with a 2-day showcase full of exhilarating and heartfelt spoken word poetry\, music and stand up comedy. \nFeaturing Spoken Word Poetry legend Marc Marcel\, HI Grand Slam Champion Z From Baltimore\, viral sensation Poetic Prophecy\, and everyone’s favorite host and poet Temple Divine. Plus comedians Pepper Lamb and Long Lox bringing the laughs\, and hip hop phenomenon Astreaux Guillotine bringing the music vibes. \nA night of inspiration\, introspection\, laughs\, goosebumps\, and lots of fun\, with special VIP tickets available for meet and greets with the artists. \nFor more information and to purchase tickets\, click here.
URL:https://hawaiilgbtlegacyfoundation.com/events/february-25-26-black-voices-matter/
LOCATION:Manoa Valley Theatre\, 2833 E Manoa Rd\, Honolulu\, 96822\, United States
ATTACH;FMTTYPE=image/png:https://hawaiilgbtlegacyfoundation.com/wp-content/uploads/2022/02/Black-Voices-Matter.png
END:VEVENT
BEGIN:VEVENT
DTSTART;VALUE=DATE:20220226
DTEND;VALUE=DATE:20220227
DTSTAMP:20260420T064012
CREATED:20220215T214247Z
LAST-MODIFIED:20220216T214728Z
UID:34171-1645833600-1645919999@hawaiilgbtlegacyfoundation.com
SUMMARY:Cosmic Masque: Black Futures Ball 2022
DESCRIPTION:From the Pōpolo Project: “At the end of Black History Month\, we return to celebrate future-forward folks whose work here in Hawai’i highlights the beauty and creativity of our Black community. Together\, we honor a group of dynamic individuals who are invested in preparing a just and healthy world for those yet to come\, rooted in love and respect for this ‘āina & its people. Join us for an evening of ‘ono food\, music\, art\, and avant-garde African diaspora culture that’s always right on time.” \nPurchase your tickets to the Black Futures Ball here. \nThe Pōpolo Project is a Hawai‘i-based nonprofit organization that redefines what it means to be Black in Hawai‘i and in the world through cultivating radical reconnection to ourselves\, our community\, our ancestors\, and the land\, changing what we commonly think of as Local and highlighting the vivid\, complex diversity of Blackness.
URL:https://hawaiilgbtlegacyfoundation.com/events/cosmic-masque-black-futures-ball-2020/
LOCATION:Hawaii State Art Museum\, 250 South Hotel St\, Honolulu\, HI\, 96813\, United States
ATTACH;FMTTYPE=image/png:https://hawaiilgbtlegacyfoundation.com/wp-content/uploads/2022/02/Popolo-Project-Black-Futures-Ball.png
GEO:21.311045;-157.862038
X-APPLE-STRUCTURED-LOCATION;VALUE=URI;X-ADDRESS=Hawaii State Art Museum 250 South Hotel St Honolulu HI 96813 United States;X-APPLE-RADIUS=500;X-TITLE=250 South Hotel St:geo:-157.862038,21.311045
END:VEVENT
BEGIN:VEVENT
DTSTART;VALUE=DATE:20220228
DTEND;VALUE=DATE:20220301
DTSTAMP:20260420T064012
CREATED:20220202T193954Z
LAST-MODIFIED:20220225T213035Z
UID:34108-1646006400-1646092799@hawaiilgbtlegacyfoundation.com
SUMMARY:Human Rights Campaign Foundation Corporate Equality Index 2022
DESCRIPTION:This year marks the Human Rights Campaign Foundation’s (HRCF) 20th edition of the Corporate Equality Index (CEI)\, the premier survey benchmarking tool on how corporations across the United States and beyond are adopting equitable workplace policies\, practices and benefits for LGBTQ+ employees. The inaugural edition of the CEI included 319 participants\, with 13 companies achieving top scores. The 20th-anniversary edition of the CEI now includes over 1\,200 participants and more than 800 top scorers. By using the CEI criteria as a guide\, businesses can help ensure that their existing policy and benefits infrastructure is inclusive of LGBTQ+ workers and their families. \nRead the 2022 Corporate Equality Index here.
URL:https://hawaiilgbtlegacyfoundation.com/events/human-rights-campaign-foundation-corporate-equality-index-2022/
LOCATION:Online
ATTACH;FMTTYPE=image/png:https://hawaiilgbtlegacyfoundation.com/wp-content/uploads/2022/02/HRC-2022-Corporate-Equality-Index.png
END:VEVENT
END:VCALENDAR